{"text_format":"1","workbook":"xlsx","n_sheets":29,"sheets":["Лист2","Лист3","Лист4","Inf","Titul","GSK","Pril_1","Pril_3","Re","M-II","M-I","A","B","C","D","E","V","Mat_A","AB","ABC","4_mat","5_mat","A-B","Ra","Win","Atl1","Atl2","Atl3","Atl4"],"not_rendered":{"charts":0,"images":9,"macros":1,"external_links":1,"defined_names":85,"comments":0,"pivot_tables":0},"unopened":[],"bounds":{"document_bytes":16777216,"sheet_cells":100000,"rows_first":2000,"rows_last":500,"rows_between":2000,"halvings":0,"cell_chars":16384,"cell_head_chars":4096},"cells_cut":0,"cells_raw":0,"read":"whole","date_system":"1900"}

{"sheet":"Лист2","index":0,"n_rows":23,"n_cols":27,"rows_kept":23,"cut":false,"hidden":true,"merged":[]}
[]
[null,"Вес",null,{"$f":"Ra!D2","v":55},{"$f":"Ra!E2","v":60},{"$f":"Ra!F2","v":63},{"$f":"Ra!G2","v":67},{"$f":"Ra!H2","v":72},{"$f":"Ra!I2","v":77},{"$f":"Ra!J2","v":82},{"$f":"Ra!K2","v":87},{"$f":"Ra!L2","v":97},{"$f":"Ra!M2","v":130},{"$f":"Ra!N2","v":0},{"$f":"Ra!O2","v":0},{"$f":"Ra!P2","v":0},{"$f":"Ra!Q2","v":0},{"$f":"Ra!R2","v":0},{"$f":"Ra!S2","v":0},null,"Всего",null,"Время 1 пары (мин)",null,"2 ковра",null,"3 ковра"]
[]
[null,"Кол-во участн.",null,{"$f":"Ra!D4","v":6},{"$f":"Ra!E4","v":7},{"$f":"Ra!F4","v":9},{"$f":"Ra!G4","v":9},{"$f":"Ra!H4","v":17},{"$f":"Ra!I4","v":11},{"$f":"Ra!J4","v":17},{"$f":"Ra!K4","v":11},{"$f":"Ra!L4","v":12},{"$f":"Ra!M4","v":10},{"$f":"Ra!N4","v":0},{"$f":"Ra!O4","v":0},{"$f":"Ra!P4","v":0},{"$f":"Ra!Q4","v":0},{"$f":"Ra!R4","v":0},{"$f":"Ra!S4","v":0},null,{"$f":"SUM(D4:T4)","v":109},null,5]
[]
[null,"Квал.",null,{"$f":"INDEX(Лист3!B3:P130,MATCH(Лист2!D4,Лист3!B3:B130,0),4)","v":0},{"$f":"INDEX(Лист3!B3:P130,MATCH(Лист2!E4,Лист3!B3:B130,0),4)","v":0},{"$f":"INDEX(Лист3!B3:P130,MATCH(Лист2!F4,Лист3!B3:B130,0),4)","v":0},{"$f":"INDEX(Лист3!B3:P130,MATCH(Лист2!G4,Лист3!B3:B130,0),4)","v":0},{"$f":"INDEX(Лист3!B3:P130,MATCH(Лист2!H4,Лист3!B3:B130,0),4)","v":0},{"$f":"INDEX(Лист3!B3:P130,MATCH(Лист2!I4,Лист3!B3:B130,0),4)","v":0},{"$f":"INDEX(Лист3!B3:P130,MATCH(Лист2!J4,Лист3!B3:B130,0),4)","v":0},{"$f":"INDEX(Лист3!B3:P130,MATCH(Лист2!K4,Лист3!B3:B130,0),4)","v":0},{"$f":"INDEX(Лист3!B3:P130,MATCH(Лист2!L4,Лист3!B3:B130,0),4)","v":0},{"$f":"INDEX(Лист3!B3:P130,MATCH(Лист2!M4,Лист3!B3:B130,0),4)","v":0},{"$f":"INDEX(Лист3!B3:P130,MATCH(Лист2!N4,Лист3!B3:B130,0),4)","v":{"$error":"#N/A"}},{"$f":"INDEX(Лист3!$B$3:$P$130,MATCH(Лист2!O4,Лист3!$B$3:$B$130,0),4)","v":{"$error":"#N/A"}},{"$f":"INDEX(Лист3!$B$3:$P$130,MATCH(Лист2!P4,Лист3!$B$3:$B$130,0),4)","v":{"$error":"#N/A"}},{"$f":"INDEX(Лист3!$B$3:$P$130,MATCH(Лист2!Q4,Лист3!$B$3:$B$130,0),4)","v":{"$error":"#N/A"}},{"$f":"INDEX(Лист3!$B$3:$P$130,MATCH(Лист2!R4,Лист3!$B$3:$B$130,0),4)","v":{"$error":"#N/A"}},{"$f":"INDEX(Лист3!$B$3:$P$130,MATCH(Лист2!S4,Лист3!$B$3:$B$130,0),4)","v":{"$error":"#N/A"}},null,{"$f":"SUM(D6:S6)","v":{"$error":"#N/A"}},null,{"$f":"U6*W4/60","v":{"$error":"#N/A"}},null,{"$f":"W6/2","v":{"$error":"#N/A"}},null,{"$f":"W6/3","v":{"$error":"#N/A"}}]
[null,"1\\32",null,{"$f":"INDEX(Лист3!B3:P130,MATCH(Лист2!D4,Лист3!B3:B130,0),5)","v":2},{"$f":"INDEX(Лист3!B3:P130,MATCH(Лист2!E4,Лист3!B3:B130,0),5)","v":3},{"$f":"INDEX(Лист3!B3:P130,MATCH(Лист2!F4,Лист3!B3:B130,0),5)","v":1},{"$f":"INDEX(Лист3!B3:P130,MATCH(Лист2!G4,Лист3!B3:B130,0),5)","v":1},{"$f":"INDEX(Лист3!B3:P130,MATCH(Лист2!H4,Лист3!B3:B130,0),5)","v":1},{"$f":"INDEX(Лист3!B3:P130,MATCH(Лист2!I4,Лист3!B3:B130,0),5)","v":3},{"$f":"INDEX(Лист3!B3:P130,MATCH(Лист2!J4,Лист3!B3:B130,0),5)","v":1},{"$f":"INDEX(Лист3!B3:P130,MATCH(Лист2!K4,Лист3!B3:B130,0),5)","v":3},{"$f":"INDEX(Лист3!B3:P130,MATCH(Лист2!L4,Лист3!B3:B130,0),5)","v":4},{"$f":"INDEX(Лист3!B3:P130,MATCH(Лист2!M4,Лист3!B3:B130,0),5)","v":2},{"$f":"INDEX(Лист3!B3:P130,MATCH(Лист2!N4,Лист3!B3:B130,0),5)","v":{"$error":"#N/A"}},{"$f":"INDEX(Лист3!$B$3:$P$130,MATCH(Лист2!O4,Лист3!$B$3:$B$130,0),5)","v":{"$error":"#N/A"}},{"$f":"INDEX(Лист3!$B$3:$P$130,MATCH(Лист2!P4,Лист3!$B$3:$B$130,0),5)","v":{"$error":"#N/A"}},{"$f":"INDEX(Лист3!$B$3:$P$130,MATCH(Лист2!Q4,Лист3!$B$3:$B$130,0),5)","v":{"$error":"#N/A"}},{"$f":"INDEX(Лист3!$B$3:$P$130,MATCH(Лист2!R4,Лист3!$B$3:$B$130,0),5)","v":{"$error":"#N/A"}},{"$f":"INDEX(Лист3!$B$3:$P$130,MATCH(Лист2!S4,Лист3!$B$3:$B$130,0),5)","v":{"$error":"#N/A"}},null,{"$f":"SUM(D7:S7)","v":{"$error":"#N/A"}}]
[null,"1\\16",null,{"$f":"INDEX(Лист3!B3:P130,MATCH(Лист2!D4,Лист3!B3:B130,0),6)","v":2},{"$f":"INDEX(Лист3!B3:P130,MATCH(Лист2!E4,Лист3!B3:B130,0),6)","v":3},{"$f":"INDEX(Лист3!B3:P130,MATCH(Лист2!F4,Лист3!B3:B130,0),6)","v":0},{"$f":"INDEX(Лист3!B3:P130,MATCH(Лист2!G4,Лист3!B3:B130,0),6)","v":0},{"$f":"INDEX(Лист3!B3:P130,MATCH(Лист2!H4,Лист3!B3:B130,0),6)","v":0},{"$f":"INDEX(Лист3!B3:P130,MATCH(Лист2!I4,Лист3!B3:B130,0),6)","v":0},{"$f":"INDEX(Лист3!B3:P130,MATCH(Лист2!J4,Лист3!B3:B130,0),6)","v":0},{"$f":"INDEX(Лист3!B3:P130,MATCH(Лист2!K4,Лист3!B3:B130,0),6)","v":0},{"$f":"INDEX(Лист3!B3:P130,MATCH(Лист2!L4,Лист3!B3:B130,0),6)","v":0},{"$f":"INDEX(Лист3!B3:P130,MATCH(Лист2!M4,Лист3!B3:B130,0),6)","v":0},{"$f":"INDEX(Лист3!B3:P130,MATCH(Лист2!N4,Лист3!B3:B130,0),6)","v":{"$error":"#N/A"}},{"$f":"INDEX(Лист3!$B$3:$P$130,MATCH(Лист2!O4,Лист3!$B$3:$B$130,0),6)","v":{"$error":"#N/A"}},{"$f":"INDEX(Лист3!$B$3:$P$130,MATCH(Лист2!P4,Лист3!$B$3:$B$130,0),6)","v":{"$error":"#N/A"}},{"$f":"INDEX(Лист3!$B$3:$P$130,MATCH(Лист2!Q4,Лист3!$B$3:$B$130,0),6)","v":{"$error":"#N/A"}},{"$f":"INDEX(Лист3!$B$3:$P$130,MATCH(Лист2!R4,Лист3!$B$3:$B$130,0),6)","v":{"$error":"#N/A"}},{"$f":"INDEX(Лист3!$B$3:$P$130,MATCH(Лист2!S4,Лист3!$B$3:$B$130,0),6)","v":{"$error":"#N/A"}},null,{"$f":"SUM(D8:S8)","v":{"$error":"#N/A"}},null,{"$f":"U8*W4/60","v":{"$error":"#N/A"}},null,{"$f":"W8/2","v":{"$error":"#N/A"}},null,{"$f":"W8/3","v":{"$error":"#N/A"}}]
[null,"1\\8",null,{"$f":"INDEX(Лист3!B3:P130,MATCH(Лист2!D4,Лист3!B3:B130,0),7)","v":2},{"$f":"INDEX(Лист3!B3:P130,MATCH(Лист2!E4,Лист3!B3:B130,0),7)","v":3},{"$f":"INDEX(Лист3!B3:P130,MATCH(Лист2!F4,Лист3!B3:B130,0),7)","v":0},{"$f":"INDEX(Лист3!B3:P130,MATCH(Лист2!G4,Лист3!B3:B130,0),7)","v":0},{"$f":"INDEX(Лист3!B3:P130,MATCH(Лист2!H4,Лист3!B3:B130,0),7)","v":8},{"$f":"INDEX(Лист3!B3:P130,MATCH(Лист2!I4,Лист3!B3:B130,0),7)","v":0},{"$f":"INDEX(Лист3!B3:P130,MATCH(Лист2!J4,Лист3!B3:B130,0),7)","v":8},{"$f":"INDEX(Лист3!B3:P130,MATCH(Лист2!K4,Лист3!B3:B130,0),7)","v":0},{"$f":"INDEX(Лист3!B3:P130,MATCH(Лист2!L4,Лист3!B3:B130,0),7)","v":0},{"$f":"INDEX(Лист3!B3:P130,MATCH(Лист2!M4,Лист3!B3:B130,0),7)","v":0},{"$f":"INDEX(Лист3!B3:P130,MATCH(Лист2!N4,Лист3!B3:B130,0),7)","v":{"$error":"#N/A"}},{"$f":"INDEX(Лист3!$B$3:$P$130,MATCH(Лист2!O4,Лист3!$B$3:$B$130,0),7)","v":{"$error":"#N/A"}},{"$f":"INDEX(Лист3!$B$3:$P$130,MATCH(Лист2!P4,Лист3!$B$3:$B$130,0),7)","v":{"$error":"#N/A"}},{"$f":"INDEX(Лист3!$B$3:$P$130,MATCH(Лист2!Q4,Лист3!$B$3:$B$130,0),7)","v":{"$error":"#N/A"}},{"$f":"INDEX(Лист3!$B$3:$P$130,MATCH(Лист2!R4,Лист3!$B$3:$B$130,0),7)","v":{"$error":"#N/A"}},{"$f":"INDEX(Лист3!$B$3:$P$130,MATCH(Лист2!S4,Лист3!$B$3:$B$130,0),7)","v":{"$error":"#N/A"}},null,{"$error":"#N/A"},null,{"$f":"U9*W4/60","v":{"$error":"#N/A"}},null,{"$error":"#N/A"},null,{"$error":"#N/A"}]
[null,"1\\4",null,{"$f":"INDEX(Лист3!B3:P130,MATCH(Лист2!D4,Лист3!B3:B130,0),8)","v":0},{"$f":"INDEX(Лист3!B3:P130,MATCH(Лист2!E4,Лист3!B3:B130,0),8)","v":0},{"$f":"INDEX(Лист3!B3:P130,MATCH(Лист2!F4,Лист3!B3:B130,0),8)","v":4},{"$f":"INDEX(Лист3!B3:P130,MATCH(Лист2!G4,Лист3!B3:B130,0),8)","v":4},{"$f":"INDEX(Лист3!B3:P130,MATCH(Лист2!H4,Лист3!B3:B130,0),8)","v":4},{"$f":"INDEX(Лист3!B3:P130,MATCH(Лист2!I4,Лист3!B3:B130,0),8)","v":4},{"$f":"INDEX(Лист3!B3:P130,MATCH(Лист2!J4,Лист3!B3:B130,0),8)","v":4},{"$f":"INDEX(Лист3!B3:P130,MATCH(Лист2!K4,Лист3!B3:B130,0),8)","v":4},{"$f":"INDEX(Лист3!B3:P130,MATCH(Лист2!L4,Лист3!B3:B130,0),8)","v":4},{"$f":"INDEX(Лист3!B3:P130,MATCH(Лист2!M4,Лист3!B3:B130,0),8)","v":4},{"$f":"INDEX(Лист3!B3:P130,MATCH(Лист2!N4,Лист3!B3:B130,0),8)","v":{"$error":"#N/A"}},{"$f":"INDEX(Лист3!$B$3:$P$130,MATCH(Лист2!O4,Лист3!$B$3:$B$130,0),8)","v":{"$error":"#N/A"}},{"$f":"INDEX(Лист3!$B$3:$P$130,MATCH(Лист2!P4,Лист3!$B$3:$B$130,0),8)","v":{"$error":"#N/A"}},{"$f":"INDEX(Лист3!$B$3:$P$130,MATCH(Лист2!Q4,Лист3!$B$3:$B$130,0),8)","v":{"$error":"#N/A"}},{"$f":"INDEX(Лист3!$B$3:$P$130,MATCH(Лист2!R4,Лист3!$B$3:$B$130,0),8)","v":{"$error":"#N/A"}},{"$f":"INDEX(Лист3!$B$3:$P$130,MATCH(Лист2!S4,Лист3!$B$3:$B$130,0),8)","v":{"$error":"#N/A"}},null,{"$error":"#N/A"},null,{"$f":"U10*W4/60","v":{"$error":"#N/A"}},null,{"$error":"#N/A"},null,{"$error":"#N/A"}]
[null,"1\\2",null,{"$f":"INDEX(Лист3!B3:P130,MATCH(Лист2!D4,Лист3!B3:B130,0),9)","v":2},{"$f":"INDEX(Лист3!B3:P130,MATCH(Лист2!E4,Лист3!B3:B130,0),9)","v":2},{"$f":"INDEX(Лист3!B3:P130,MATCH(Лист2!F4,Лист3!B3:B130,0),9)","v":2},{"$f":"INDEX(Лист3!B3:P130,MATCH(Лист2!G4,Лист3!B3:B130,0),9)","v":2},{"$f":"INDEX(Лист3!B3:P130,MATCH(Лист2!H4,Лист3!B3:B130,0),9)","v":2},{"$f":"INDEX(Лист3!B3:P130,MATCH(Лист2!I4,Лист3!B3:B130,0),9)","v":2},{"$f":"INDEX(Лист3!B3:P130,MATCH(Лист2!J4,Лист3!B3:B130,0),9)","v":2},{"$f":"INDEX(Лист3!B3:P130,MATCH(Лист2!K4,Лист3!B3:B130,0),9)","v":2},{"$f":"INDEX(Лист3!B3:P130,MATCH(Лист2!L4,Лист3!B3:B130,0),9)","v":2},{"$f":"INDEX(Лист3!B3:P130,MATCH(Лист2!M4,Лист3!B3:B130,0),9)","v":2},{"$f":"INDEX(Лист3!B3:P130,MATCH(Лист2!N4,Лист3!B3:B130,0),9)","v":{"$error":"#N/A"}},{"$f":"INDEX(Лист3!$B$3:$P$130,MATCH(Лист2!O4,Лист3!$B$3:$B$130,0),9)","v":{"$error":"#N/A"}},{"$f":"INDEX(Лист3!$B$3:$P$130,MATCH(Лист2!P4,Лист3!$B$3:$B$130,0),9)","v":{"$error":"#N/A"}},{"$f":"INDEX(Лист3!$B$3:$P$130,MATCH(Лист2!Q4,Лист3!$B$3:$B$130,0),9)","v":{"$error":"#N/A"}},{"$f":"INDEX(Лист3!$B$3:$P$130,MATCH(Лист2!R4,Лист3!$B$3:$B$130,0),9)","v":{"$error":"#N/A"}},{"$f":"INDEX(Лист3!$B$3:$P$130,MATCH(Лист2!S4,Лист3!$B$3:$B$130,0),9)","v":{"$error":"#N/A"}},null,{"$error":"#N/A"},null,{"$f":"U11*W4/60","v":{"$error":"#N/A"}},null,{"$error":"#N/A"},null,{"$error":"#N/A"}]
[]
[null,"Ут-1",null,{"$f":"INDEX(Лист3!B3:P130,MATCH(Лист2!D4,Лист3!B3:B130,0),10)","v":0},{"$f":"INDEX(Лист3!B3:P130,MATCH(Лист2!E4,Лист3!B3:B130,0),10)","v":" "},{"$f":"INDEX(Лист3!B3:P130,MATCH(Лист2!F4,Лист3!B3:B130,0),10)","v":1},{"$f":"INDEX(Лист3!B3:P130,MATCH(Лист2!G4,Лист3!B3:B130,0),10)","v":1},{"$f":"INDEX(Лист3!B3:P130,MATCH(Лист2!H4,Лист3!B3:B130,0),10)","v":2},{"$f":"INDEX(Лист3!B3:P130,MATCH(Лист2!I4,Лист3!B3:B130,0),10)","v":1},{"$f":"INDEX(Лист3!B3:P130,MATCH(Лист2!J4,Лист3!B3:B130,0),10)","v":2},{"$f":"INDEX(Лист3!B3:P130,MATCH(Лист2!K4,Лист3!B3:B130,0),10)","v":1},{"$f":"INDEX(Лист3!B3:P130,MATCH(Лист2!L4,Лист3!B3:B130,0),10)","v":1},{"$f":"INDEX(Лист3!B3:P130,MATCH(Лист2!M4,Лист3!B3:B130,0),10)","v":1},{"$f":"INDEX(Лист3!B3:P130,MATCH(Лист2!N4,Лист3!B3:B130,0),10)","v":{"$error":"#N/A"}},{"$f":"INDEX(Лист3!$B$3:$P$130,MATCH(Лист2!O4,Лист3!$B$3:$B$130,0),10)","v":{"$error":"#N/A"}},{"$f":"INDEX(Лист3!$B$3:$P$130,MATCH(Лист2!P4,Лист3!$B$3:$B$130,0),10)","v":{"$error":"#N/A"}},{"$f":"INDEX(Лист3!$B$3:$P$130,MATCH(Лист2!Q4,Лист3!$B$3:$B$130,0),10)","v":{"$error":"#N/A"}},{"$f":"INDEX(Лист3!$B$3:$P$130,MATCH(Лист2!R4,Лист3!$B$3:$B$130,0),10)","v":{"$error":"#N/A"}},{"$f":"INDEX(Лист3!$B$3:$P$130,MATCH(Лист2!S4,Лист3!$B$3:$B$130,0),10)","v":{"$error":"#N/A"}},null,{"$error":"#N/A"},null,{"$f":"U13*W4/60","v":{"$error":"#N/A"}},null,{"$error":"#N/A"},null,{"$error":"#N/A"}]
[null,"Ут-2",null,{"$f":"INDEX(Лист3!B3:P130,MATCH(Лист2!D4,Лист3!B3:B130,0),11)","v":0},{"$f":"INDEX(Лист3!B3:P130,MATCH(Лист2!E4,Лист3!B3:B130,0),11)","v":0},{"$f":"INDEX(Лист3!B3:P130,MATCH(Лист2!F4,Лист3!B3:B130,0),11)","v":0},{"$f":"INDEX(Лист3!B3:P130,MATCH(Лист2!G4,Лист3!B3:B130,0),11)","v":0},{"$f":"INDEX(Лист3!B3:P130,MATCH(Лист2!H4,Лист3!B3:B130,0),11)","v":1},{"$f":"INDEX(Лист3!B3:P130,MATCH(Лист2!I4,Лист3!B3:B130,0),11)","v":0},{"$f":"INDEX(Лист3!B3:P130,MATCH(Лист2!J4,Лист3!B3:B130,0),11)","v":1},{"$f":"INDEX(Лист3!B3:P130,MATCH(Лист2!K4,Лист3!B3:B130,0),11)","v":0},{"$f":"INDEX(Лист3!B3:P130,MATCH(Лист2!L4,Лист3!B3:B130,0),11)","v":0},{"$f":"INDEX(Лист3!B3:P130,MATCH(Лист2!M4,Лист3!B3:B130,0),11)","v":0},{"$f":"INDEX(Лист3!B3:P130,MATCH(Лист2!N4,Лист3!B3:B130,0),11)","v":{"$error":"#N/A"}},{"$f":"INDEX(Лист3!$B$3:$P$130,MATCH(Лист2!O4,Лист3!$B$3:$B$130,0),11)","v":{"$error":"#N/A"}},{"$f":"INDEX(Лист3!$B$3:$P$130,MATCH(Лист2!P4,Лист3!$B$3:$B$130,0),11)","v":{"$error":"#N/A"}},{"$f":"INDEX(Лист3!$B$3:$P$130,MATCH(Лист2!Q4,Лист3!$B$3:$B$130,0),11)","v":{"$error":"#N/A"}},{"$f":"INDEX(Лист3!$B$3:$P$130,MATCH(Лист2!R4,Лист3!$B$3:$B$130,0),11)","v":{"$error":"#N/A"}},{"$f":"INDEX(Лист3!$B$3:$P$130,MATCH(Лист2!S4,Лист3!$B$3:$B$130,0),11)","v":{"$error":"#N/A"}},null,{"$f":"SUM(D14:S14)","v":{"$error":"#N/A"}},null,{"$f":"U14*W4/60","v":{"$error":"#N/A"}},null,{"$error":"#N/A"},null,{"$error":"#N/A"}]
[null,"Ут-3",null,{"$f":"INDEX(Лист3!B3:P130,MATCH(Лист2!D4,Лист3!B3:B130,0),12)","v":0},{"$f":"INDEX(Лист3!B3:P130,MATCH(Лист2!E4,Лист3!B3:B130,0),12)","v":0},{"$f":"INDEX(Лист3!B3:P130,MATCH(Лист2!F4,Лист3!B3:B130,0),12)","v":0},{"$f":"INDEX(Лист3!B3:P130,MATCH(Лист2!G4,Лист3!B3:B130,0),12)","v":0},{"$f":"INDEX(Лист3!B3:P130,MATCH(Лист2!H4,Лист3!B3:B130,0),12)","v":0},{"$f":"INDEX(Лист3!B3:P130,MATCH(Лист2!I4,Лист3!B3:B130,0),12)","v":0},{"$f":"INDEX(Лист3!B3:P130,MATCH(Лист2!J4,Лист3!B3:B130,0),12)","v":0},{"$f":"INDEX(Лист3!B3:P130,MATCH(Лист2!K4,Лист3!B3:B130,0),12)","v":0},{"$f":"INDEX(Лист3!B3:P130,MATCH(Лист2!L4,Лист3!B3:B130,0),12)","v":0},{"$f":"INDEX(Лист3!B3:P130,MATCH(Лист2!M4,Лист3!B3:B130,0),12)","v":0},{"$f":"INDEX(Лист3!B3:P130,MATCH(Лист2!N4,Лист3!B3:B130,0),12)","v":{"$error":"#N/A"}},{"$f":"INDEX(Лист3!$B$3:$P$130,MATCH(Лист2!O4,Лист3!$B$3:$B$130,0),12)","v":{"$error":"#N/A"}},{"$f":"INDEX(Лист3!$B$3:$P$130,MATCH(Лист2!P4,Лист3!$B$3:$B$130,0),12)","v":{"$error":"#N/A"}},{"$f":"INDEX(Лист3!$B$3:$P$130,MATCH(Лист2!Q4,Лист3!$B$3:$B$130,0),12)","v":{"$error":"#N/A"}},{"$f":"INDEX(Лист3!$B$3:$P$130,MATCH(Лист2!R4,Лист3!$B$3:$B$130,0),12)","v":{"$error":"#N/A"}},{"$f":"INDEX(Лист3!$B$3:$P$130,MATCH(Лист2!S4,Лист3!$B$3:$B$130,0),12)","v":{"$error":"#N/A"}},null,{"$error":"#N/A"},null,{"$f":"U15*W4/60","v":{"$error":"#N/A"}},null,{"$error":"#N/A"},null,{"$error":"#N/A"}]
[null,"Ут-4",null,{"$f":"INDEX(Лист3!B3:P130,MATCH(Лист2!D4,Лист3!B3:B130,0),13)","v":0},{"$f":"INDEX(Лист3!B3:P130,MATCH(Лист2!E4,Лист3!B3:B130,0),13)","v":0},{"$f":"INDEX(Лист3!B3:P130,MATCH(Лист2!F4,Лист3!B3:B130,0),13)","v":0},{"$f":"INDEX(Лист3!B3:P130,MATCH(Лист2!G4,Лист3!B3:B130,0),13)","v":0},{"$f":"INDEX(Лист3!B3:P130,MATCH(Лист2!H4,Лист3!B3:B130,0),13)","v":0},{"$f":"INDEX(Лист3!B3:P130,MATCH(Лист2!I4,Лист3!B3:B130,0),13)","v":0},{"$f":"INDEX(Лист3!B3:P130,MATCH(Лист2!J4,Лист3!B3:B130,0),13)","v":0},{"$f":"INDEX(Лист3!B3:P130,MATCH(Лист2!K4,Лист3!B3:B130,0),13)","v":0},{"$f":"INDEX(Лист3!B3:P130,MATCH(Лист2!L4,Лист3!B3:B130,0),13)","v":0},{"$f":"INDEX(Лист3!B3:P130,MATCH(Лист2!M4,Лист3!B3:B130,0),13)","v":0},{"$f":"INDEX(Лист3!B3:P130,MATCH(Лист2!N4,Лист3!B3:B130,0),13)","v":{"$error":"#N/A"}},{"$f":"INDEX(Лист3!$B$3:$P$130,MATCH(Лист2!O4,Лист3!$B$3:$B$130,0),13)","v":{"$error":"#N/A"}},{"$f":"INDEX(Лист3!$B$3:$P$130,MATCH(Лист2!P4,Лист3!$B$3:$B$130,0),13)","v":{"$error":"#N/A"}},{"$f":"INDEX(Лист3!$B$3:$P$130,MATCH(Лист2!Q4,Лист3!$B$3:$B$130,0),13)","v":{"$error":"#N/A"}},{"$f":"INDEX(Лист3!$B$3:$P$130,MATCH(Лист2!R4,Лист3!$B$3:$B$130,0),13)","v":{"$error":"#N/A"}},{"$f":"INDEX(Лист3!$B$3:$P$130,MATCH(Лист2!S4,Лист3!$B$3:$B$130,0),13)","v":{"$error":"#N/A"}},null,{"$f":"SUM(D16:S16)","v":{"$error":"#N/A"}}]
[]
[null,"Ф-3",null,{"$f":"INDEX(Лист3!B3:P130,MATCH(Лист2!D4,Лист3!B3:B130,0),14)","v":1},{"$f":"INDEX(Лист3!B3:P130,MATCH(Лист2!E4,Лист3!B3:B130,0),14)","v":1},{"$f":"INDEX(Лист3!B3:P130,MATCH(Лист2!F4,Лист3!B3:B130,0),14)","v":2},{"$f":"INDEX(Лист3!B3:P130,MATCH(Лист2!G4,Лист3!B3:B130,0),14)","v":2},{"$f":"INDEX(Лист3!B3:P130,MATCH(Лист2!H4,Лист3!B3:B130,0),14)","v":2},{"$f":"INDEX(Лист3!B3:P130,MATCH(Лист2!I4,Лист3!B3:B130,0),14)","v":2},{"$f":"INDEX(Лист3!B3:P130,MATCH(Лист2!J4,Лист3!B3:B130,0),14)","v":2},{"$f":"INDEX(Лист3!B3:P130,MATCH(Лист2!K4,Лист3!B3:B130,0),14)","v":2},{"$f":"INDEX(Лист3!B3:P130,MATCH(Лист2!L4,Лист3!B3:B130,0),14)","v":2},{"$f":"INDEX(Лист3!B3:P130,MATCH(Лист2!M4,Лист3!B3:B130,0),14)","v":2},{"$f":"INDEX(Лист3!B3:P130,MATCH(Лист2!N4,Лист3!B3:B130,0),14)","v":{"$error":"#N/A"}},{"$f":"INDEX(Лист3!$B$3:$P$130,MATCH(Лист2!O4,Лист3!$B$3:$B$130,0),14)","v":{"$error":"#N/A"}},{"$f":"INDEX(Лист3!$B$3:$P$130,MATCH(Лист2!P4,Лист3!$B$3:$B$130,0),14)","v":{"$error":"#N/A"}},{"$f":"INDEX(Лист3!$B$3:$P$130,MATCH(Лист2!Q4,Лист3!$B$3:$B$130,0),14)","v":{"$error":"#N/A"}},{"$f":"INDEX(Лист3!$B$3:$P$130,MATCH(Лист2!R4,Лист3!$B$3:$B$130,0),14)","v":{"$error":"#N/A"}},{"$f":"INDEX(Лист3!$B$3:$P$130,MATCH(Лист2!S4,Лист3!$B$3:$B$130,0),14)","v":{"$error":"#N/A"}},null,{"$error":"#N/A"},null,{"$f":"U18*W4/60","v":{"$error":"#N/A"}},null,{"$error":"#N/A"},null,{"$error":"#N/A"}]
[null,"Ф-1",null,{"$f":"INDEX(Лист3!B3:P130,MATCH(Лист2!D4,Лист3!B3:B130,0),15)","v":1},{"$f":"INDEX(Лист3!B3:P130,MATCH(Лист2!E4,Лист3!B3:B130,0),15)","v":1},{"$f":"INDEX(Лист3!B3:P130,MATCH(Лист2!F4,Лист3!B3:B130,0),15)","v":1},{"$f":"INDEX(Лист3!B3:P130,MATCH(Лист2!G4,Лист3!B3:B130,0),15)","v":1},{"$f":"INDEX(Лист3!B3:P130,MATCH(Лист2!H4,Лист3!B3:B130,0),15)","v":1},{"$f":"INDEX(Лист3!B3:P130,MATCH(Лист2!I4,Лист3!B3:B130,0),15)","v":1},{"$f":"INDEX(Лист3!B3:P130,MATCH(Лист2!J4,Лист3!B3:B130,0),15)","v":1},{"$f":"INDEX(Лист3!B3:P130,MATCH(Лист2!K4,Лист3!B3:B130,0),15)","v":1},{"$f":"INDEX(Лист3!B3:P130,MATCH(Лист2!L4,Лист3!B3:B130,0),15)","v":1},{"$f":"INDEX(Лист3!B3:P130,MATCH(Лист2!M4,Лист3!B3:B130,0),15)","v":1},{"$f":"INDEX(Лист3!B3:P130,MATCH(Лист2!N4,Лист3!B3:B130,0),15)","v":{"$error":"#N/A"}},{"$f":"INDEX(Лист3!$B$3:$P$130,MATCH(Лист2!O4,Лист3!$B$3:$B$130,0),15)","v":{"$error":"#N/A"}},{"$f":"INDEX(Лист3!$B$3:$P$130,MATCH(Лист2!P4,Лист3!$B$3:$B$130,0),15)","v":{"$error":"#N/A"}},{"$f":"INDEX(Лист3!$B$3:$P$130,MATCH(Лист2!Q4,Лист3!$B$3:$B$130,0),15)","v":{"$error":"#N/A"}},{"$f":"INDEX(Лист3!$B$3:$P$130,MATCH(Лист2!R4,Лист3!$B$3:$B$130,0),15)","v":{"$error":"#N/A"}},{"$f":"INDEX(Лист3!$B$3:$P$130,MATCH(Лист2!S4,Лист3!$B$3:$B$130,0),15)","v":{"$error":"#N/A"}},null,{"$error":"#N/A"},null,{"$f":"U19*W4/60","v":{"$error":"#N/A"}},null,{"$error":"#N/A"},null,{"$error":"#N/A"}]
[]
[null,"Без финалов",null,{"$f":"SUM(D6:D16)","v":8},{"$f":"SUM(E6:E16)","v":11},{"$f":"SUM(F6:F16)","v":8},{"$f":"SUM(G6:G16)","v":8},18,10,18,10,11,9,{"$error":"#N/A"},{"$error":"#N/A"},{"$error":"#N/A"},{"$error":"#N/A"},{"$error":"#N/A"},{"$error":"#N/A"},null,{"$error":"#N/A"},null,{"$f":"U21*W4/60","v":{"$error":"#N/A"}},null,{"$error":"#N/A"},null,{"$error":"#N/A"}]
[]
[null,"Всего пар",null,{"$f":"D21+D18+D19","v":10},{"$f":"E21+E18+E19","v":13},11,11,21,13,21,13,14,12,{"$error":"#N/A"},{"$error":"#N/A"},{"$error":"#N/A"},{"$error":"#N/A"},{"$error":"#N/A"},{"$error":"#N/A"},null,{"$error":"#N/A"},null,{"$f":"U23*W4/60","v":{"$error":"#N/A"}},null,{"$error":"#N/A"},null,{"$error":"#N/A"}]

{"sheet":"Лист3","index":1,"n_rows":130,"n_cols":16,"rows_kept":130,"cut":false,"hidden":true,"merged":[]}
[]
[null,"Кол-во участн.",null,null,"Квал.","1\\32","1\\16","1\\8","1\\4","1\\2","Ут-1","Ут-2","Ут-3","Ут-4","Ф-3","Ф-1"]
[null,1,null,null,null,0]
[null,2,null,null,null,1]
[null,3,null,null,null,null," ",1,1,1]
[null,4,null,null,null,null," ",2,2,2]
[null,5,null,null,null,2,2,2,null,2,null,null,null,null,null,2]
[null,6,null,null,null,2,2,2,null,2,null,null,null,null,1,1]
[null,7,null,null,null,3,3,3,null,2," ",null,null,null,1,1]
[null,8,null,null,null,null,null,null,4,2," ",null,null,null,2,1]
[null,9,null,null,null,1,null,null,4,2,1,null,null,null,2,1]
[null,10,null,null,null,2,null,null,4,2,1,null,null,null,2,1]
[null,11,null,null,null,3,null,null,4,2,1,null,null,null,2,1]
[null,12,null,null,null,4,null,null,4,2,1,null,null,null,2,1]
[null,13,null,null,null,5,null,null,4,2,2,null,null,null,2,1]
[null,14,null,null,null,6,null,null,4,2,2,null,null,null,2,1]
[null,15,null,null,null,7,null,null,4,2,2,null,null,null,2,1]
[null,16,null,null,null,null,null,8,4,2,2,null,null,null,2,1]
[null,17,null,null,null,1,null,8,4,2,2,1,null,null,2,1]
[null,18,null,null,null,2,null,8,4,2,2,1,null,null,2,1]
[null,19,null,null,null,3,null,8,4,2,2,1,null,null,2,1]
[null,20,null,null,null,4,null,8,4,2,2,1,null,null,2,1]
[null,21,null,null,null,5,null,8,4,2,2,1,null,null,2,1]
[null,22,null,null,null,6,null,8,4,2,2,1,null,null,2,1]
[null,23,null,null,null,7,null,8,4,2,2,1,null,null,2,1]
[null,24,null,null,null,8,null,8,4,2,2,1,null,null,2,1]
[null,25,null,null,null,9,null,8,4,2,2,2,null,null,2,1]
[null,26,null,null,null,10,null,8,4,2,2,2,null,null,2,1]
[null,27,null,null,null,11,null,8,4,2,2,2,null,null,2,1]
[null,28,null,null,null,12,null,8,4,2,2,2,null,null,2,1]
[null,29,null,null,null,13,null,8,4,2,2,2,null,null,2,1]
[null,30,null,null,null,14,null,8,4,2,2,2,null,null,2,1]
[null,31,null,null,null,15,null,8,4,2,2,2,null,null,2,1]
[null,32,null,null,null,null,16,8,4,2,2,2,null,null,2,1]
[null,33,null,null,null,1,16,8,4,2,2,2,1,null,2,1]
[null,34,null,null,null,2,16,8,4,2,2,2,1,null,2,1]
[null,35,null,null,null,3,16,8,4,2,2,2,1,null,2,1]
[null,36,null,null,null,4,16,8,4,2,2,2,1,null,2,1]
[null,37,null,null,null,5,16,8,4,2,2,2,1,null,2,1]
[null,38,null,null,null,6,16,8,4,2,2,2,1,null,2,1]
[null,39,null,null,null,7,16,8,4,2,2,2,1,null,2,1]
[null,40,null,null,null,8,16,8,4,2,2,2,1,null,2,1]
[null,41,null,null,null,9,16,8,4,2,2,2,1,null,2,1]
[null,42,null,null,null,10,16,8,4,2,2,2,1,null,2,1]
[null,43,null,null,null,11,16,8,4,2,2,2,1,null,2,1]
[null,44,null,null,null,12,16,8,4,2,2,2,1,null,2,1]
[null,45,null,null,null,13,16,8,4,2,2,2,1,null,2,1]
[null,46,null,null,null,14,16,8,4,2,2,2,1,null,2,1]
[null,47,null,null,null,15,16,8,4,2,2,2,1,null,2,1]
[null,48,null,null,null,16,16,8,4,2,2,2,1,null,2,1]
[null,49,null,null,null,17,16,8,4,2,2,2,2,null,2,1]
[null,50,null,null,null,18,16,8,4,2,2,2,2,null,2,1]
[null,51,null,null,null,19,16,8,4,2,2,2,2,null,2,1]
[null,52,null,null,null,20,16,8,4,2,2,2,2,null,2,1]
[null,53,null,null,null,21,16,8,4,2,2,2,2,null,2,1]
[null,54,null,null,null,22,16,8,4,2,2,2,2,null,2,1]
[null,55,null,null,null,23,16,8,4,2,2,2,2,null,2,1]
[null,56,null,null,null,24,16,8,4,2,2,2,2,null,2,1]
[null,57,null,null,null,25,16,8,4,2,2,2,2,null,2,1]
[null,58,null,null,null,26,16,8,4,2,2,2,2,null,2,1]
[null,59,null,null,null,27,16,8,4,2,2,2,2,null,2,1]
[null,60,null,null,null,28,16,8,4,2,2,2,2,null,2,1]
[null,61,null,null,null,29,16,8,4,2,2,2,2,null,2,1]
[null,62,null,null,null,30,16,8,4,2,2,2,2,null,2,1]
[null,63,null,null,null,31,16,8,4,2,2,2,2,null,2,1]
[null,64,null,null,null,32,16,8,4,2,2,2,2,null,2,1]
[null,65,null,null,1,32,16,8,4,2,2,2,2,1,2,1]
[null,66,null,null,2,32,16,8,4,2,2,2,2,1,2,1]
[null,67,null,null,3,32,16,8,4,2,2,2,2,1,2,1]
[null,68,null,null,4,32,16,8,4,2,2,2,2,1,2,1]
[null,69,null,null,5,32,16,8,4,2,2,2,2,1,2,1]
[null,70,null,null,6,32,16,8,4,2,2,2,2,1,2,1]
[null,71,null,null,7,32,16,8,4,2,2,2,2,1,2,1]
[null,72,null,null,8,32,16,8,4,2,2,2,2,1,2,1]
[null,73,null,null,9,32,16,8,4,2,2,2,2,1,2,1]
[null,74,null,null,10,32,16,8,4,2,2,2,2,1,2,1]
[null,75,null,null,11,32,16,8,4,2,2,2,2,1,2,1]
[null,76,null,null,12,32,16,8,4,2,2,2,2,1,2,1]
[null,77,null,null,13,32,16,8,4,2,2,2,2,1,2,1]
[null,78,null,null,14,32,16,8,4,2,2,2,2,1,2,1]
[null,79,null,null,15,32,16,8,4,2,2,2,2,1,2,1]
[null,80,null,null,16,32,16,8,4,2,2,2,2,1,2,1]
[null,81,null,null,17,32,16,8,4,2,2,2,2,1,2,1]
[null,82,null,null,18,32,16,8,4,2,2,2,2,1,2,1]
[null,83,null,null,19,32,16,8,4,2,2,2,2,1,2,1]
[null,84,null,null,20,32,16,8,4,2,2,2,2,1,2,1]
[null,85,null,null,21,32,16,8,4,2,2,2,2,1,2,1]
[null,86,null,null,22,32,16,8,4,2,2,2,2,1,2,1]
[null,87,null,null,23,32,16,8,4,2,2,2,2,1,2,1]
[null,88,null,null,24,32,16,8,4,2,2,2,2,1,2,1]
[null,89,null,null,25,32,16,8,4,2,2,2,2,1,2,1]
[null,90,null,null,26,32,16,8,4,2,2,2,2,1,2,1]
[null,91,null,null,27,32,16,8,4,2,2,2,2,1,2,1]
[null,92,null,null,28,32,16,8,4,2,2,2,2,1,2,1]
[null,93,null,null,29,32,16,8,4,2,2,2,2,1,2,1]
[null,94,null,null,30,32,16,8,4,2,2,2,2,1,2,1]
[null,95,null,null,31,32,16,8,4,2,2,2,2,1,2,1]
[null,96,null,null,32,32,16,8,4,2,2,2,2,1,2,1]
[null,97,null,null,33,32,16,8,4,2,2,2,2,2,2,1]
[null,98,null,null,34,32,16,8,4,2,2,2,2,2,2,1]
[null,99,null,null,35,32,16,8,4,2,2,2,2,2,2,1]
[null,100,null,null,36,32,16,8,4,2,2,2,2,2,2,1]
[null,101,null,null,37,32,16,8,4,2,2,2,2,2,2,1]
[null,102,null,null,38,32,16,8,4,2,2,2,2,2,2,1]
[null,103,null,null,39,32,16,8,4,2,2,2,2,2,2,1]
[null,104,null,null,40,32,16,8,4,2,2,2,2,2,2,1]
[null,105,null,null,41,32,16,8,4,2,2,2,2,2,2,1]
[null,106,null,null,42,32,16,8,4,2,2,2,2,2,2,1]
[null,107,null,null,43,32,16,8,4,2,2,2,2,2,2,1]
[null,108,null,null,44,32,16,8,4,2,2,2,2,2,2,1]
[null,109,null,null,45,32,16,8,4,2,2,2,2,2,2,1]
[null,110,null,null,46,32,16,8,4,2,2,2,2,2,2,1]
[null,111,null,null,47,32,16,8,4,2,2,2,2,2,2,1]
[null,112,null,null,48,32,16,8,4,2,2,2,2,2,2,1]
[null,113,null,null,49,32,16,8,4,2,2,2,2,2,2,1]
[null,114,null,null,50,32,16,8,4,2,2,2,2,2,2,1]
[null,115,null,null,51,32,16,8,4,2,2,2,2,2,2,1]
[null,116,null,null,52,32,16,8,4,2,2,2,2,2,2,1]
[null,117,null,null,53,32,16,8,4,2,2,2,2,2,2,1]
[null,118,null,null,54,32,16,8,4,2,2,2,2,2,2,1]
[null,119,null,null,55,32,16,8,4,2,2,2,2,2,2,1]
[null,120,null,null,56,32,16,8,4,2,2,2,2,2,2,1]
[null,121,null,null,57,32,16,8,4,2,2,2,2,2,2,1]
[null,122,null,null,58,32,16,8,4,2,2,2,2,2,2,1]
[null,123,null,null,59,32,16,8,4,2,2,2,2,2,2,1]
[null,124,null,null,60,32,16,8,4,2,2,2,2,2,2,1]
[null,125,null,null,61,32,16,8,4,2,2,2,2,2,2,1]
[null,126,null,null,62,32,16,8,4,2,2,2,2,2,2,1]
[null,127,null,null,63,32,16,8,4,2,2,2,2,2,2,1]
[null,128,null,null,64,32,16,8,4,2,2,2,2,2,2,1]

{"sheet":"Лист4","index":2,"n_rows":58,"n_cols":10,"rows_kept":58,"cut":false,"hidden":true,"merged":[]}
[null,null,"А1","А2","А3","А4","В1","В2","В3","В4"]
[null,8,1,2,3,4,5,6,7,8]
[null,9,1,2,3,4,5,6,7,8]
[null,10,1,2,3,4,5,6,7,9]
[null,11,1,2,3,4,5,6,8,10]
[null,12,1,2,3,4,5,7,9,11]
[null,13,1,2,3,4,6,8,10,12]
[null,14,1,2,3,5,7,9,11,13]
[null,15,1,2,4,6,8,10,12,14]
[null,16,1,3,5,7,9,11,13,15]
[null,17,1,3,5,7,9,11,13,15]
[null,18,1,3,5,7,9,11,13,15]
[null,19,1,3,5,7,9,11,13,16]
[null,20,1,3,5,7,9,11,13,17]
[null,21,1,3,5,7,9,11,14,18]
[null,22,1,3,5,7,9,11,15,19]
[null,23,1,3,5,7,9,12,16,20]
[null,24,1,3,5,7,9,13,17,21]
[null,25,1,3,5,7,10,14,18,22]
[null,26,1,3,5,7,11,15,19,23]
[null,27,1,3,5,8,12,16,20,24]
[null,28,1,3,5,9,13,17,21,25]
[null,29,1,3,6,10,14,18,22,26]
[null,30,1,3,7,11,15,19,23,27]
[null,31,1,4,8,12,16,20,24,28]
[null,32,1,5,9,13,17,21,25,29]
[null,33,1,5,9,13,17,21,25,29]
[null,34,1,5,9,13,17,21,25,29]
[null,35,1,5,9,13,17,21,25,29]
[null,36,1,5,9,13,17,21,25,29]
[null,37,1,5,9,13,17,21,25,30]
[null,38,1,5,9,13,17,21,25,31]
[null,39,1,5,9,13,17,21,25,32]
[null,40,1,5,9,13,17,21,25,33]
[null,41,1,5,9,13,17,21,26,34]
[null,42,1,5,9,13,17,21,27,35]
[null,43,1,5,9,13,17,21,28,36]
[null,44,1,5,9,13,17,21,29,37]
[null,45,1,5,9,13,17,22,30,38]
[null,46,1,5,9,13,17,23,31,39]
[null,47,1,5,9,13,17,24,32,40]
[null,48,1,5,9,13,17,25,33,41]
[null,49,1,5,9,13,18,26,34,42]
[null,50,1,5,9,13,19,27,35,43]
[null,51,1,5,9,13,20,28,36,44]
[null,52,1,5,9,13,21,29,37,45]
[null,53,1,5,9,14,22,30,38,46]
[null,54,1,5,9,15,23,31,39,47]
[null,55,1,5,9,16,24,32,40,48]
[null,56,1,5,9,17,25,33,41,49]
[null,57,1,5,10,18,26,34,42,50]
[null,58,1,5,11,19,27,35,43,51]
[null,59,1,5,12,20,28,36,44,52]
[null,60,1,5,13,21,29,37,45,53]
[null,61,1,6,14,22,30,38,46,54]
[null,62,1,7,15,23,31,39,47,55]
[null,63,1,8,16,24,32,40,48,56]
[null,64,1,9,17,25,33,41,49,57]

{"sheet":"Inf","index":3,"n_rows":12,"n_cols":11,"rows_kept":12,"cut":false,"hidden":true,"merged":[[1,1,1,5],[2,1,2,5],[3,1,3,5],[4,2,5,2],[3,7,3,10],[1,7,2,10]]}
[]
[null,"Федерация спортивной борьбы России"]
[null,"Федерация спортивной борьбы Санкт-Петербурга"]
[null,"ХХХI-Всероссийский турнир по греко-римской борьбе,посвященный памяти ректора Ленинградского финансово-экономического института им.Н.А.Вознесенского /ныне Санкт-Петербургского государственного экономического университета,з.д.н.России Лаврикова Юрия Александровича.",null,null,null,null,null,"Весовые категории "]
[null,"20-22  ноября 2023г","GR",null,null,"Санкт-Петербург",null,1,55,9,97]
[null," ",null,null,null," ",null,2,60,10,130]
[null,"Главный судья соревнований",null,null,null,"АПОЙКО Р.Н.",null,3,63,11,0]
[null,"ССВК-МК",null,null,null,"Санкт-Петербург",null,4,67,12,0]
[null,null,null,null,null,null,null,5,72,13,0]
[null,"Главный секретарь соревнований",null,null,null,"СОКОЛОВ А.В.",null,6,77,14,0]
[null,"ССВК-МК",null,null,null,"Санкт-Петербург",null,7,82,15,0]
[null,null,null,null,null,null,null,8,87,16,0]

{"sheet":"Titul","index":4,"n_rows":29,"n_cols":4,"rows_kept":29,"cut":false,"hidden":false,"merged":[[28,3,28,8],[27,3,27,8],[9,16,10,16],[9,17,10,17],[3,15,3,23],[7,14,7,24],[9,18,10,18],[6,2,11,9],[25,2,26,9],[0,16,0,22],[2,15,2,23],[9,19,10,19],[9,20,10,20],[4,15,4,23]]}
[]
[]
[]
[]
[]
[]
[null,null,{"$f":"Inf!B4","v":"ХХХI-Всероссийский турнир по греко-римской борьбе,посвященный памяти ректора Ленинградского финансово-экономического института им.Н.А.Вознесенского /ныне Санкт-Петербургского государственного экономического университета,з.д.н.России Лаврикова Юрия Александровича."}]
[]
[]
[]
[]
[]
[]
[]
[]
[]
[]
[]
[]
[]
[]
[]
[]
[]
[]
[null,null,"Итоговые материалы"]
[]
[null,null,null,{"$f":"Inf!F5","v":"Санкт-Петербург"}]
[null,null,null,{"$f":"Inf!B5","v":"20-22  ноября 2023г"}]

{"sheet":"GSK","index":5,"n_rows":132,"n_cols":10,"rows_kept":132,"cut":false,"hidden":true,"merged":[[121,1,123,9],[131,2,131,4],[128,7,128,9],[81,3,81,7],[82,3,82,7],[83,3,83,7],[118,2,118,9],[119,2,119,9],[116,2,117,9],[111,2,112,9],[114,2,115,9],[106,2,107,7],[107,8,107,9],[101,2,104,7],[104,8,104,9],[91,2,93,7],[93,8,93,9],[94,2,95,7],[97,2,99,7],[99,8,99,9],[72,8,72,9],[85,2,87,7],[87,8,87,9],[78,3,78,7],[79,3,79,7],[80,3,80,7],[72,2,72,7],[74,3,74,7],[75,3,75,7],[76,3,76,7],[77,3,77,7],[62,2,63,9],[65,2,67,7],[67,8,67,9],[70,8,70,9],[69,2,70,7],[32,3,32,8],[32,9,33,9],[32,2,33,2],[51,2,52,2],[51,3,51,8],[51,9,52,9],[11,4,11,8],[11,2,11,3],[16,2,16,3],[22,3,23,5],[27,2,28,9],[12,4,12,8],[16,6,16,7],[1,3,2,8],[10,4,10,8],[3,1,3,2],[3,3,3,9],[4,3,4,9],[7,4,7,8],[9,4,9,8]]}
[]
[null,null,null,"ОТЧЕТ ГЛАВНОЙ СУДЕЙСКОЙ КОЛЛЕГИИ"]
[]
[null,"О проведении ",null,{"$f":"Inf!B4","v":"ХХХI-Всероссийский турнир по греко-римской борьбе,посвященный памяти ректора Ленинградского финансово-экономического института им.Н.А.Вознесенского /ныне Санкт-Петербургского государственного экономического университета,з.д.н.России Лаврикова Юрия Александровича."}]
[null,null,null,"название соревнований"]
[null,null,"№ в ЕКП"]
[]
[null,"1.","Сроки проведения",null,{"$f":"Inf!B5","v":"20-22  ноября 2023г"}]
[]
[null,"2.","Место проведения",null,{"$f":"Inf!F5","v":"Санкт-Петербург"}]
[null,null,null,null,"(субъект РФ, город)"]
[null,"3.","Наименование спортивного сооружения"]
[null,null,null,null,"(в соответствии с приказом Минспорта России № 283 от 30.03.2015)"]
[null,"4.","Всего участников участников соревнований",null,null,null,null,{"$f":"F17+F19","v":70},"чел"]
[null,null,null,"из",null,{"$f":"'M-II'!F7","v":70},"субъектов Российской Федерации"]
[]
[null,null,"Спортсменов ",null,null,{"$f":"Win!O10","v":0},"чел., в том числе: муж."]
[null,null,null,null,null,null,null,"жен."]
[null,null,null,null,"Представителей, тренеров",{"$f":"F15*1","v":70},"чел., в том числе: муж."]
[]
[null,"5.","Количество судей (всего) ",null,null,{"$f":"Re!$I$34","v":20},"чел., в том числе:"]
[null,null,null,null,null,null,null,"иногородних",0]
[null,null,null,"   Уровень подготовки судей по судейским категориям:",null,null,0,"ВК"]
[null,null,null,null,null,null,0,"1 К"]
[null,null,null,null,null,null,0,"2 К"]
[null,null,null,null,null,null,0,"других категорий"]
[]
[null,"6.","Состав участвующих команд (регионов), в том числе количество спортсменов, тренеров и другого обслуживающего персонала представлен в приложении 1."]
[]
[]
[null,"7. ","Уровень подготовки спортсменов"]
[]
[null,null," "," Возрастные группы в соответствии с ЕВСК",null,null,null,null,null,"Всего  "]
[null,null,null,"Юниоры","Юниорки","Юноши ","Девушки","Мальчики","Девочки"]
[null,null,"МСМК ",null," ",null,null," "," "]
[null,null,"МС"]
[null,null,"КМС"]
[null,null,"1 р."]
[null,null,"II р."]
[null,null,"III р."]
[null,null,"I юн."]
[null,null,"II юн."]
[]
[null,"8.","Принадлежность к спортивной школе:",null,null,null,"ДЮСШ",0,"СДЮШОР",0]
[null,null,null,null,"СДЮСШОР",0,"СШ",0,"СШОР",0]
[null,null,null,null,"ЦСП",0,"УОР",0,"др. организ.",{"$f":"F17","v":0}]
[]
[null,"9.","Результаты соревнований (список победителей и призеров) представлены в приложении 2."]
[]
[null,"10.","Выполненные разряды:"]
[]
[null,null," "," Возрастные группы в соответствии с ЕВСК",null,null,null,null,null,"Всего  "]
[null,null,null,"Юниоры","Юниорки","Юноши ","Девушки","Мальчики","Девочки"]
[null,null,"МСМК ",null," ",null,null," "," "]
[null,null,"МС"]
[null,null,"КМС"]
[null,null,"1 р."]
[null,null,"II р."]
[null,null,"III р."]
[null,null,"I юн."]
[null,null,"II юн."]
[]
[null,"11.","Количество субъектов Российской Федерации команд (перечислить территории согласно занятым местам) представлено в приложении 3."]
[]
[]
[null,"12.","Общая оценка состояния спортивной базы, наличие и состояние спортивного оборудования и инвентаря, возможности для разминки и тренировок: "]
[]
[null,null,null,null,null,null,null,null,"отлично"]
[]
[null,"13.","Общая оценка состояния и оснащения служебных помещений - раздевалок для спортсменов, помещений для судей и других служб: "]
[null,null,null,null,null,null,null,null,"отлично"]
[]
[null,"14.","Информационное обеспечение соревнований:",null,null,null,null,null,"отлично"]
[]
[null,null,"Å","табло"]
[null,null,"Å","радиоинформация"]
[null,null,"Å","видеосъемка"]
[null,null,"Å","фотосъемка"]
[null,null,"Å","видеотрансляция"]
[null,null,"Å","своевременность и доступность стартовых протоколов"]
[null,null,"Å","своевременность и доступность результатов"]
[null,null,"Å","средства вычислительной техники"]
[null,null,"Å","оборудованное помещение для судейской бригады"]
[null,null,"Å","другое"]
[]
[null,"15.","Обеспечение работы средств массовой информации - места на трибунах, помещение для пресс-центра и т.д., в том числе освещение соревнования в местных СМИ (копии публикаций в СМИ прилагаются):"]
[]
[null,null,null,null,null,null,null,null,"отлично"]
[]
[null,"16.","Количество зрителей:",null,1500,"чел."]
[]
[null,"17.","Общая оценка качества проведения соревнований - точность соблюдения расписания, объективность судейства (с указанием нарушений правил соревнований и т.д.): "]
[]
[null,null,null,null,null,null,null,null,"отлично"]
[null,null,"Мероприятие проведено в соответствии с правилами вида спорта спортивная борьба."]
[]
[]
[null,"18.","Общая оценка качества размещения, питания, транспортного обслуживания, организации встреч и проводов спортивных делегаций, шефская работа и т.п"]
[]
[null,null,null,null,null,null,null,null,"отлично"]
[]
[null,"19.","Общая оценка соблюдения мер по обеспечению безопасности (пожарной безопасности/санитарно-гигиенических норм/ медицинского обеспечения/ профилактики и предупреждения травматизма) при проведении соревнования:"]
[]
[]
[null,null,null,null,null,null,null,null,"отлично"]
[]
[null,"20.","Выводы и предложения (замечания) по подготовке и проведению соревнования: замечаний по проведению соревнований"]
[null,null,null,null,null,null,null,null,"не имеется"]
[]
[]
[null,null,"Приложения"]
[null,1,"Состав участвующих команд (регионов), в том числе количество спортсменов, тренеров и другого обслуживающего персонала"]
[]
[null,2," Результаты соревнований (список победителей и призеров)"]
[null,3,"Количество субъектов Российской Федерации команд (перечислить территории согласно занятым местам)"]
[]
[null,4,"Полный состав судейской коллегии с указанием выполняемых на соревновании функций (судейская категория, субъект РФ, город)."]
[]
[null,5,"Программа мероприятий (по часам)."]
[null,6,"Протоколы (результаты) соревнований, подписанные главным судьей и главным секретарем."]
[]
[null,"Примечание: данный отчет главной судейской коллегии представляется в ФГБУ ФЦПСР в двух экземплярах (приложение к отчету - в одном экземпляре) в течение двух недель по адресу: 105064, г. Москва, ул. Казакова, д. 18, стр. 8, каб. 32А (отдел развития видов спорта, тел.: 8(499)941-13-21) и каб. 39 (сметный отдел, тел.: 8(499)941-13-06). "]
[]
[]
[]
[]
[]
[null,null,"Представитель главной "]
[null,null,"судейской коллегии ",null,null,null,null,{"$f":"Inf!F7","v":"АПОЙКО Р.Н."}]
[null,null,null,null,null,"                       (подпись)                                                                                                        (расшифровка подписи)"]
[]
[null,null," «____» _____________ 2018 г."]

{"sheet":"Pril_1","index":6,"n_rows":84,"n_cols":12,"rows_kept":84,"cut":false,"hidden":true,"merged":[[96,5,96,10],[1,1,1,11],[3,6,4,6],[3,5,4,5],[3,1,4,4],[3,7,3,9],[3,10,4,10],[3,11,4,11],[92,5,92,10],[95,5,95,10],[83,1,83,5],[55,2,55,5],[56,2,56,5],[58,2,58,5],[27,2,27,5],[28,2,28,5],[53,2,53,5],[48,1,48,5],[31,2,31,5],[33,2,33,5],[34,2,34,5],[37,2,37,5],[39,2,39,5],[41,2,41,5],[42,2,42,5],[45,2,45,5],[47,2,47,5],[49,2,49,5],[50,2,50,5],[0,1,0,6],[5,1,5,5],[12,1,12,5],[26,1,26,5],[40,1,40,5],[14,2,14,5],[17,2,17,5],[19,2,19,5],[20,2,20,5],[23,2,23,5],[25,2,25,5],[13,2,13,5],[10,2,10,5],[6,2,6,5],[7,2,7,5],[2,4,2,17],[57,1,57,5],[64,1,64,5],[75,1,75,5],[81,1,81,5],[82,1,82,5],[72,2,72,5],[76,2,76,5],[77,2,77,5],[80,2,80,5],[59,2,59,5],[62,2,62,5],[65,2,65,5],[66,2,66,5],[69,2,69,5],[71,2,71,5]]}
[]
[null,"Состав участвующих команд (регионов), в том числе количество спортсменов, тренеров и другого обслуживающего персонала"]
[]
[null,"Субъекты РФ -",null,null,null,{"$f":"'M-II'!F7","v":70},"Базовый вид","Спортсмены",null,null,"Тренеры и др. обслуживающий персонал","Итого"]
[null,null,null,null,null,null,null,"Мужчины","Женщины","Всего"]
[null,"Северо-Западный ФО"]
[null,null,"Архангельская обл.",null,null,null,null,{"$f":"'M-II'!V9","v":0},null,{"$f":"H7+I7","v":0},1,{"$f":"J7+K7","v":1}]
[null,null,"Калининградская обл.",null,null,null,null,{"$f":"'M-II'!V10","v":0},null,{"$f":"H8+I8","v":0},1,{"$f":"J8+K8","v":1}]
[null,null,"Мурманская обл.",null,null,null,null,{"$f":"'M-II'!V11","v":0},null,0,1,1]
[null,null,"Новгородская обл.",null,null,null,null,{"$f":"'M-II'!V12","v":0},null,0,1,1]
[null,null,"Псковская обл.",null,null,null,null,{"$f":"'M-II'!V13","v":0},null,0,1,1]
[null,null,"респ Коми",null,null,null,null,{"$f":"'M-II'!V14","v":0},null,0,1,1]
[null,"Центральный ФО"]
[null,null,"Белгородская обл.",null,null,null,null,{"$f":"'M-II'!V16","v":0},null,0,1,1]
[null,null,"Владимирская обл.",null,null,null,null,{"$f":"'M-II'!V17","v":0},null,0,1,1]
[null,null,"Воронежская обл.",null,null,null,null,{"$f":"'M-II'!V18","v":0},null,0,1,1]
[null,null,"Ивановская обл.",null,null,null,null,{"$f":"'M-II'!V19","v":0},null,0,1,1]
[null,null,"Липецкая обл.",null,null,null,null,{"$f":"'M-II'!V20","v":0},null,0,1,1]
[null,null,"Московская обл.",null,null,null,null,{"$f":"'M-II'!V21","v":0},null,0,1,1]
[null,null,"Орловская обл.",null,null,null,null,{"$f":"'M-II'!V22","v":0},null,0,1,1]
[null,null,"Рязанская обл.",null,null,null,null,{"$f":"'M-II'!V23","v":0},null,0,1,1]
[null,null,"Смоленская обл.",null,null,null,null,{"$f":"'M-II'!V24","v":0},null,0,1,1]
[null,null,"Тамбовская обл.",null,null,null,null,{"$f":"'M-II'!V25","v":0},null,0,1,1]
[null,null,"Тверская обл.",null,null,null,null,{"$f":"'M-II'!V26","v":0},null,0,1,1]
[null,null,"Тульская обл.",null,null,null,null,{"$f":"'M-II'!V27","v":0},null,0,1,1]
[null,null,"Ярославская обл.",null,null,null,null,{"$f":"'M-II'!V28","v":0},null,0,1,1]
[null,"Приволжский ФО"]
[null,null,"Кировская обл.",null,null,null,null,{"$f":"'M-II'!V30","v":0},null,0,1,1]
[null,null,"Нижегородская обл.",null,null,null,null,{"$f":"'M-II'!V31","v":0},null,0,1,1]
[null,null,"Оренбургская обл.",null,null,null,null,{"$f":"'M-II'!V32","v":0},null,0,1,1]
[null,null,"Пензенская обл.",null,null,null,null,{"$f":"'M-II'!V33","v":0},null,0,1,1]
[null,null,"Пермский край",null,null,null,null,{"$f":"'M-II'!V34","v":0},null,0,1,1]
[null,null,"респ Башкортостан",null,null,null,null,{"$f":"'M-II'!V35","v":0},null,0,1,1]
[null,null,"респ Мари-Эл",null,null,null,null,{"$f":"'M-II'!V36","v":0},null,0,1,1]
[null,null,"респ Мордовия",null,null,null,null,{"$f":"'M-II'!V37","v":0},null,0,1,1]
[null,null,"респ Татарстан",null,null,null,null,{"$f":"'M-II'!V38","v":0},null,0,1,1]
[null,null,"респ Удмуртия",null,null,null,null,{"$f":"'M-II'!V39","v":0},null,0,1,1]
[null,null,"Самарская обл.",null,null,null,null,{"$f":"'M-II'!V40","v":0},null,0,1,1]
[null,null,"Саратовская обл.",null,null,null,null,{"$f":"'M-II'!V41","v":0},null,0,1,1]
[null,null,"Ульяновская обл.",null,null,null,null,{"$f":"'M-II'!V42","v":0},null,0,1,1]
[null,"Северо-Кавказский ФО"]
[null,null,"Кабардино-Балкарская респ",null,null,null,null,{"$f":"'M-II'!V44","v":0},null,0,1,1]
[null,null,"Карачаево-Черкесская респ",null,null,null,null,{"$f":"'M-II'!V45","v":0},null,0,1,1]
[null,null,"респ Дагестан",null,null,null,null,{"$f":"'M-II'!V46","v":0},null,0,1,1]
[null,null,"респ Ингушетия",null,null,null,null,{"$f":"'M-II'!V47","v":0},null,0,1,1]
[null,null,"РСО-Алания",null,null,null,null,{"$f":"'M-II'!V48","v":0},null,0,1,1]
[null,null,"Ставропольский край",null,null,null,null,{"$f":"'M-II'!V49","v":0},null,0,1,1]
[null,null,"Чеченская респ",null,null,null,null,{"$f":"'M-II'!V50","v":0},null,0,1,1]
[null,"Южный ФО"]
[null,null,"Астраханская обл.",null,null,null,null,{"$f":"'M-II'!V54","v":0},null,0,1,1]
[null,null,"Волгоградская обл.",null,null,null,null,{"$f":"'M-II'!V55","v":0},null,0,1,1]
[null,null,"Краснодарский край",null,null,null,null,{"$f":"'M-II'!V56","v":0},null,0,1,1]
[null,null,"респ Адыгея",null,null,null,null,{"$f":"'M-II'!V57","v":0},null,0,1,1]
[null,null,"респ Калмыкия",null,null,null,null,{"$f":"'M-II'!V58","v":0},null,0,1,1]
[null,null,"респ Крым",null,null,null,null,{"$f":"'M-II'!V59","v":0},null,0,1,1]
[null,null,"Ростовская обл.",null,null,null,null,{"$f":"'M-II'!V60","v":0},null,0,1,1]
[null,null,"Севастополь",null,null,null,null,{"$f":"'M-II'!V61","v":0},null,0,1,1]
[null,"Уральский ФО"]
[null,null,"Курганская обл.",null,null,null,null,{"$f":"'M-II'!V63","v":0},null,0,1,1]
[null,null,"Свердловская обл.",null,null,null,null,{"$f":"'M-II'!V64","v":0},null,0,1,1]
[null,null,"Тюменская обл.",null,null,null,null,{"$f":"'M-II'!V65","v":0},null,0,1,1]
[null,null,"Челябинская обл.",null,null,null,null,{"$f":"'M-II'!V66","v":0},null,0,1,1]
[null,null,"ХМАО-Югра",null,null,null,null,{"$f":"'M-II'!V67","v":0},null,0,1,1]
[null,null,"ЯНАО",null,null,null,null,{"$f":"'M-II'!V68","v":0},null,0,1,1]
[null,"Сибирский ФО"]
[null,null,"Алтайский край",null,null,null,null,{"$f":"'M-II'!V70","v":0},null,0,1,1]
[null,null,"Забайкальский край",null,null,null,null,{"$f":"'M-II'!V71","v":0},null,0,1,1]
[null,null,"Иркутская обл.",null,null,null,null,{"$f":"'M-II'!V72","v":0},null,0,1,1]
[null,null,"Кемеровская обл.",null,null,null,null,{"$f":"'M-II'!V73","v":0},null,0,1,1]
[null,null,"Красноярский край",null,null,null,null,{"$f":"'M-II'!V74","v":0},null,0,1,1]
[null,null,"Новосибирская обл.",null,null,null,null,{"$f":"'M-II'!V75","v":0},null,0,1,1]
[null,null,"Омская обл.",null,null,null,null,{"$f":"'M-II'!V76","v":0},null,{"$f":"H72+I72","v":0},1,{"$f":"J72+K72","v":1}]
[null,null,"респ Алтай",null,null,null,null,{"$f":"'M-II'!V77","v":0},null,0,1,1]
[null,null,"респ Хакасия",null,null,null,null,{"$f":"'M-II'!V78","v":0},null,0,1,1]
[null,null,"Томская обл.",null,null,null,null,{"$f":"'M-II'!V79","v":0},null,0,1,1]
[null,"Дальневосточный ФО"]
[null,null,"Магаданская обл.",null,null,null,null,{"$f":"'M-II'!V81","v":0},null,0,1,1]
[null,null,"Приморский край",null,null,null,null,{"$f":"'M-II'!V82","v":0},null,0,1,1]
[null,null,"респ Саха (Якутия)",null,null,null,null,{"$f":"'M-II'!V83","v":0},null,0,1,1]
[null,null,"Сахалинская обл.",null,null,null,null,{"$f":"'M-II'!V84","v":0},null,0,1,1]
[null,null,"Хабаровский край",null,null,null,null,{"$f":"'M-II'!V85","v":0},null,0,1,1]
[null,"Москва",null,null,null,null,null,{"$f":"'M-II'!V86","v":0},null,0,1,1]
[null,"Санкт-Петербург",null,null,null,null,null,{"$f":"'M-II'!V87","v":0},null,0,1,1]
[null,"TOTAL  ",null,null,null,null,null,{"$f":"SUM(H6:H83)","v":0},{"$f":"SUM(I6:I83)","v":0},{"$f":"SUM(J6:J83)","v":0},{"$f":"SUM(K6:K83)","v":70},{"$f":"SUM(L6:L83)","v":70}]

{"sheet":"Pril_3","index":7,"n_rows":76,"n_cols":11,"rows_kept":76,"cut":false,"hidden":true,"merged":[[83,2,83,5],[86,2,86,5],[87,2,87,5],[3,1,4,1],[1,1,1,5],[2,2,2,11],[3,2,4,2],[3,3,3,5]]}
[]
[null,"Количество субъектов Российской Федерации (команд) "]
[]
[null,"Место","Команда (субъект РФ )","Количество медалей"]
[null,null,null,"Золото","Серебро","Бронза"]
[null,{"$f":"_xlfn.RANK.EQ(K6,$K$6:$K$75,0)","v":1},"Архангельская область",null,null,null,null,null,null,null,{"$f":"D6*7+E6*5+F6*3.5","v":0}]
[null,1,"Калининградская область",null,null,null,null,null,null,null,{"$f":"D7*7+E7*5+F7*3.5","v":0}]
[null,1,"Мурманская область",null,null,null,null,null,null,null,0]
[null,1,"Новгородская область",null,null,null,null,null,null,null,0]
[null,1,"Псковская область",null,null,null,null,null,null,null,0]
[null,1,"республика Коми",null,null,null,null,null,null,null,0]
[null,1,"Белгородская область",null,null,null,null,null,null,null,0]
[null,1,"Владимирская область",null,null,null,null,null,null,null,0]
[null,1,"Воронежская область",null,null,null,null,null,null,null,0]
[null,1,"Ивановская область",null,null,null,null,null,null,null,0]
[null,1,"Липецкая область",null,null,null,null,null,null,null,0]
[null,1,"Московская область",null,null,null,null,null,null,null,0]
[null,1,"Орловская область",null,null,null,null,null,null,null,0]
[null,1,"Рязанская область",null,null,null,null,null,null,null,0]
[null,1,"Смоленская область",null,null,null,null,null,null,null,0]
[null,1,"Тамбовская область",null,null,null,null,null,null,null,0]
[null,1,"Тверская область",null,null,null,null,null,null,null,0]
[null,1,"Тульская область",null,null,null,null,null,null,null,0]
[null,1,"Ярославская область",null,null,null,null,null,null,null,0]
[null,1,"Кировская область",null,null,null,null,null,null,null,0]
[null,1,"Нижегородская область",null,null,null,null,null,null,null,0]
[null,1,"Оренбургская область",null,null,null,null,null,null,null,0]
[null,1,"Пензенская область",null,null,null,null,null,null,null,0]
[null,1,"Пермский край",null,null,null,null,null,null,null,0]
[null,1,"республика Башкортостан",null,null,null,null,null,null,null,0]
[null,1,"республика Мари-Эл",null,null,null,null,null,null,null,0]
[null,1,"республика Мордовия",null,null,null,null,null,null,null,0]
[null,1,"республика Татарстан",null,null,null,null,null,null,null,0]
[null,1,"республика Удмуртия",null,null,null,null,null,null,null,0]
[null,1,"Самарская область",null,null,null,null,null,null,null,0]
[null,1,"Саратовская область",null,null,null,null,null,null,null,0]
[null,1,"Ульяновская область",null,null,null,null,null,null,null,0]
[null,{"$f":"_xlfn.RANK.EQ(K38,$K$6:$K$75,0)","v":1},"Кабардино-Балкарская респ",null,null,null,null,null,null,null,0]
[null,1,"Карачаево-Черкесская респ",null,null,null,null,null,null,null,0]
[null,1,"республика Дагестан",null,null,null,null,null,null,null,0]
[null,1,"республика Ингушетия",null,null,null,null,null,null,null,0]
[null,1,"республика Северная Осетия-Алания",null,null,null,null,null,null,null,0]
[null,1,"Ставропольский край",null,null,null,null,null,null,null,0]
[null,1,"Чеченская республика",null,null,null,null,null,null,null,0]
[null,1,"Астраханская область",null,null,null,null,null,null,null,0]
[null,1,"Волгоградская область",null,null,null,null,null,null,null,0]
[null,1,"Краснодарский край",null,null,null,null,null,null,null,0]
[null,1,"республика Адыгея",null,null,null,null,null,null,null,0]
[null,1,"республика Калмыкия",null,null,null,null,null,null,null,0]
[null,1,"республика Крым",null,null,null,null,null,null,null,0]
[null,1,"Ростовская область",null,null,null,null,null,null,null,0]
[null,1,"город Севастополь",null,null,null,null,null,null,null,0]
[null,1,"Курганская область",null,null,null,null,null,null,null,0]
[null,1,"Свердловская область",null,null,null,null,null,null,null,0]
[null,1,"Тюменская область",null,null,null,null,null,null,null,0]
[null,1,"Челябинская область",null,null,null,null,null,null,null,0]
[null,1,"Ханты-Мансийский автономный округ-Югра",null,null,null,null,null,null,null,0]
[null,1,"Ямало-Ненецкий автономный округ",null,null,null,null,null,null,null,0]
[null,1,"Алтайский край",null,null,null,null,null,null,null,0]
[null,1,"Забайкальский край",null,null,null,null,null,null,null,0]
[null,1,"Иркутская область",null,null,null,null,null,null,null,0]
[null,1,"Кемеровская область",null,null,null,null,null,null,null,0]
[null,1,"Красноярский край",null,null,null,null,null,null,null,0]
[null,1,"Новосибирская область",null,null,null,null,null,null,null,0]
[null,1,"Омская область",null,null,null,null,null,null,null,0]
[null,1,"республика Алтай",null,null,null,null,null,null,null,0]
[null,1,"республика Хакасия",null,null,null,null,null,null,null,0]
[null,1,"Томская область",null,null,null,null,null,null,null,0]
[null,1,"Магаданская область",null,null,null,null,null,null,null,0]
[null,{"$f":"_xlfn.RANK.EQ(K70,$K$6:$K$75,0)","v":1},"Приморский край",null,null,null,null,null,null,null,0]
[null,1,"республика Саха (Якутия)",null,null,null,null,null,null,null,{"$f":"D71*7+E71*5+F71*3.5","v":0}]
[null,1,"Сахалинская область",null,null,null,null,null,null,null,0]
[null,1,"Хабаровский край",null,null,null,null,null,null,null,0]
[null,1,"город Москва",null,null,null,null,null,null,null,0]
[null,1,"город Санкт-Петербург",null,null,null,null,null,null,null,0]
[null,null,null,{"$f":"SUM(D6:D75)","v":0},{"$f":"SUM(E6:E75)","v":0},{"$f":"SUM(F6:F75)","v":0}]

{"sheet":"Re","index":8,"n_rows":41,"n_cols":12,"rows_kept":41,"cut":false,"hidden":true,"merged":[[33,8,33,9],[32,6,32,9],[25,6,25,9],[26,6,26,9],[27,6,27,9],[28,6,28,9],[29,6,29,9],[30,6,30,9],[31,6,31,9],[1,3,1,7],[10,6,10,9],[14,6,14,9],[15,6,15,9],[16,6,16,9],[3,3,4,7],[5,7,5,9],[6,7,6,9],[38,8,38,12],[33,2,33,6],[7,6,7,9],[8,6,8,9],[9,6,9,9],[18,6,18,9],[13,6,13,9],[11,6,11,9],[12,6,12,9],[20,6,20,9],[21,6,21,9],[22,6,22,9],[19,6,19,9],[17,6,17,9],[23,6,23,9],[24,6,24,9]]}
[]
[null,null,null,"СОСТАВ СУДЕЙСКОЙ КОЛЛЕГИИ"]
[]
[null,null,null,{"$f":"Inf!B4","v":"ХХХI-Всероссийский турнир по греко-римской борьбе,посвященный памяти ректора Ленинградского финансово-экономического института им.Н.А.Вознесенского /ныне Санкт-Петербургского государственного экономического университета,з.д.н.России Лаврикова Юрия Александровича."}]
[]
[null,null,null,null,null,null,null,{"$f":"Inf!B5","v":"20-22  ноября 2023г"}]
[null,null,null,null,null,null,null,{"$f":"Inf!F5","v":"Санкт-Петербург"}]
[null,"№","Licence","Субъект РФ","Город","Noname - First name","Responsibility - Должность",null,null,null,"СУММА","РОСПИСЬ"]
[null,1,"ССВК-МК ","СПб","Санкт-Петербург ","АПОЙКО Р.Н.","chief justice - гл. судья"]
[null,2,"ССВК-МК ","СПб","Санкт-Петербург ","СОКОЛОВ А,В,","chief secretary - гл.секретарь"]
[null,3,"ССВК-МК ","СПб","Санкт-Петербург ","КОВАЛЕНКО С.В.","зам. главного судьи"]
[null,4,"ССВК ","СПб","Санкт-Петербург ","СКАРГИН М.Н.","зам. главного секретаря"]
[null,5,"ССВК-МК ","СПб","Санкт-Петербург ","ДАВИДЯН Г.А.","руководитель ковра"]
[null,6,"ССВК-МК ","СПб","Санкт-Петербург ","НЕРОБЕЕВ Н.Ю.","руководитель ковра"]
[null,7,1,"СПб","Санкт-Петербург ","ПИВОВАРОВ О.П.","руководитель ковра"]
[null,8,1,"СПб","Санкт-Петербург ","ПЕРЕВАЛОВ С.П.","руководитель ковра"]
[null,9,1,"СПб","Санкт-Петербург ","КАЗАВАТОВ С.Р.","судья "]
[null,10,1,"СПб","Санкт-Петербург ","АРЗУМАНОВ З.А.","судья "]
[null,11,1,"СПб","Санкт-Петербург ","ПЕРЕВАЛОВ И.С.","судья "]
[null,12,1,"СПб","Санкт-Петербург ","СИДОРОВ Д.М.","судья "]
[null,13,2,"СПб","Санкт-Петербург "," ","судья "]
[null,14,1,"СПб","Санкт-Петербург ","МИХАЙЛОВ Г.Ю.","судья "]
[null,15,2,"СПб","Санкт-Петербург ","МИРОНЕНКО С.Н.","судья "]
[null,16,1,"СПб","Санкт-Петербург ","БАТАЛОВ А.Д.","судья "]
[null,17,1,"СПб","Санкт-Петербург ","ШАГИН А.Б.","судья "]
[null,18,1,"СПб","Санкт-Петербург ","КАШТАН М.В.","судья "]
[null,19,null,null,null,null,"судья "]
[null,20,null,null,null,null,"судья "]
[null,21,null,null,null,null,"судья "]
[null,22,null,null,null,null,"судья "]
[null,23,null,null,null,null,"судья "]
[null,24,null,null,null,null,"судья "]
[]
[null,null,"Nombre d'arbitres - Number of referee",null,null,null,null,null,{"$f":"ROWS(C9:C28)","v":20}]
[]
[]
[null,null,null,"Главный судья соревнований",null,null,null,{"$f":"Inf!F7","v":"АПОЙКО Р.Н."}]
[null,null,null,null,{"$f":"Inf!B8","v":"ССВК-МК"},null,null,{"$f":"Inf!F8","v":"Санкт-Петербург"}]
[]
[null,null,null,"Главный секретарь соревнований",null,null,null,{"$f":"Inf!F10","v":"СОКОЛОВ А.В."}]
[null,null,null,null,{"$f":"Inf!B11","v":"ССВК-МК"},null,null,{"$f":"Inf!F11","v":"Санкт-Петербург"}]

{"sheet":"M-II","index":9,"n_rows":98,"n_cols":22,"rows_kept":98,"cut":false,"hidden":true,"merged":[[62,21,62,22],[63,21,63,22],[64,21,64,22],[65,21,65,22],[66,21,66,22],[67,21,67,22],[54,21,54,22],[55,21,55,22],[57,21,57,22],[60,21,60,22],[58,21,58,22],[59,21,59,22],[108,5,108,17],[109,5,109,17],[0,4,0,28],[5,1,5,8],[5,17,5,24],[92,1,92,5],[92,21,92,22],[93,1,93,5],[93,21,93,22],[105,5,105,17],[89,1,89,5],[89,21,89,22],[90,1,90,5],[90,21,90,22],[91,1,91,5],[91,21,91,22],[85,2,85,5],[85,21,85,22],[86,2,86,5],[86,21,86,22],[87,1,87,5],[87,21,87,22],[80,21,80,22],[84,21,84,22],[81,21,81,22],[82,21,82,22],[83,21,83,22],[79,2,79,5],[79,21,79,22],[76,21,76,22],[77,21,77,22],[68,2,68,5],[68,21,68,22],[69,21,69,22],[70,21,70,22],[71,21,71,22],[72,21,72,22],[73,21,73,22],[74,21,74,22],[75,21,75,22],[78,21,78,22],[61,2,61,5],[61,21,61,22],[43,21,43,22],[45,21,45,22],[47,21,47,22],[48,21,48,22],[49,21,49,22],[52,2,52,5],[52,21,52,22],[46,21,46,22],[44,21,44,22],[56,21,56,22],[53,21,53,22],[37,21,37,22],[39,21,39,22],[40,21,40,22],[41,21,41,22],[42,2,42,5],[42,21,42,22],[31,21,31,22],[32,21,32,22],[33,21,33,22],[34,21,34,22],[35,21,35,22],[36,21,36,22],[38,21,38,22],[26,21,26,22],[27,21,27,22],[28,2,28,5],[28,21,28,22],[29,21,29,22],[30,21,30,22],[20,21,20,22],[21,21,21,22],[22,21,22,22],[23,21,23,22],[24,21,24,22],[25,21,25,22],[19,21,19,22],[15,2,15,5],[7,2,7,5],[7,21,7,22],[9,21,9,22],[10,21,10,22],[11,21,11,22],[13,21,13,22],[12,2,12,5],[9,2,9,5],[8,2,8,5],[8,21,8,22],[12,21,12,22],[15,21,15,22],[6,21,6,22],[14,2,14,5],[14,21,14,22],[16,21,16,22],[17,21,17,22],[18,21,18,22],[1,4,1,21],[3,4,3,20],[6,1,6,4]]}
[]
[null,null,null,null,"ПРОТОКОЛ МАНДАТНОЙ КОМИССИИ"]
[]
[null,null,null,null,{"$f":"Inf!B4","v":"ХХХI-Всероссийский турнир по греко-римской борьбе,посвященный памяти ректора Ленинградского финансово-экономического института им.Н.А.Вознесенского /ныне Санкт-Петербургского государственного экономического университета,з.д.н.России Лаврикова Юрия Александровича."}]
[]
[null,{"$f":"Inf!B5","v":"20-22  ноября 2023г"},null,null,null,null,null,null,null,null,null,null,null,null,null,null,null,{"$f":"Inf!F5","v":"Санкт-Петербург"}]
[null,"Субъекты РФ -",null,null,null,{"$f":"ROWS(B8:B87)-10","v":70},1,2,3,4,5,6,7,8,9,10,11,12,13,14,15,"TOTAL"]
[null,null,"Северо-Западный ФО",null,null,null,null,null,null,null,null,null,null,null,null,null,null,null,null,null,null,{"$f":"SUM(V9:W14)","v":0}]
[null,null,"Архангельская обл.",null,null,null,null,null,null,null,null,null,null,null,null,null,null,null,null,null,null,{"$f":"SUM(G9:U9)","v":0}]
[null,null,"Калининградская обл.",null,null,null,null,null,null,null,null,null,null,null,null,null,null,null,null,null,null,0]
[null,null,"Мурманская обл.",null,null,null,null,null,null,null,null,null,null,null,null,null,null,null,null,null,null,0]
[null,null,"Новгородская обл.",null,null,null,null,null,null,null,null,null,null,null,null,null,null,null,null,null,null,0]
[null,null,"Псковская обл.",null,null,null,null,null,null,null,null,null,null,null,null,null,null,null,null,null,null,0]
[null,null,"респ Коми",null,null,null,null,null,null,null,null,null,null,null,null,null,null,null,null,null,null,0]
[null,null,"Центральный ФО",null,null,null,null,null,null,null,null,null,null,null,null,null,null,null,null,null,null,{"$f":"SUM(V16:W28)","v":0}]
[null,null,"Белгородская обл.",null,null,null,null,null,null,null,null,null,null,null,null,null,null,null,null,null,null,{"$f":"SUM(G16:U16)","v":0}]
[null,null,"Владимирская обл.",null,null,null,null,null,null,null,null,null,null,null,null,null,null,null,null,null,null,{"$f":"SUM(G17:U17)","v":0}]
[null,null,"Воронежская обл.",null,null,null,null,null,null,null,null,null,null,null,null,null,null,null,null,null,null,{"$f":"SUM(G18:U18)","v":0}]
[null,null,"Ивановская обл.",null,null,null,null,null,null,null,null,null,null,null,null,null,null,null,null,null,null,0]
[null,null,"Липецкая обл.",null,null,null,null,null,null,null,null,null,null,null,null,null,null,null,null,null,null,{"$f":"SUM(G20:U20)","v":0}]
[null,null,"Московская обл.",null,null,null,null,null,null,null,null,null,null,null,null,null,null,null,null,null,null,0]
[null,null,"Орловская обл.",null,null,null,null,null,null,null,null,null,null,null,null,null,null,null,null,null,null,0]
[null,null,"Рязанская обл.",null,null,null,null,null,null,null,null,null,null,null,null,null,null,null,null,null,null,{"$f":"SUM(G23:U23)","v":0}]
[null,null,"Смоленская обл.",null,null,null,null,null,null,null,null,null,null,null,null,null,null,null,null,null,null,0]
[null,null,"Тамбовская обл.",null,null,null,null,null,null,null,null,null,null,null,null,null,null,null,null,null,null,{"$f":"SUM(G25:U25)","v":0}]
[null,null,"Тверская обл.",null,null,null,null,null,null,null,null,null,null,null,null,null,null,null,null,null,null,0]
[null,null,"Тульская обл.",null,null,null,null,null,null,null,null,null,null,null,null,null,null,null,null,null,null,0]
[null,null,"Ярославская обл.",null,null,null,null,null,null,null,null,null,null,null,null,null,null,null,null,null,null,0]
[null,null,"Приволжский ФО",null,null,null,null,null,null,null,null,null,null,null,null,null,null,null,null,null,null,{"$f":"SUM(V30:W42)","v":0}]
[null,null,"Кировская обл.",null,null,null,null,null,null,null,null,null,null,null,null,null,null,null,null,null,null,{"$f":"SUM(G30:U30)","v":0}]
[null,null,"Нижегородская обл.",null,null,null,null,null,null,null,null,null,null,null,null,null,null,null,null,null,null,0]
[null,null,"Оренбургская обл.",null,null,null,null,null,null,null,null,null,null,null,null,null,null,null,null,null,null,0]
[null,null,"Пензенская обл.",null,null,null,null,null,null,null,null,null,null,null,null,null,null,null,null,null,null,{"$f":"SUM(G33:U33)","v":0}]
[null,null,"Пермский край",null,null,null,null,null,null,null,null,null,null,null,null,null,null,null,null,null,null,{"$f":"SUM(G34:U34)","v":0}]
[null,null,"респ Башкортостан",null,null,null,null,null,null,null,null,null,null,null,null,null,null,null,null,null,null,0]
[null,null,"респ Мари-Эл",null,null,null,null,null,null,null,null,null,null,null,null,null,null,null,null,null,null,0]
[null,null,"респ Мордовия",null,null,null,null,null,null,null,null,null,null,null,null,null,null,null,null,null,null,0]
[null,null,"респ Татарстан",null,null,null,null,null,null,null,null,null,null,null,null,null,null,null,null,null,null,0]
[null,null,"респ Удмуртия",null,null,null,null,null,null,null,null,null,null,null,null,null,null,null,null,null,null,{"$f":"SUM(G39:U39)","v":0}]
[null,null,"Самарская обл.",null,null,null,null,null,null,null,null,null,null,null,null,null,null,null,null,null,null,0]
[null,null,"Саратовская обл.",null,null,null,null,null,null,null,null,null,null,null,null,null,null,null,null,null,null,0]
[null,null,"Ульяновская обл.",null,null,null,null,null,null,null,null,null,null,null,null,null,null,null,null,null,null,0]
[null,null,"Северо-Кавказский ФО",null,null,null,null,null,null,null,null,null,null,null,null,null,null,null,null,null,null,{"$f":"SUM(V44:W50)","v":0}]
[null,null,"Кабардино-Балкарская респ",null,null,null,null,null,null,null,null,null,null,null,null,null,null,null,null,null,null,{"$f":"SUM(G44:U44)","v":0}]
[null,null,"Карачаево-Черкесская респ",null,null,null,null,null,null,null,null,null,null,null,null,null,null,null,null,null,null,0]
[null,null,"респ Дагестан",null,null,null,null,null,null,null,null,null,null,null,null,null,null,null,null,null,null,0]
[null,null,"респ Ингушетия",null,null,null,null,null,null,null,null,null,null,null,null,null,null,null,null,null,null,0]
[null,null,"РСО-Алания",null,null,null,null,null,null,null,null,null,null,null,null,null,null,null,null,null,null,0]
[null,null,"Ставропольский край",null,null,null,null,null,null,null,null,null,null,null,null,null,null,null,null,null,null,0]
[null,null,"Чеченская респ",null,null,null,null,null,null,null,null,null,null,null,null,null,null,null,null,null,null,0]
[]
[]
[null,null,"Южный ФО",null,null,null,null,null,null,null,null,null,null,null,null,null,null,null,null,null,null,{"$f":"SUM(V54:W61)","v":0}]
[null,null,"Астраханская обл.",null,null,null,null,null,null,null,null,null,null,null,null,null,null,null,null,null,null,{"$f":"SUM(G54:U54)","v":0}]
[null,null,"Волгоградская обл.",null,null,null,null,null,null,null,null,null,null,null,null,null,null,null,null,null,null,0]
[null,null,"Краснодарский край",null,null,null,null,null,null,null,null,null,null,null,null,null,null,null,null,null,null,0]
[null,null,"респ Адыгея",null,null,null,null,null,null,null,null,null,null,null,null,null,null,null,null,null,null,0]
[null,null,"респ Калмыкия",null,null,null,null,null,null,null,null,null,null,null,null,null,null,null,null,null,null,0]
[null,null,"респ Крым",null,null,null,null,null,null,null,null,null,null,null,null,null,null,null,null,null,null,{"$f":"SUM(G59:U59)","v":0}]
[null,null,"Ростовская обл.",null,null,null,null,null,null,null,null,null,null,null,null,null,null,null,null,null,null,{"$f":"SUM(G60:U60)","v":0}]
[null,null,"Севастополь",null,null,null,null,null,null,null,null,null,null,null,null,null,null,null,null,null,null,0]
[null,null,"Уральский ФО",null,null,null,null,null,null,null,null,null,null,null,null,null,null,null,null,null,null,{"$f":"SUM(V63:W68)","v":0}]
[null,null,"Курганская обл.",null,null,null,null,null,null,null,null,null,null,null,null,null,null,null,null,null,null,{"$f":"SUM(G63:U63)","v":0}]
[null,null,"Свердловская обл.",null,null,null,null,null,null,null,null,null,null,null,null,null,null,null,null,null,null,0]
[null,null,"Тюменская обл.",null,null,null,null,null,null,null,null,null,null,null,null,null,null,null,null,null,null,0]
[null,null,"Челябинская обл.",null,null,null,null,null,null,null,null,null,null,null,null,null,null,null,null,null,null,0]
[null,null,"ХМАО-Югра",null,null,null,null,null,null,null,null,null,null,null,null,null,null,null,null,null,null,0]
[null,null,"ЯНАО",null,null,null,null,null,null,null,null,null,null,null,null,null,null,null,null,null,null,0]
[null,null,"Сибирский ФО",null,null,null,null,null,null,null,null,null,null,null,null,null,null,null,null,null,null,{"$f":"SUM(V70:W79)","v":0}]
[null,null,"Алтайский край",null,null,null,null,null,null,null,null,null,null,null,null,null,null,null,null,null,null,{"$f":"SUM(G70:U70)","v":0}]
[null,null,"Забайкальский край",null,null,null,null,null,null,null,null,null,null,null,null,null,null,null,null,null,null,0]
[null,null,"Иркутская обл.",null,null,null,null,null,null,null,null,null,null,null,null,null,null,null,null,null,null,{"$f":"SUM(G72:U72)","v":0}]
[null,null,"Кемеровская обл.",null,null,null,null,null,null,null,null,null,null,null,null,null,null,null,null,null,null,0]
[null,null,"Красноярский край",null,null,null,null,null,null,null,null,null,null,null,null,null,null,null,null,null,null,0]
[null,null,"Новосибирская обл.",null,null,null,null,null,null,null,null,null,null,null,null,null,null,null,null,null,null,0]
[null,null,"Омская обл.",null,null,null,null,null,null,null,null,null,null,null,null,null,null,null,null,null,null,0]
[null,null,"респ Алтай",null,null,null,null,null,null,null,null,null,null,null,null,null,null,null,null,null,null,{"$f":"SUM(G77:U77)","v":0}]
[null,null,"респ Хакасия",null,null,null,null,null,null,null,null,null,null,null,null,null,null,null,null,null,null,0]
[null,null,"Томская обл.",null,null,null,null,null,null,null,null,null,null,null,null,null,null,null,null,null,null,0]
[null,null,"Дальневосточный ФО",null,null,null,null,null,null,null,null,null,null,null,null,null,null,null,null,null,null,{"$f":"SUM(V81:W85)","v":0}]
[null,null,"Магаданская обл.",null,null,null,null,null,null,null,null,null,null,null,null,null,null,null,null,null,null,{"$f":"SUM(G81:U81)","v":0}]
[null,null,"Приморский край",null,null,null,null,null,null,null,null,null,null,null,null,null,null,null,null,null,null,{"$f":"SUM(G82:U82)","v":0}]
[null,null,"респ Саха (Якутия)",null,null,null,null,null,null,null,null,null,null,null,null,null,null,null,null,null,null,0]
[null,null,"Сахалинская обл.",null,null,null,null,null,null,null,null,null,null,null,null,null,null,null,null,null,null,0]
[null,null,"Хабаровский край",null,null,null,null,null,null,null,null,null,null,null,null,null,null,null,null,null,null,{"$f":"SUM(G85:U85)","v":0}]
[null,null,"Москва",null,null,null,null,null,null,null,null,null,null,null,null,null,null,null,null,null,null,0]
[null,null,"Санкт-Петербург",null,null,null,null,null,null,null,null,null,null,null,null,null,null,null,null,null,null,0]
[null,"TOTAL",null,null,null,null,{"$f":"SUM(G8:G87)","v":0},0,0,0,0,0,0,0,0,0,0,0,0,0,0,0]
[]
[null,"змс",null,null,null,null,null,null,null,null,null,null,null,null,null,null,null,null,null,null,null,{"$f":"SUM(G90:U90)","v":0}]
[null,"мсмк",null,null,null,null,null,null,null,null,null,null,null,null,null,null,null,null,null,null,null,0]
[null,"мс",null,null,null,null,null,null,null,null,null,null,null,null,null,null,null,null,null,null,null,0]
[null,"кмс",null,null,null,null,null,null,null,null,null,null,null,null,null,null,null,null,null,null,null,0]
[null,1,null,null,null,null,null,null,null,null,null,null,null,null,null,null,null,null,null,null,null,{"$f":"SUM(G94:U94)","v":0}]
[]
[null,"Главный судья",null,null,null,null,{"$f":"Inf!B8","v":"ССВК-МК"},null,null,null,null,null,null,null,null,null,{"$f":"Inf!F7","v":"АПОЙКО Р.Н."},null,null,null,null,{"$f":"Inf!F8","v":"Санкт-Петербург"}]
[]
[null,"Главный секретарь",null,null,null,null,{"$f":"Inf!B11","v":"ССВК-МК"},null,null,null,null,null,null,null,null,null,{"$f":"Inf!F10","v":"СОКОЛОВ А.В."},null,null,null,null,{"$f":"Inf!F11","v":"Санкт-Петербург"}]

{"sheet":"M-I","index":10,"n_rows":44,"n_cols":22,"rows_kept":44,"cut":false,"hidden":false,"merged":[[23,2,23,4],[12,2,12,4],[13,2,13,4],[14,2,14,4],[15,2,15,4],[16,2,16,4],[7,2,7,4],[8,2,8,4],[9,2,9,4],[10,2,10,4],[11,2,11,4],[12,21,12,22],[13,21,13,22],[11,21,11,22],[10,21,10,22],[7,21,7,22],[8,21,8,22],[9,21,9,22],[17,21,17,22],[27,21,27,22],[33,1,33,4],[30,21,30,22],[31,21,31,22],[32,21,32,22],[33,21,33,22],[30,1,30,4],[31,1,31,4],[32,1,32,4],[17,2,17,4],[18,2,18,4],[19,2,19,4],[20,2,20,4],[21,2,21,4],[22,2,22,4],[51,4,51,14],[54,4,54,13],[55,4,55,13],[56,20,56,26],[57,22,57,26],[0,4,0,26],[1,4,1,20],[3,4,3,20],[6,1,6,4],[6,21,6,22],[4,13,4,22],[5,13,5,22],[36,2,36,20],[15,21,15,22],[14,21,14,22],[28,1,28,4],[28,21,28,22],[35,21,37,22],[18,21,18,22],[19,21,19,22],[20,21,20,22],[21,21,21,22],[22,21,22,22],[23,21,23,22],[24,21,24,22],[25,21,25,22],[26,21,26,22],[16,21,16,22]]}
[]
[null,null,null,null,"ПРОТОКОЛ МАНДАТНОЙ КОМИССИИ"]
[]
[null,null,null,null,{"$f":"Inf!B4","v":"ХХХI-Всероссийский турнир по греко-римской борьбе,посвященный памяти ректора Ленинградского финансово-экономического института им.Н.А.Вознесенского /ныне Санкт-Петербургского государственного экономического университета,з.д.н.России Лаврикова Юрия Александровича."}]
[null,null,null,null,null,null,null,null,null,null,null,null,null,{"$f":"Inf!B5","v":"20-22  ноября 2023г"}]
[null,null,null,null,null,null,null,null,null,null,null,null,null,{"$f":"Inf!F5","v":"Санкт-Петербург"}]
[null,"Субъект РФ",null,null,null,{"$f":"Inf!I5","v":55},{"$f":"Inf!I6","v":60},{"$f":"Inf!I7","v":63},{"$f":"Inf!I8","v":67},{"$f":"Inf!I9","v":72},{"$f":"Inf!I10","v":77},{"$f":"Inf!I11","v":82},{"$f":"Inf!I12","v":87},{"$f":"Inf!K5","v":97},{"$f":"Inf!K6","v":130},{"$f":"Inf!K7","v":0},{"$f":"Inf!K8","v":0},{"$f":"Inf!K9","v":0},{"$f":"Inf!K10","v":0},{"$f":"Inf!K11","v":0},{"$f":"Inf!K12","v":0},"TOTAL"]
[null,1,"СПб ВИФК",null,null,null,1,1,1,1,1,1,1,1,null,null,null,null,null,null,null,{"$f":"SUM(F8:U8)","v":8}]
[null,2,"МОСКВА",null,null,null,1,2,1,null,1,null,null,2,1,null,null,null,null,null,null,8]
[null,3,"ВОРОНЕЖСКАЯ ОБЛ.",null,null,null,null,null,null,1,1,null,null,null,null,null,null,null,null,null,null,2]
[null,4,"ТВЕРСКАЯ ОБЛ.",null,null,null,null,null,null,1,null,null,null,null,null,null,null,null,null,null,null,1]
[null,5,"СЕВАСТОПОЛЬ",null,null,null,null,null,null,null,null,null,null,1,1,null,null,null,null,null,null,2]
[null,6,"СПб КШВСМ",null,null,2,2,null,5,8,6,13,5,7,2,null,null,null,null,null,null,50]
[null,7,"ВЕЛИКИЙ НОВГОРОД",null,null,1,1,1,null,null,null,null,null,null,2,null,null,null,null,null,null,5]
[null,8,"ПСКОВ",null,null,2,null,null,null,null,null,null,2,null,1,null,null,null,null,null,null,5]
[null,9,"МУРМАНСК",null,null,null,2,1,1,null,null,null,1,null,null,null,null,null,null,null,null,5]
[null,10,"СК\"ИЖОРЕЦ\"",null,null,null,null,1,null,1,null,null,null,null,null,null,null,null,null,null,null,2]
[null,11,"СПб \"ГРИФОН\"-ГЭУ",null,null,null,null,null,null,3,1,null,1,1,1,null,null,null,null,null,null,7]
[null,12,"УОР-2",null,null,1,null,null,1,1,null,null,1,null,1,null,null,null,null,null,null,{"$f":"SUM(F19:U19)","v":5}]
[null,13,"СПб \"ЛОКОМОТИВ\"",null,null,null,null,3,null,1,1,3,null,null,1,null,null,null,null,null,null,9]
[null,14,null,null,null,null,null,null,null,null,null,null,null,null,null,null,null,null,null,null,null,0]
[null,15,null,null,null,null,null,null,null,null,null,null,null,null,null,null,null,null,null,null,null,0]
[null,16,null,null,null,null,null,null,null,null,null,null,null,null,null,null,null,null,null,null,null,0]
[null,17,null,null,null,null,null,null,null,null,null,null,null,null,null,null,null,null,null,null,null,0]
[null,18,null,null,null,null,null,null,null,null,null,null,null,null,null,null,null,null,null,null,null,{"$f":"SUM(F25:U25)","v":0}]
[null,19,null,null,null,null,null,null,null,null,null,null,null,null,null,null,null,null,null,null,null,0]
[null,20,null,null,null,null,null,null,null,null,null,null,null,null,null,null,null,null,null,null,null,0]
[null,21,null,null,null,null,null,null,null,null,null,null,null,null,null,null,null,null,null,null,null,{"$f":"SUM(F28:U28)","v":0}]
[null,"TOTAL",null,null,null,{"$f":"SUM(F8:F28)","v":6},{"$f":"SUM(G8:G28)","v":7},9,9,17,11,17,11,12,10,0,0,0,0,0,0,109]
[]
[]
[]
[]
[]
[]
[null,null,null,null,null,null,null,null,null,null,null,null,null,null,null,null,null,null,null,null,null,{"$f":"ROWS(C8:D14)","v":7}]
[null,null,"Nombre de nations (domaines) / Number of countries (regions)       "]
[]
[]
[null,null,null,null,"Главный судья",null,null,null,null,null,null,null,{"$f":"Inf!F7","v":"АПОЙКО Р.Н."},null,null,null,null,null,null,null,{"$f":"Inf!F7","v":"АПОЙКО Р.Н."}]
[null,null,null,null,null,null,{"$f":"Inf!B8","v":"ССВК-МК"},null,null,null,null,null,{"$f":"Inf!F8","v":"Санкт-Петербург"},null,null,null,null,null,null,null,{"$f":"Inf!F8","v":"Санкт-Петербург"}]
[]
[null,null,null,null,"Главный секретарь",null,{"$f":"Inf!B11","v":"ССВК-МК"},null,null,null,null,null,{"$f":"Inf!F10","v":"СОКОЛОВ А.В."},null,null,null,null,null,null,null,{"$f":"Inf!F10","v":"СОКОЛОВ А.В."}]
[null,null,null,null,null,null,null,null,null,null,null,null,{"$f":"Inf!F11","v":"Санкт-Петербург"},null,null,null,null,null,null,null,{"$f":"Inf!F11","v":"Санкт-Петербург"}]

{"sheet":"A","index":11,"n_rows":29,"n_cols":32,"rows_kept":29,"cut":false,"hidden":true,"merged":[[29,6,29,7],[7,7,7,32],[8,7,8,32],[5,3,6,3],[5,4,6,4],[5,5,6,5],[5,6,6,6],[5,7,5,32],[3,31,3,32],[3,3,3,25],[3,26,3,30],[5,1,6,1],[0,3,0,32],[1,3,1,32],[2,3,2,32]]}
[null,null,null,{"$f":"Inf!B2","v":"Федерация спортивной борьбы России"}]
[null,null,null,{"$f":"Inf!B3","v":"Федерация спортивной борьбы Санкт-Петербурга"}]
[null,null,null,{"$f":"Inf!B4","v":"ХХХI-Всероссийский турнир по греко-римской борьбе,посвященный памяти ректора Ленинградского финансово-экономического института им.Н.А.Вознесенского /ныне Санкт-Петербургского государственного экономического университета,з.д.н.России Лаврикова Юрия Александровича."}]
[null,null,null,"                                           График работы судей - The schedule of judges work  ",null,null,null,null,null,null,null,null,null,null,null,null,null,null,null,null,null,null,null,null,null,null,"Ковер - Mat ",null,null,null,null,"A"]
[null,null,null,null,"конкретный день соревнований",null,{"$f":"Inf!F5","v":"Санкт-Петербург"}]
[null,null,null,"№","Фамилии судей","Судейская категория","Город","Номера пар"]
[]
[null,null,null,1,{"$f":"IF(B8 > 0,INDEX(Re!F9:F32,B8,1),\" \")","v":" "},{"$f":"IF(B8 > 0,INDEX(Re!C9:C32,B8,1),\" \")","v":" "},{"$f":"IF(B8 > 0,INDEX(Re!D9:D32,B8,1),\" \")","v":" "},"руководитель ковра"]
[null,null,null,2,{"$f":"IF(B9 > 0,INDEX(Re!F9:F32,B9,1),\" \")","v":" "},{"$f":"IF(B9 > 0,INDEX(Re!C9:C32,B9,1),\" \")","v":" "},{"$f":"IF(B9 > 0,INDEX(Re!D9:D32,B9,1),\" \")","v":" "},"руководитель ковра"]
[null,null,null,3,{"$f":"IF(B10 > 0,INDEX(Re!F9:F32,B10,1),\" \")","v":" "},{"$f":"IF(B10 > 0,INDEX(Re!C9:C32,B10,1),\" \")","v":" "},{"$f":"IF(B10 > 0,INDEX(Re!D9:D32,B10,1),\" \")","v":" "}]
[null,null,null,4,{"$f":"IF(B11 > 0,INDEX(Re!F9:F32,B11,1),\" \")","v":" "},{"$f":"IF(B11 > 0,INDEX(Re!C9:C32,B11,1),\" \")","v":" "},{"$f":"IF(B11 > 0,INDEX(Re!D9:D32,B11,1),\" \")","v":" "}]
[null,null,null,5,{"$f":"IF(B12 > 0,INDEX(Re!F9:F32,B12,1),\" \")","v":" "},{"$f":"IF(B12 > 0,INDEX(Re!C9:C32,B12,1),\" \")","v":" "},{"$f":"IF(B12 > 0,INDEX(Re!D9:D32,B12,1),\" \")","v":" "}]
[null,null,null,6,{"$f":"IF(B13 > 0,INDEX(Re!F9:F32,B13,1),\" \")","v":" "},{"$f":"IF(B13 > 0,INDEX(Re!C9:C32,B13,1),\" \")","v":" "},{"$f":"IF(B13 > 0,INDEX(Re!D9:D32,B13,1),\" \")","v":" "}]
[null,null,null,7,{"$f":"IF(B14 > 0,INDEX(Re!F9:F32,B14,1),\" \")","v":" "},{"$f":"IF(B14 > 0,INDEX(Re!C9:C32,B14,1),\" \")","v":" "},{"$f":"IF(B14 > 0,INDEX(Re!D9:D32,B14,1),\" \")","v":" "}]
[null,null,null,8,{"$f":"IF(B15 > 0,INDEX(Re!F9:F32,B15,1),\" \")","v":" "},{"$f":"IF(B15 > 0,INDEX(Re!C9:C32,B15,1),\" \")","v":" "},{"$f":"IF(B15 > 0,INDEX(Re!D9:D32,B15,1),\" \")","v":" "}]
[null,null,null,9,{"$f":"IF(B16 > 0,INDEX(Re!F9:F32,B16,1),\" \")","v":" "},{"$f":"IF(B16 > 0,INDEX(Re!C9:C32,B16,1),\" \")","v":" "},{"$f":"IF(B16 > 0,INDEX(Re!D9:D32,B16,1),\" \")","v":" "}]
[null,null,null,10,{"$f":"IF(B17 > 0,INDEX(Re!F9:F32,B17,1),\" \")","v":" "},{"$f":"IF(B17 > 0,INDEX(Re!C9:C32,B17,1),\" \")","v":" "},{"$f":"IF(B17 > 0,INDEX(Re!D9:D32,B17,1),\" \")","v":" "}]
[null,null,null,11,{"$f":"IF(B18 > 0,INDEX(Re!F9:F32,B18,1),\" \")","v":" "},{"$f":"IF(B18 > 0,INDEX(Re!C9:C32,B18,1),\" \")","v":" "},{"$f":"IF(B18 > 0,INDEX(Re!D9:D32,B18,1),\" \")","v":" "}]
[null,null,null,12,{"$f":"IF(B19 > 0,INDEX(Re!F9:F32,B19,1),\" \")","v":" "},{"$f":"IF(B19 > 0,INDEX(Re!C9:C32,B19,1),\" \")","v":" "},{"$f":"IF(B19 > 0,INDEX(Re!D9:D32,B19,1),\" \")","v":" "}]
[null,null,null,13,{"$f":"IF(B20 > 0,INDEX(Re!F9:F32,B20,1),\" \")","v":" "},{"$f":"IF(B20 > 0,INDEX(Re!C9:C32,B20,1),\" \")","v":" "},{"$f":"IF(B20 > 0,INDEX(Re!D9:D32,B20,1),\" \")","v":" "}]
[null,null,null,14,{"$f":"IF(B21 > 0,INDEX(Re!F9:F32,B21,1),\" \")","v":" "},{"$f":"IF(B21 > 0,INDEX(Re!C9:C32,B21,1),\" \")","v":" "},{"$f":"IF(B21 > 0,INDEX(Re!D9:D32,B21,1),\" \")","v":" "}]
[null,null,null,15,{"$f":"IF(B22 > 0,INDEX(Re!F9:F32,B22,1),\" \")","v":" "},{"$f":"IF(B22 > 0,INDEX(Re!C9:C32,B22,1),\" \")","v":" "},{"$f":"IF(B22 > 0,INDEX(Re!D9:D32,B22,1),\" \")","v":" "}]
[null,null,null,16,{"$f":"IF(B23 > 0,INDEX(Re!F9:F32,B23,1),\" \")","v":" "},{"$f":"IF(B23 > 0,INDEX(Re!C9:C32,B23,1),\" \")","v":" "},{"$f":"IF(B23 > 0,INDEX(Re!D9:D32,B23,1),\" \")","v":" "}]
[null,null,null,17,{"$f":"IF(B24 > 0,INDEX(Re!F9:F32,B24,1),\" \")","v":" "},{"$f":"IF(B24 > 0,INDEX(Re!C9:C32,B24,1),\" \")","v":" "},{"$f":"IF(B24 > 0,INDEX(Re!D9:D32,B24,1),\" \")","v":" "}]
[null,null,null,18,{"$f":"IF(B25 > 0,INDEX(Re!F9:F32,B25,1),\" \")","v":" "},{"$f":"IF(B25 > 0,INDEX(Re!C9:C32,B25,1),\" \")","v":" "},{"$f":"IF(B25 > 0,INDEX(Re!D9:D32,B25,1),\" \")","v":" "}]
[null,null,null,19,{"$f":"IF(B26 > 0,INDEX(Re!F9:F32,B26,1),\" \")","v":" "},{"$f":"IF(B26 > 0,INDEX(Re!C9:C32,B26,1),\" \")","v":" "},{"$f":"IF(B26 > 0,INDEX(Re!D9:D32,B26,1),\" \")","v":" "}]
[null,null,null,20,{"$f":"IF(B27 > 0,INDEX(Re!F9:F32,B27,1),\" \")","v":" "},{"$f":"IF(B27 > 0,INDEX(Re!C9:C32,B27,1),\" \")","v":" "},{"$f":"IF(B27 > 0,INDEX(Re!D9:D32,B27,1),\" \")","v":" "}]
[]
[null,null,null,null,"Условные обозначения:   Р - руководитель ковра; А - арбитр ; Б - боковой судья ;  С – секундометрист. "]

{"sheet":"B","index":12,"n_rows":29,"n_cols":32,"rows_kept":29,"cut":false,"hidden":true,"merged":[[7,7,7,32],[8,7,8,32],[29,6,29,7],[5,1,6,1],[5,3,6,3],[5,4,6,4],[5,5,6,5],[5,6,6,6],[5,7,5,32],[0,3,0,32],[1,3,1,32],[2,3,2,32],[3,3,3,25],[3,26,3,30],[3,31,3,32]]}
[null,null,null,{"$f":"Inf!B2","v":"Федерация спортивной борьбы России"}]
[null,null,null,{"$f":"Inf!B3","v":"Федерация спортивной борьбы Санкт-Петербурга"}]
[null,null,null,{"$f":"Inf!B4","v":"ХХХI-Всероссийский турнир по греко-римской борьбе,посвященный памяти ректора Ленинградского финансово-экономического института им.Н.А.Вознесенского /ныне Санкт-Петербургского государственного экономического университета,з.д.н.России Лаврикова Юрия Александровича."}]
[null,null,null,"                                           График работы судей - The schedule of judges work  ",null,null,null,null,null,null,null,null,null,null,null,null,null,null,null,null,null,null,null,null,null,null,"Ковер - Mat ",null,null,null,null,"B"]
[null,null,null,null,"конкретный день соревнований",null,{"$f":"Inf!F5","v":"Санкт-Петербург"}]
[null,null,null,"№","Фамилии судей","Судейская категория","Город","Номера пар"]
[]
[null,null,null,1,{"$f":"IF(B8 > 0,INDEX(Re!F9:F32,B8,1),\" \")","v":" "},{"$f":"IF(B8 > 0,INDEX(Re!C9:C32,B8,1),\" \")","v":" "},{"$f":"IF(B8 > 0,INDEX(Re!D9:D32,B8,1),\" \")","v":" "},"руководитель ковра"]
[null,null,null,2,{"$f":"IF(B9 > 0,INDEX(Re!F9:F32,B9,1),\" \")","v":" "},{"$f":"IF(B9 > 0,INDEX(Re!C9:C32,B9,1),\" \")","v":" "},{"$f":"IF(B9 > 0,INDEX(Re!D9:D32,B9,1),\" \")","v":" "},"руководитель ковра"]
[null,null,null,3,{"$f":"IF(B10 > 0,INDEX(Re!F9:F32,B10,1),\" \")","v":" "},{"$f":"IF(B10 > 0,INDEX(Re!C9:C32,B10,1),\" \")","v":" "},{"$f":"IF(B10 > 0,INDEX(Re!D9:D32,B10,1),\" \")","v":" "}]
[null,null,null,4,{"$f":"IF(B11 > 0,INDEX(Re!F9:F32,B11,1),\" \")","v":" "},{"$f":"IF(B11 > 0,INDEX(Re!C9:C32,B11,1),\" \")","v":" "},{"$f":"IF(B11 > 0,INDEX(Re!D9:D32,B11,1),\" \")","v":" "}]
[null,null,null,5,{"$f":"IF(B12 > 0,INDEX(Re!F9:F32,B12,1),\" \")","v":" "},{"$f":"IF(B12 > 0,INDEX(Re!C9:C32,B12,1),\" \")","v":" "},{"$f":"IF(B12 > 0,INDEX(Re!D9:D32,B12,1),\" \")","v":" "}]
[null,null,null,6,{"$f":"IF(B13 > 0,INDEX(Re!F9:F32,B13,1),\" \")","v":" "},{"$f":"IF(B13 > 0,INDEX(Re!C9:C32,B13,1),\" \")","v":" "},{"$f":"IF(B13 > 0,INDEX(Re!D9:D32,B13,1),\" \")","v":" "}]
[null,null,null,7,{"$f":"IF(B14 > 0,INDEX(Re!F9:F32,B14,1),\" \")","v":" "},{"$f":"IF(B14 > 0,INDEX(Re!C9:C32,B14,1),\" \")","v":" "},{"$f":"IF(B14 > 0,INDEX(Re!D9:D32,B14,1),\" \")","v":" "}]
[null,null,null,8,{"$f":"IF(B15 > 0,INDEX(Re!F9:F32,B15,1),\" \")","v":" "},{"$f":"IF(B15 > 0,INDEX(Re!C9:C32,B15,1),\" \")","v":" "},{"$f":"IF(B15 > 0,INDEX(Re!D9:D32,B15,1),\" \")","v":" "}]
[null,null,null,9,{"$f":"IF(B16 > 0,INDEX(Re!F9:F32,B16,1),\" \")","v":" "},{"$f":"IF(B16 > 0,INDEX(Re!C9:C32,B16,1),\" \")","v":" "},{"$f":"IF(B16 > 0,INDEX(Re!D9:D32,B16,1),\" \")","v":" "}]
[null,null,null,10,{"$f":"IF(B17 > 0,INDEX(Re!F9:F32,B17,1),\" \")","v":" "},{"$f":"IF(B17 > 0,INDEX(Re!C9:C32,B17,1),\" \")","v":" "},{"$f":"IF(B17 > 0,INDEX(Re!D9:D32,B17,1),\" \")","v":" "}]
[null,null,null,11,{"$f":"IF(B18 > 0,INDEX(Re!F9:F32,B18,1),\" \")","v":" "},{"$f":"IF(B18 > 0,INDEX(Re!C9:C32,B18,1),\" \")","v":" "},{"$f":"IF(B18 > 0,INDEX(Re!D9:D32,B18,1),\" \")","v":" "}]
[null,null,null,12,{"$f":"IF(B19 > 0,INDEX(Re!F9:F32,B19,1),\" \")","v":" "},{"$f":"IF(B19 > 0,INDEX(Re!C9:C32,B19,1),\" \")","v":" "},{"$f":"IF(B19 > 0,INDEX(Re!D9:D32,B19,1),\" \")","v":" "}]
[null,null,null,13,{"$f":"IF(B20 > 0,INDEX(Re!F9:F32,B20,1),\" \")","v":" "},{"$f":"IF(B20 > 0,INDEX(Re!C9:C32,B20,1),\" \")","v":" "},{"$f":"IF(B20 > 0,INDEX(Re!D9:D32,B20,1),\" \")","v":" "}]
[null,null,null,14,{"$f":"IF(B21 > 0,INDEX(Re!F9:F32,B21,1),\" \")","v":" "},{"$f":"IF(B21 > 0,INDEX(Re!C9:C32,B21,1),\" \")","v":" "},{"$f":"IF(B21 > 0,INDEX(Re!D9:D32,B21,1),\" \")","v":" "}]
[null,null,null,15,{"$f":"IF(B22 > 0,INDEX(Re!F9:F32,B22,1),\" \")","v":" "},{"$f":"IF(B22 > 0,INDEX(Re!C9:C32,B22,1),\" \")","v":" "},{"$f":"IF(B22 > 0,INDEX(Re!D9:D32,B22,1),\" \")","v":" "}]
[null,null,null,16,{"$f":"IF(B23 > 0,INDEX(Re!F9:F32,B23,1),\" \")","v":" "},{"$f":"IF(B23 > 0,INDEX(Re!C9:C32,B23,1),\" \")","v":" "},{"$f":"IF(B23 > 0,INDEX(Re!D9:D32,B23,1),\" \")","v":" "}]
[null,null,null,17,{"$f":"IF(B24 > 0,INDEX(Re!F9:F32,B24,1),\" \")","v":" "},{"$f":"IF(B24 > 0,INDEX(Re!C9:C32,B24,1),\" \")","v":" "},{"$f":"IF(B24 > 0,INDEX(Re!D9:D32,B24,1),\" \")","v":" "}]
[null,null,null,18,{"$f":"IF(B25 > 0,INDEX(Re!F9:F32,B25,1),\" \")","v":" "},{"$f":"IF(B25 > 0,INDEX(Re!C9:C32,B25,1),\" \")","v":" "},{"$f":"IF(B25 > 0,INDEX(Re!D9:D32,B25,1),\" \")","v":" "}]
[null,null,null,19,{"$f":"IF(B26 > 0,INDEX(Re!F9:F32,B26,1),\" \")","v":" "},{"$f":"IF(B26 > 0,INDEX(Re!C9:C32,B26,1),\" \")","v":" "},{"$f":"IF(B26 > 0,INDEX(Re!D9:D32,B26,1),\" \")","v":" "}]
[null,null,null,20,{"$f":"IF(B27 > 0,INDEX(Re!F9:F32,B27,1),\" \")","v":" "},{"$f":"IF(B27 > 0,INDEX(Re!C9:C32,B27,1),\" \")","v":" "},{"$f":"IF(B27 > 0,INDEX(Re!D9:D32,B27,1),\" \")","v":" "}]
[]
[null,null,null,null,"Условные обозначения:   Р - руководитель ковра; А - арбитр ; Б - боковой судья ;  С – секундометрист. "]

{"sheet":"C","index":13,"n_rows":29,"n_cols":32,"rows_kept":29,"cut":false,"hidden":true,"merged":[[7,7,7,32],[8,7,8,32],[29,6,29,7],[5,1,6,1],[5,3,6,3],[5,4,6,4],[5,5,6,5],[5,6,6,6],[5,7,5,32],[0,3,0,32],[1,3,1,32],[2,3,2,32],[3,3,3,25],[3,26,3,30],[3,31,3,32]]}
[null,null,null,{"$f":"Inf!B2","v":"Федерация спортивной борьбы России"}]
[null,null,null,{"$f":"Inf!B3","v":"Федерация спортивной борьбы Санкт-Петербурга"}]
[null,null,null,{"$f":"Inf!B4","v":"ХХХI-Всероссийский турнир по греко-римской борьбе,посвященный памяти ректора Ленинградского финансово-экономического института им.Н.А.Вознесенского /ныне Санкт-Петербургского государственного экономического университета,з.д.н.России Лаврикова Юрия Александровича."}]
[null,null,null,"                                           График работы судей - The schedule of judges work  ",null,null,null,null,null,null,null,null,null,null,null,null,null,null,null,null,null,null,null,null,null,null,"Ковер - Mat ",null,null,null,null,"C"]
[null,null,null,null,"конкретный день соревнований",null,{"$f":"Inf!F5","v":"Санкт-Петербург"}]
[null,null,null,"№","Фамилии судей","Судейская категория","Город","Номера пар"]
[]
[null,null,null,1,{"$f":"IF(B8 > 0,INDEX(Re!F9:F32,B8,1),\" \")","v":" "},{"$f":"IF(B8 > 0,INDEX(Re!C9:C32,B8,1),\" \")","v":" "},{"$f":"IF(B8 > 0,INDEX(Re!D9:D32,B8,1),\" \")","v":" "},"руководитель ковра"]
[null,null,null,2,{"$f":"IF(B9 > 0,INDEX(Re!F9:F32,B9,1),\" \")","v":" "},{"$f":"IF(B9 > 0,INDEX(Re!C9:C32,B9,1),\" \")","v":" "},{"$f":"IF(B9 > 0,INDEX(Re!D9:D32,B9,1),\" \")","v":" "},"руководитель ковра"]
[null,null,null,3,{"$f":"IF(B10 > 0,INDEX(Re!F9:F32,B10,1),\" \")","v":" "},{"$f":"IF(B10 > 0,INDEX(Re!C9:C32,B10,1),\" \")","v":" "},{"$f":"IF(B10 > 0,INDEX(Re!D9:D32,B10,1),\" \")","v":" "}]
[null,null,null,4,{"$f":"IF(B11 > 0,INDEX(Re!F9:F32,B11,1),\" \")","v":" "},{"$f":"IF(B11 > 0,INDEX(Re!C9:C32,B11,1),\" \")","v":" "},{"$f":"IF(B11 > 0,INDEX(Re!D9:D32,B11,1),\" \")","v":" "}]
[null,null,null,5,{"$f":"IF(B12 > 0,INDEX(Re!F9:F32,B12,1),\" \")","v":" "},{"$f":"IF(B12 > 0,INDEX(Re!C9:C32,B12,1),\" \")","v":" "},{"$f":"IF(B12 > 0,INDEX(Re!D9:D32,B12,1),\" \")","v":" "}]
[null,null,null,6,{"$f":"IF(B13 > 0,INDEX(Re!F9:F32,B13,1),\" \")","v":" "},{"$f":"IF(B13 > 0,INDEX(Re!C9:C32,B13,1),\" \")","v":" "},{"$f":"IF(B13 > 0,INDEX(Re!D9:D32,B13,1),\" \")","v":" "}]
[null,null,null,7,{"$f":"IF(B14 > 0,INDEX(Re!F9:F32,B14,1),\" \")","v":" "},{"$f":"IF(B14 > 0,INDEX(Re!C9:C32,B14,1),\" \")","v":" "},{"$f":"IF(B14 > 0,INDEX(Re!D9:D32,B14,1),\" \")","v":" "}]
[null,null,null,8,{"$f":"IF(B15 > 0,INDEX(Re!F9:F32,B15,1),\" \")","v":" "},{"$f":"IF(B15 > 0,INDEX(Re!C9:C32,B15,1),\" \")","v":" "},{"$f":"IF(B15 > 0,INDEX(Re!D9:D32,B15,1),\" \")","v":" "}]
[null,null,null,9,{"$f":"IF(B16 > 0,INDEX(Re!F9:F32,B16,1),\" \")","v":" "},{"$f":"IF(B16 > 0,INDEX(Re!C9:C32,B16,1),\" \")","v":" "},{"$f":"IF(B16 > 0,INDEX(Re!D9:D32,B16,1),\" \")","v":" "}]
[null,null,null,10,{"$f":"IF(B17 > 0,INDEX(Re!F9:F32,B17,1),\" \")","v":" "},{"$f":"IF(B17 > 0,INDEX(Re!C9:C32,B17,1),\" \")","v":" "},{"$f":"IF(B17 > 0,INDEX(Re!D9:D32,B17,1),\" \")","v":" "}]
[null,null,null,11,{"$f":"IF(B18 > 0,INDEX(Re!F9:F32,B18,1),\" \")","v":" "},{"$f":"IF(B18 > 0,INDEX(Re!C9:C32,B18,1),\" \")","v":" "},{"$f":"IF(B18 > 0,INDEX(Re!D9:D32,B18,1),\" \")","v":" "}]
[null,null,null,12,{"$f":"IF(B19 > 0,INDEX(Re!F9:F32,B19,1),\" \")","v":" "},{"$f":"IF(B19 > 0,INDEX(Re!C9:C32,B19,1),\" \")","v":" "},{"$f":"IF(B19 > 0,INDEX(Re!D9:D32,B19,1),\" \")","v":" "}]
[null,null,null,13,{"$f":"IF(B20 > 0,INDEX(Re!F9:F32,B20,1),\" \")","v":" "},{"$f":"IF(B20 > 0,INDEX(Re!C9:C32,B20,1),\" \")","v":" "},{"$f":"IF(B20 > 0,INDEX(Re!D9:D32,B20,1),\" \")","v":" "}]
[null,null,null,14,{"$f":"IF(B21 > 0,INDEX(Re!F9:F32,B21,1),\" \")","v":" "},{"$f":"IF(B21 > 0,INDEX(Re!C9:C32,B21,1),\" \")","v":" "},{"$f":"IF(B21 > 0,INDEX(Re!D9:D32,B21,1),\" \")","v":" "}]
[null,null,null,15,{"$f":"IF(B22 > 0,INDEX(Re!F9:F32,B22,1),\" \")","v":" "},{"$f":"IF(B22 > 0,INDEX(Re!C9:C32,B22,1),\" \")","v":" "},{"$f":"IF(B22 > 0,INDEX(Re!D9:D32,B22,1),\" \")","v":" "}]
[null,null,null,16,{"$f":"IF(B23 > 0,INDEX(Re!F9:F32,B23,1),\" \")","v":" "},{"$f":"IF(B23 > 0,INDEX(Re!C9:C32,B23,1),\" \")","v":" "},{"$f":"IF(B23 > 0,INDEX(Re!D9:D32,B23,1),\" \")","v":" "}]
[null,null,null,17,{"$f":"IF(B24 > 0,INDEX(Re!F9:F32,B24,1),\" \")","v":" "},{"$f":"IF(B24 > 0,INDEX(Re!C9:C32,B24,1),\" \")","v":" "},{"$f":"IF(B24 > 0,INDEX(Re!D9:D32,B24,1),\" \")","v":" "}]
[null,null,null,18,{"$f":"IF(B25 > 0,INDEX(Re!F9:F32,B25,1),\" \")","v":" "},{"$f":"IF(B25 > 0,INDEX(Re!C9:C32,B25,1),\" \")","v":" "},{"$f":"IF(B25 > 0,INDEX(Re!D9:D32,B25,1),\" \")","v":" "}]
[null,null,null,19,{"$f":"IF(B26 > 0,INDEX(Re!F9:F32,B26,1),\" \")","v":" "},{"$f":"IF(B26 > 0,INDEX(Re!C9:C32,B26,1),\" \")","v":" "},{"$f":"IF(B26 > 0,INDEX(Re!D9:D32,B26,1),\" \")","v":" "}]
[null,null,null,20,{"$f":"IF(B27 > 0,INDEX(Re!F9:F32,B27,1),\" \")","v":" "},{"$f":"IF(B27 > 0,INDEX(Re!C9:C32,B27,1),\" \")","v":" "},{"$f":"IF(B27 > 0,INDEX(Re!D9:D32,B27,1),\" \")","v":" "}]
[]
[null,null,null,null,"Условные обозначения:   Р - руководитель ковра; А - арбитр ; Б - боковой судья ;  С – секундометрист. "]

{"sheet":"D","index":14,"n_rows":29,"n_cols":32,"rows_kept":29,"cut":false,"hidden":true,"merged":[[7,7,7,32],[8,7,8,32],[29,6,29,7],[5,1,6,1],[5,3,6,3],[5,4,6,4],[5,5,6,5],[5,6,6,6],[5,7,5,32],[0,3,0,32],[1,3,1,32],[2,3,2,32],[3,3,3,25],[3,26,3,30],[3,31,3,32]]}
[null,null,null,{"$f":"Inf!B2","v":"Федерация спортивной борьбы России"}]
[null,null,null,{"$f":"Inf!B3","v":"Федерация спортивной борьбы Санкт-Петербурга"}]
[null,null,null,{"$f":"Inf!B4","v":"ХХХI-Всероссийский турнир по греко-римской борьбе,посвященный памяти ректора Ленинградского финансово-экономического института им.Н.А.Вознесенского /ныне Санкт-Петербургского государственного экономического университета,з.д.н.России Лаврикова Юрия Александровича."}]
[null,null,null,"                                           График работы судей - The schedule of judges work  ",null,null,null,null,null,null,null,null,null,null,null,null,null,null,null,null,null,null,null,null,null,null,"Ковер - Mat ",null,null,null,null,"D"]
[null,null,null,null,"конкретный день соревнований",null,{"$f":"Inf!F5","v":"Санкт-Петербург"}]
[null,null,null,"№","Фамилии судей","Судейская категория","Город","Номера пар"]
[]
[null,null,null,1,{"$f":"IF(B8 > 0,INDEX(Re!F9:F32,B8,1),\" \")","v":" "},{"$f":"IF(B8 > 0,INDEX(Re!C9:C32,B8,1),\" \")","v":" "},{"$f":"IF(B8 > 0,INDEX(Re!D9:D32,B8,1),\" \")","v":" "},"руководитель ковра"]
[null,null,null,2,{"$f":"IF(B9 > 0,INDEX(Re!F9:F32,B9,1),\" \")","v":" "},{"$f":"IF(B9 > 0,INDEX(Re!C9:C32,B9,1),\" \")","v":" "},{"$f":"IF(B9 > 0,INDEX(Re!D9:D32,B9,1),\" \")","v":" "},"руководитель ковра"]
[null,null,null,3,{"$f":"IF(B10 > 0,INDEX(Re!F9:F32,B10,1),\" \")","v":" "},{"$f":"IF(B10 > 0,INDEX(Re!C9:C32,B10,1),\" \")","v":" "},{"$f":"IF(B10 > 0,INDEX(Re!D9:D32,B10,1),\" \")","v":" "}]
[null,null,null,4,{"$f":"IF(B11 > 0,INDEX(Re!F9:F32,B11,1),\" \")","v":" "},{"$f":"IF(B11 > 0,INDEX(Re!C9:C32,B11,1),\" \")","v":" "},{"$f":"IF(B11 > 0,INDEX(Re!D9:D32,B11,1),\" \")","v":" "}]
[null,null,null,5,{"$f":"IF(B12 > 0,INDEX(Re!F9:F32,B12,1),\" \")","v":" "},{"$f":"IF(B12 > 0,INDEX(Re!C9:C32,B12,1),\" \")","v":" "},{"$f":"IF(B12 > 0,INDEX(Re!D9:D32,B12,1),\" \")","v":" "}]
[null,null,null,6,{"$f":"IF(B13 > 0,INDEX(Re!F9:F32,B13,1),\" \")","v":" "},{"$f":"IF(B13 > 0,INDEX(Re!C9:C32,B13,1),\" \")","v":" "},{"$f":"IF(B13 > 0,INDEX(Re!D9:D32,B13,1),\" \")","v":" "}]
[null,null,null,7,{"$f":"IF(B14 > 0,INDEX(Re!F9:F32,B14,1),\" \")","v":" "},{"$f":"IF(B14 > 0,INDEX(Re!C9:C32,B14,1),\" \")","v":" "},{"$f":"IF(B14 > 0,INDEX(Re!D9:D32,B14,1),\" \")","v":" "}]
[null,null,null,8,{"$f":"IF(B15 > 0,INDEX(Re!F9:F32,B15,1),\" \")","v":" "},{"$f":"IF(B15 > 0,INDEX(Re!C9:C32,B15,1),\" \")","v":" "},{"$f":"IF(B15 > 0,INDEX(Re!D9:D32,B15,1),\" \")","v":" "}]
[null,null,null,9,{"$f":"IF(B16 > 0,INDEX(Re!F9:F32,B16,1),\" \")","v":" "},{"$f":"IF(B16 > 0,INDEX(Re!C9:C32,B16,1),\" \")","v":" "},{"$f":"IF(B16 > 0,INDEX(Re!D9:D32,B16,1),\" \")","v":" "}]
[null,null,null,10,{"$f":"IF(B17 > 0,INDEX(Re!F9:F32,B17,1),\" \")","v":" "},{"$f":"IF(B17 > 0,INDEX(Re!C9:C32,B17,1),\" \")","v":" "},{"$f":"IF(B17 > 0,INDEX(Re!D9:D32,B17,1),\" \")","v":" "}]
[null,null,null,11,{"$f":"IF(B18 > 0,INDEX(Re!F9:F32,B18,1),\" \")","v":" "},{"$f":"IF(B18 > 0,INDEX(Re!C9:C32,B18,1),\" \")","v":" "},{"$f":"IF(B18 > 0,INDEX(Re!D9:D32,B18,1),\" \")","v":" "}]
[null,null,null,12,{"$f":"IF(B19 > 0,INDEX(Re!F9:F32,B19,1),\" \")","v":" "},{"$f":"IF(B19 > 0,INDEX(Re!C9:C32,B19,1),\" \")","v":" "},{"$f":"IF(B19 > 0,INDEX(Re!D9:D32,B19,1),\" \")","v":" "}]
[null,null,null,13,{"$f":"IF(B20 > 0,INDEX(Re!F9:F32,B20,1),\" \")","v":" "},{"$f":"IF(B20 > 0,INDEX(Re!C9:C32,B20,1),\" \")","v":" "},{"$f":"IF(B20 > 0,INDEX(Re!D9:D32,B20,1),\" \")","v":" "}]
[null,null,null,14,{"$f":"IF(B21 > 0,INDEX(Re!F9:F32,B21,1),\" \")","v":" "},{"$f":"IF(B21 > 0,INDEX(Re!C9:C32,B21,1),\" \")","v":" "},{"$f":"IF(B21 > 0,INDEX(Re!D9:D32,B21,1),\" \")","v":" "}]
[null,null,null,15,{"$f":"IF(B22 > 0,INDEX(Re!F9:F32,B22,1),\" \")","v":" "},{"$f":"IF(B22 > 0,INDEX(Re!C9:C32,B22,1),\" \")","v":" "},{"$f":"IF(B22 > 0,INDEX(Re!D9:D32,B22,1),\" \")","v":" "}]
[null,null,null,16,{"$f":"IF(B23 > 0,INDEX(Re!F9:F32,B23,1),\" \")","v":" "},{"$f":"IF(B23 > 0,INDEX(Re!C9:C32,B23,1),\" \")","v":" "},{"$f":"IF(B23 > 0,INDEX(Re!D9:D32,B23,1),\" \")","v":" "}]
[null,null,null,17,{"$f":"IF(B24 > 0,INDEX(Re!F9:F32,B24,1),\" \")","v":" "},{"$f":"IF(B24 > 0,INDEX(Re!C9:C32,B24,1),\" \")","v":" "},{"$f":"IF(B24 > 0,INDEX(Re!D9:D32,B24,1),\" \")","v":" "}]
[null,null,null,18,{"$f":"IF(B25 > 0,INDEX(Re!F9:F32,B25,1),\" \")","v":" "},{"$f":"IF(B25 > 0,INDEX(Re!C9:C32,B25,1),\" \")","v":" "},{"$f":"IF(B25 > 0,INDEX(Re!D9:D32,B25,1),\" \")","v":" "}]
[null,null,null,19,{"$f":"IF(B26 > 0,INDEX(Re!F9:F32,B26,1),\" \")","v":" "},{"$f":"IF(B26 > 0,INDEX(Re!C9:C32,B26,1),\" \")","v":" "},{"$f":"IF(B26 > 0,INDEX(Re!D9:D32,B26,1),\" \")","v":" "}]
[null,null,null,20,{"$f":"IF(B27 > 0,INDEX(Re!F9:F32,B27,1),\" \")","v":" "},{"$f":"IF(B27 > 0,INDEX(Re!C9:C32,B27,1),\" \")","v":" "},{"$f":"IF(B27 > 0,INDEX(Re!D9:D32,B27,1),\" \")","v":" "}]
[]
[null,null,null,null,"Условные обозначения:   Р - руководитель ковра; А - арбитр ; Б - боковой судья ;  С – секундометрист. "]

{"sheet":"E","index":15,"n_rows":29,"n_cols":32,"rows_kept":29,"cut":false,"hidden":true,"merged":[[7,7,7,32],[8,7,8,32],[29,6,29,7],[5,1,6,1],[5,3,6,3],[5,4,6,4],[5,5,6,5],[5,6,6,6],[5,7,5,32],[0,3,0,32],[1,3,1,32],[2,3,2,32],[3,3,3,25],[3,26,3,30],[3,31,3,32]]}
[null,null,null,{"$f":"Inf!B2","v":"Федерация спортивной борьбы России"}]
[null,null,null,{"$f":"Inf!B3","v":"Федерация спортивной борьбы Санкт-Петербурга"}]
[null,null,null,{"$f":"Inf!B4","v":"ХХХI-Всероссийский турнир по греко-римской борьбе,посвященный памяти ректора Ленинградского финансово-экономического института им.Н.А.Вознесенского /ныне Санкт-Петербургского государственного экономического университета,з.д.н.России Лаврикова Юрия Александровича."}]
[null,null,null,"                                           График работы судей - The schedule of judges work  ",null,null,null,null,null,null,null,null,null,null,null,null,null,null,null,null,null,null,null,null,null,null,"Ковер - Mat ",null,null,null,null,"E"]
[null,null,null,null,"конкретный день соревнований",null,{"$f":"Inf!F5","v":"Санкт-Петербург"}]
[null,null,null,"№","Фамилии судей","Судейская категория","Город","Номера пар"]
[]
[null,null,null,1,{"$f":"IF(B8 > 0,INDEX(Re!F9:F32,B8,1),\" \")","v":" "},{"$f":"IF(B8 > 0,INDEX(Re!C9:C32,B8,1),\" \")","v":" "},{"$f":"IF(B8 > 0,INDEX(Re!D9:D32,B8,1),\" \")","v":" "},"руководитель ковра"]
[null,null,null,2,{"$f":"IF(B9 > 0,INDEX(Re!F9:F32,B9,1),\" \")","v":" "},{"$f":"IF(B9 > 0,INDEX(Re!C9:C32,B9,1),\" \")","v":" "},{"$f":"IF(B9 > 0,INDEX(Re!D9:D32,B9,1),\" \")","v":" "},"руководитель ковра"]
[null,null,null,3,{"$f":"IF(B10 > 0,INDEX(Re!F9:F32,B10,1),\" \")","v":" "},{"$f":"IF(B10 > 0,INDEX(Re!C9:C32,B10,1),\" \")","v":" "},{"$f":"IF(B10 > 0,INDEX(Re!D9:D32,B10,1),\" \")","v":" "}]
[null,null,null,4,{"$f":"IF(B11 > 0,INDEX(Re!F9:F32,B11,1),\" \")","v":" "},{"$f":"IF(B11 > 0,INDEX(Re!C9:C32,B11,1),\" \")","v":" "},{"$f":"IF(B11 > 0,INDEX(Re!D9:D32,B11,1),\" \")","v":" "}]
[null,null,null,5,{"$f":"IF(B12 > 0,INDEX(Re!F9:F32,B12,1),\" \")","v":" "},{"$f":"IF(B12 > 0,INDEX(Re!C9:C32,B12,1),\" \")","v":" "},{"$f":"IF(B12 > 0,INDEX(Re!D9:D32,B12,1),\" \")","v":" "}]
[null,null,null,6,{"$f":"IF(B13 > 0,INDEX(Re!F9:F32,B13,1),\" \")","v":" "},{"$f":"IF(B13 > 0,INDEX(Re!C9:C32,B13,1),\" \")","v":" "},{"$f":"IF(B13 > 0,INDEX(Re!D9:D32,B13,1),\" \")","v":" "}]
[null,null,null,7,{"$f":"IF(B14 > 0,INDEX(Re!F9:F32,B14,1),\" \")","v":" "},{"$f":"IF(B14 > 0,INDEX(Re!C9:C32,B14,1),\" \")","v":" "},{"$f":"IF(B14 > 0,INDEX(Re!D9:D32,B14,1),\" \")","v":" "}]
[null,null,null,8,{"$f":"IF(B15 > 0,INDEX(Re!F9:F32,B15,1),\" \")","v":" "},{"$f":"IF(B15 > 0,INDEX(Re!C9:C32,B15,1),\" \")","v":" "},{"$f":"IF(B15 > 0,INDEX(Re!D9:D32,B15,1),\" \")","v":" "}]
[null,null,null,9,{"$f":"IF(B16 > 0,INDEX(Re!F9:F32,B16,1),\" \")","v":" "},{"$f":"IF(B16 > 0,INDEX(Re!C9:C32,B16,1),\" \")","v":" "},{"$f":"IF(B16 > 0,INDEX(Re!D9:D32,B16,1),\" \")","v":" "}]
[null,null,null,10,{"$f":"IF(B17 > 0,INDEX(Re!F9:F32,B17,1),\" \")","v":" "},{"$f":"IF(B17 > 0,INDEX(Re!C9:C32,B17,1),\" \")","v":" "},{"$f":"IF(B17 > 0,INDEX(Re!D9:D32,B17,1),\" \")","v":" "}]
[null,null,null,11,{"$f":"IF(B18 > 0,INDEX(Re!F9:F32,B18,1),\" \")","v":" "},{"$f":"IF(B18 > 0,INDEX(Re!C9:C32,B18,1),\" \")","v":" "},{"$f":"IF(B18 > 0,INDEX(Re!D9:D32,B18,1),\" \")","v":" "}]
[null,null,null,12,{"$f":"IF(B19 > 0,INDEX(Re!F9:F32,B19,1),\" \")","v":" "},{"$f":"IF(B19 > 0,INDEX(Re!C9:C32,B19,1),\" \")","v":" "},{"$f":"IF(B19 > 0,INDEX(Re!D9:D32,B19,1),\" \")","v":" "}]
[null,null,null,13,{"$f":"IF(B20 > 0,INDEX(Re!F9:F32,B20,1),\" \")","v":" "},{"$f":"IF(B20 > 0,INDEX(Re!C9:C32,B20,1),\" \")","v":" "},{"$f":"IF(B20 > 0,INDEX(Re!D9:D32,B20,1),\" \")","v":" "}]
[null,null,null,14,{"$f":"IF(B21 > 0,INDEX(Re!F9:F32,B21,1),\" \")","v":" "},{"$f":"IF(B21 > 0,INDEX(Re!C9:C32,B21,1),\" \")","v":" "},{"$f":"IF(B21 > 0,INDEX(Re!D9:D32,B21,1),\" \")","v":" "}]
[null,null,null,15,{"$f":"IF(B22 > 0,INDEX(Re!F9:F32,B22,1),\" \")","v":" "},{"$f":"IF(B22 > 0,INDEX(Re!C9:C32,B22,1),\" \")","v":" "},{"$f":"IF(B22 > 0,INDEX(Re!D9:D32,B22,1),\" \")","v":" "}]
[null,null,null,16,{"$f":"IF(B23 > 0,INDEX(Re!F9:F32,B23,1),\" \")","v":" "},{"$f":"IF(B23 > 0,INDEX(Re!C9:C32,B23,1),\" \")","v":" "},{"$f":"IF(B23 > 0,INDEX(Re!D9:D32,B23,1),\" \")","v":" "}]
[null,null,null,17,{"$f":"IF(B24 > 0,INDEX(Re!F9:F32,B24,1),\" \")","v":" "},{"$f":"IF(B24 > 0,INDEX(Re!C9:C32,B24,1),\" \")","v":" "},{"$f":"IF(B24 > 0,INDEX(Re!D9:D32,B24,1),\" \")","v":" "}]
[null,null,null,18,{"$f":"IF(B25 > 0,INDEX(Re!F9:F32,B25,1),\" \")","v":" "},{"$f":"IF(B25 > 0,INDEX(Re!C9:C32,B25,1),\" \")","v":" "},{"$f":"IF(B25 > 0,INDEX(Re!D9:D32,B25,1),\" \")","v":" "}]
[null,null,null,19,{"$f":"IF(B26 > 0,INDEX(Re!F9:F32,B26,1),\" \")","v":" "},{"$f":"IF(B26 > 0,INDEX(Re!C9:C32,B26,1),\" \")","v":" "},{"$f":"IF(B26 > 0,INDEX(Re!D9:D32,B26,1),\" \")","v":" "}]
[null,null,null,20,{"$f":"IF(B27 > 0,INDEX(Re!F9:F32,B27,1),\" \")","v":" "},{"$f":"IF(B27 > 0,INDEX(Re!C9:C32,B27,1),\" \")","v":" "},{"$f":"IF(B27 > 0,INDEX(Re!D9:D32,B27,1),\" \")","v":" "}]
[]
[null,null,null,null,"Условные обозначения:   Р - руководитель ковра; А - арбитр ; Б - боковой судья ;  С – секундометрист. "]

{"sheet":"V","index":16,"n_rows":42,"n_cols":9,"rows_kept":42,"cut":false,"hidden":true,"merged":[[9,19,10,19],[0,2,0,8],[0,15,0,21],[3,2,3,8],[2,14,2,22],[2,2,2,8],[3,14,3,22],[1,2,1,8],[9,17,10,17],[7,13,7,23],[9,2,10,2],[4,14,4,22],[7,2,7,8],[9,4,10,4],[9,5,10,5],[9,6,10,6],[4,2,4,8],[5,6,5,8],[9,9,10,9],[9,7,10,7],[9,3,10,3],[9,10,10,14],[9,15,10,15],[9,16,10,16],[9,18,10,18],[9,8,10,8]]}
[null,null,{"$f":"Inf!B2","v":"Федерация спортивной борьбы России"}]
[null,null,{"$f":"Inf!B3","v":"Федерация спортивной борьбы Санкт-Петербурга"}]
[null,null,{"$f":"Inf!B4","v":"ХХХI-Всероссийский турнир по греко-римской борьбе,посвященный памяти ректора Ленинградского финансово-экономического института им.Н.А.Вознесенского /ныне Санкт-Петербургского государственного экономического университета,з.д.н.России Лаврикова Юрия Александровича."}]
[null,null,"ВЫПИСКА "]
[null,null,"из протокола хода соревнований"]
[null,null,null,{"$f":"Inf!B5","v":"20-22  ноября 2023г"},null,null,{"$f":"Inf!F5","v":"Санкт-Петербург"}]
[]
[null,null,"Выписка дана представителю команды (города) ______________________________________"]
[]
[null,null,"№ п/п","Фамилия Имя ","Год рождения","Вес. категория","Колич. участн.","Колич. побед","Место"]
[]
[null,null,1]
[null,null,2]
[null,null,3]
[null,null,4]
[null,null,5]
[null,null,6]
[null,null,7]
[null,null,8]
[null,null,9]
[null,null,10]
[null,null,11]
[null,null,12]
[null,null,10]
[null,null,11]
[null,null,12]
[null,null,13]
[null,null,14]
[null,null,15]
[null,null,16]
[null,null,17]
[null,null,18]
[null,null,19]
[null,null,20]
[]
[]
[]
[null,null,null,{"$f":"Inf!B7","v":"Главный судья соревнований"},null,null,{"$f":"Inf!F7","v":"АПОЙКО Р.Н."}]
[null,null,null,{"$f":"Inf!B8","v":"ССВК-МК"},null,null,{"$f":"Inf!F8","v":"Санкт-Петербург"}]
[]
[null,null,null,{"$f":"Inf!B10","v":"Главный секретарь соревнований"},null,null,{"$f":"Inf!F10","v":"СОКОЛОВ А.В."}]
[null,null,null,{"$f":"Inf!B11","v":"ССВК-МК"},null,null,{"$f":"Inf!F11","v":"Санкт-Петербург"}]

{"sheet":"Mat_A","index":17,"n_rows":119,"n_cols":27,"rows_kept":119,"cut":false,"hidden":true,"merged":[[10,1,10,2],[10,3,10,17],[10,19,10,26],[1,1,1,26],[3,1,3,26],[5,1,5,7],[5,20,5,26],[7,1,7,2],[7,3,7,17],[7,19,7,26],[8,1,8,2],[8,3,8,17],[8,19,8,26],[9,1,9,2],[9,3,9,17],[58,1,58,2],[58,3,58,17],[11,1,11,2],[11,3,11,17],[11,19,11,26],[13,1,13,3],[13,4,13,8],[13,10,13,12],[13,13,13,17],[13,19,13,21],[13,22,13,26],[55,3,55,8],[55,12,55,17],[55,21,55,26],[57,1,57,2],[57,3,57,17],[62,22,62,26],[59,1,59,2],[59,3,59,17],[59,19,59,26],[60,1,60,2],[60,3,60,17],[60,19,60,26],[62,1,62,3],[62,4,62,8],[62,10,62,12],[62,13,62,17],[62,19,62,21],[118,1,118,26],[114,3,114,8],[114,12,114,17],[114,21,114,26],[116,1,116,2],[116,3,116,17],[116,19,116,26]]}
[]
[null,"Распорядок дня - The work schedule "]
[]
[null,{"$f":"Inf!B4","v":"ХХХI-Всероссийский турнир по греко-римской борьбе,посвященный памяти ректора Ленинградского финансово-экономического института им.Н.А.Вознесенского /ныне Санкт-Петербургского государственного экономического университета,з.д.н.России Лаврикова Юрия Александровича."}]
[]
[null,"дата проведения",null,null,null,null,null,null,null,null,null,null,null,null,null,null,null,null,null,null,{"$f":"Inf!F5","v":"Санкт-Петербург"}]
[]
[null,"08.00-08.30",null,"Медицинский контроль и 2 взвешивание борцов - Medical control and II weighing of wrestlers",null,null,null,null,null,null,null,null,null,null,null,null,null,null,null,"44, 55, 66, 77, 88, 99 кг"]
[null,"08.00-08.30",null,"Медицинский контроль и 1 взвешивание борцов - Medical control and I weighing of wrestlers",null,null,null,null,null,null,null,null,null,null,null,null,null,null,null,"22, 33, 44, 55, 66, 77 кг"]
[null,"10.00-10.30",null,"Торжественное открытие соревнований - Opening ceremony"]
[null,"10.00-16.45",null,"Утешительные поединки - Repechage rounds ",null,null,null,null,null,null,null,null,null,null,null,null,null,null,null,{"$f":"T8","v":"44, 55, 66, 77, 88, 99 кг"}]
[null,"10.00-16.45",null,"Предварительные поединки - Preliminary rounds ",null,null,null,null,null,null,null,null,null,null,null,null,null,null,null,{"$f":"T9","v":"22, 33, 44, 55, 66, 77 кг"}]
[]
[null,"Mat А",null,null,"59, 71, 80, 98, 130",null,null,null,null,null,"Mat В",null,null,"59, 71, 80, 98, 130",null,null,null,null,null,"Mat A",null,null,"59, 71, 80, 98, 130"]
[null,0,"квалиф",null,"(",1,"-",{"$f":"F15+D15-1","v":0},")",null,0,"квалиф",null,"(",{"$f":"H54+1","v":1},"-",{"$f":"O15+M15-1","v":0},")",null,0,"1/4 ф ",null,"(",{"$f":"Q54+1","v":1},"-",{"$f":"X15+V15-1","v":0},")"]
[null,0,"квалиф",null,"(",{"$f":"H15+1","v":1},"-",{"$f":"F16+D16-1","v":0},")",null,0,"квалиф",null,"(",{"$f":"Q15+1","v":1},"-",{"$f":"O16+M16-1","v":0},")",null,{"$f":"X14","v":0},"1/4 ф ",null,"(",{"$f":"Z15+1","v":1},"-",{"$f":"X16+V16-1","v":0},")"]
[null,0,"квалиф",null,"(",{"$f":"H16+1","v":1},"-",{"$f":"F17+D17-1","v":0},")",null,0,"квалиф",null,"(",{"$f":"Q16+1","v":1},"-",{"$f":"O17+M17-1","v":0},")",null,{"$f":"Y14","v":0},"1/4 ф ",null,"(",{"$f":"Z16+1","v":1},"-",{"$f":"X17+V17-1","v":0},")"]
[null,0,"квалиф",null,"(",1,"-",{"$f":"F18+D18-1","v":0},")",null,0,"квалиф",null,"(",1,"-",{"$f":"O18+M18-1","v":0},")",null,0,"1/4 ф ",null,"(",1,"-",{"$f":"X18+V18-1","v":0},")"]
[null,0,"квалиф",null,"(",1,"-",{"$f":"F19+D19-1","v":0},")",null,0,"квалиф",null,"(",1,"-",{"$f":"O19+M19-1","v":0},")",null,{"$f":"AA14","v":0},"1/4 ф ",null,"(",1,"-",{"$f":"X19+V19-1","v":0},")"]
[null,0,"квалиф",null,"(",1,"-",0,")",null,0,"1/16 ф ",null,"(",1,"-",0,")",null,{"$f":"T15","v":0},"1/4 ф ",null,"(",1,"-",0,")"]
[null,0,"квалиф",null,"(",1,"-",0,")",null,0,"1/16 ф ",null,"(",1,"-",0,")",null,{"$f":"T16","v":0},"1/4 ф ",null,"(",1,"-",0,")"]
[null,0,"квалиф",null,"(",1,"-",0,")",null,0,"1/16 ф ",null,"(",1,"-",0,")",null,0,"1/4 ф ",null,"(",1,"-",0,")"]
[null,0,"1/16 ф ",null,"(",1,"-",0,")",null,0,"1/16 ф ",null,"(",1,"-",0,")",null,0,"1/2 ф ",null,"(",1,"-",0,")"]
[null,0,"1/16 ф ",null,"(",1,"-",0,")",null,0,"1/16 ф ",null,"(",1,"-",0,")",null,0,"1/2 ф ",null,"(",1,"-",0,")"]
[null,0,"1/16 ф ",null,"(",1,"-",0,")",null,0,"1/8 ф ",null,"(",1,"-",0,")",null,0,"1/2 ф ",null,"(",1,"-",0,")"]
[null,0,"1/16 ф ",null,"(",1,"-",0,")",null,0,"1/8 ф ",null,"(",1,"-",0,")",null,0,"1/2 ф ",null,"(",1,"-",0,")"]
[null,0,"1/16 ф ",null,"(",1,"-",{"$f":"F27+D27-1","v":0},")",null,0,"1/8 ф ",null,"(",1,"-",{"$f":"O27+M27-1","v":0},")",null,0,"1/2 ф ",null,"(",1,"-",{"$f":"X27+V27-1","v":0},")"]
[null,0,"1/16 ф ",null,"(",1,"-",{"$f":"F28+D28-1","v":0},")",null,0,"1/8 ф ",null,"(",1,"-",{"$f":"O28+M28-1","v":0},")",null,0,"1/2 ф ",null,"(",1,"-",{"$f":"X28+V28-1","v":0},")"]
[null,0,"1/16 ф ",null,"(",1,"-",{"$f":"F29+D29-1","v":0},")",null,0,"1/8 ф ",null,"(",1,"-",{"$f":"O29+M29-1","v":0},")",null,0,"1/2 ф ",null,"(",1,"-",{"$f":"X29+V29-1","v":0},")"]
[null,0,"1/16 ф ",null,"(",1,"-",{"$f":"F30+D30-1","v":0},")",null,0,"1/4 ф",null,"(",1,"-",{"$f":"O30+M30-1","v":0},")",null,0,"1/2 ф ",null,"(",1,"-",{"$f":"X30+V30-1","v":0},")"]
[null,0,"1/8 ф ",null,"(",1,"-",0,")",null,0,"1/4 ф",null,"(",1,"-",0,")",null,0,"утеш 1",null,"(",1,"-",0,")"]
[null,0,"1/8 ф ",null,"(",1,"-",0,")",null,0,"1/4 ф",null,"(",1,"-",0,")",null,0,"утеш 1",null,"(",1,"-",0,")"]
[null,0,"1/8 ф ",null,"(",1,"-",0,")",null,0,"1/4 ф",null,"(",1,"-",0,")",null,0,"утеш 1",null,"(",1,"-",0,")"]
[null,0,"1/8 ф ",null,"(",1,"-",0,")",null,0,"1/4 ф",null,"(",1,"-",0,")",null,0,"утеш 1",null,"(",1,"-",0,")"]
[null,0,"1/8 ф ",null,"(",1,"-",0,")",null,0,"1/2 ф ",null,"(",1,"-",0,")",null,0,"утеш 1",null,"(",1,"-",0,")"]
[null,0,"1/8 ф ",null,"(",1,"-",0,")",null,0,"1/2 ф ",null,"(",1,"-",0,")",null,0,"утеш 1",null,"(",1,"-",0,")"]
[null,0,"1/8 ф ",null,"(",1,"-",0,")",null,0,"1/2 ф ",null,"(",1,"-",0,")",null,0,"утеш 1",null,"(",1,"-",0,")"]
[null,0,"1/8 ф ",null,"(",1,"-",0,")",null,0,"1/2 ф ",null,"(",1,"-",0,")",null,0,"утеш 1",null,"(",1,"-",0,")"]
[null,0,"1/8 ф ",null,"(",1,"-",0,")",null,0,"1/2 ф ",null,"(",1,"-",0,")",null,0,"утеш 1",null,"(",1,"-",0,")"]
[null,0,"ут 1",null,"(",1,"-",0,")",null,0,"ут 1",null,"(",1,"-",0,")",null,0,"ут 1",null,"(",1,"-",0,")"]
[null,0,"ут 1",null,"(",1,"-",0,")",null,0,"ут 1",null,"(",1,"-",0,")",null,0,"ут 1",null,"(",1,"-",0,")"]
[null,0,"ут 1",null,"(",1,"-",0,")",null,0,"ут 1",null,"(",1,"-",0,")",null,0,"ут 1",null,"(",1,"-",0,")"]
[null,0,"ут 1",null,"(",1,"-",0,")",null,0,"ут 1",null,"(",1,"-",0,")",null,0,"ут 2",null,"(",1,"-",0,")"]
[null,0,"ут 1",null,"(",1,"-",0,")",null,0,"ут 1",null,"(",1,"-",0,")",null,0,"ут 1",null,"(",1,"-",0,")"]
[null,0,"ут 2",null,"(",1,"-",0,")",null,0,"ут 2",null,"(",1,"-",0,")",null,0,"ут 2",null,"(",1,"-",0,")"]
[null,0,"ут 2",null,"(",1,"-",0,")",null,0,"ут 2",null,"(",1,"-",0,")",null,0,"ут 2",null,"(",1,"-",0,")"]
[null,0,"ут 2",null,"(",1,"-",0,")",null,0,"ут 2",null,"(",1,"-",0,")",null,0,"ут 2",null,"(",1,"-",0,")"]
[null,0,"ут 2",null,"(",1,"-",0,")",null,0,"ут 2",null,"(",1,"-",0,")",null,0,"ут 2",null,"(",1,"-",0,")"]
[null,0,"ут 2",null,"(",1,"-",0,")",null,0,"ут 2",null,"(",1,"-",0,")",null,0,"ут 2",null,"(",1,"-",0,")"]
[null,0,"ут 3",null,"(",1,"-",0,")",null,0,"ут 3",null,"(",1,"-",0,")",null,0,"ут 3",null,"(",1,"-",0,")"]
[null,0,"ут 3",null,"(",1,"-",0,")",null,0,"ут 3",null,"(",1,"-",0,")",null,0,"ут 3",null,"(",1,"-",0,")"]
[null,0,"ут 3",null,"(",1,"-",0,")",null,0,"ут 3",null,"(",1,"-",0,")",null,0,"ут 3",null,"(",1,"-",0,")"]
[null,0,"ут 3",null,"(",1,"-",0,")",null,0,"ут 3",null,"(",1,"-",0,")",null,0,"ут 4",null,"(",1,"-",0,")"]
[null,0,"ут 3",null,"(",1,"-",0,")",null,0,"ут 3",null,"(",1,"-",0,")",null,0,"ут 3",null,"(",1,"-",0,")"]
[]
[null,null,null,{"$f":"SUM(D15:D55)","v":0},null,null,null,null,null,null,null,null,{"$f":"SUM(M15:M54)","v":0},null,null,null,null,null,null,null,null,{"$f":"SUM(V15:V54)","v":0}]
[]
[null,"14.30-16.00",null,"Перерыв - Break"]
[null,"17.00-17.30",null,"Торжественное открытие соревнований - Opening ceremony"]
[null,"17.30-18.00",null,"Жеребьевка спортсменов - Drawing of athletes",null,null,null,null,null,null,null,null,null,null,null,null,null,null,null,"22, 33, 44, 55, 66, 77 кг"]
[null,"18.00-20.00",null,"Финальные поединки - Final rounds",null,null,null,null,null,null,null,null,null,null,null,null,null,null,null,{"$f":"T11","v":"44, 55, 66, 77, 88, 99 кг"}]
[]
[null,"Mat А",null,null,"59, 71, 80, 98, 130",null,null,null,null,null,"Mat В",null,null,"59, 71, 80, 98, 130",null,null,null,null,null,{"$f":"T14","v":"Mat A"},null,null,"59, 71, 80, 98, 130"]
[null,45,"Fin 3",null,"(",{"$f":"Z54+1","v":1},"-",{"$f":"F64+D64-1","v":0},")",null,45,"Fin 3",null,"(",{"$f":"H113+1","v":1},"-",{"$f":"O64+M64-1","v":0},")",null,null,"Fin 3",null,"(",{"$f":"Q113+1","v":1},"-",{"$f":"X64+V64-1","v":0},")"]
[null,45,"Fin 3",null,"(",{"$f":"H64+1","v":1},"-",{"$f":"F65+D65-1","v":0},")",null,45,"Fin 3",null,"(",{"$f":"Q64+1","v":1},"-",{"$f":"O65+M65-1","v":0},")",null,null,"Fin 3",null,"(",{"$f":"Z64+1","v":1},"-",{"$f":"X65+V65-1","v":0},")"]
[null,45,"Fin 3",null,"(",{"$f":"H65+1","v":1},"-",0,")",null,45,"Fin 3",null,"(",{"$f":"Q65+1","v":1},"-",0,")",null,null,"Fin 3",null,"(",{"$f":"Z65+1","v":1},"-",0,")"]
[null,45,"Fin 3",null,"(",1,"-",0,")",null,45,"Fin 3",null,"(",1,"-",0,")",null,null,"Fin 3",null,"(",1,"-",0,")"]
[null,45,"Fin 3",null,"(",1,"-",0,")",null,45,"Fin 3",null,"(",1,"-",0,")",null,null,"Fin 3",null,"(",1,"-",0,")"]
[null,45,"Fin 3",null,"(",1,"-",0,")",null,45,"Fin 3",null,"(",1,"-",0,")",null,null,"Fin 3",null,"(",1,"-",0,")"]
[null,45,"Fin 3",null,"(",1,"-",0,")",null,45,"Fin 3",null,"(",1,"-",0,")",null,null,"Fin 3",null,"(",1,"-",0,")"]
[null,45,"Fin 3",null,"(",1,"-",0,")",null,45,"Fin 3",null,"(",1,"-",0,")",null,null,"Fin 3",null,"(",1,"-",0,")"]
[null,45,"Fin 3",null,"(",1,"-",0,")",null,45,"Fin 3",null,"(",1,"-",0,")",null,null,"Fin 3",null,"(",1,"-",0,")"]
[null,45,"Fin 1",null,"(",1,"-",0,")",null,45,"Fin 1",null,"(",1,"-",0,")",null,null,"Fin 1",null,"(",1,"-",0,")"]
[null,45,"Fin 1",null,"(",1,"-",0,")",null,45,"Fin 1",null,"(",1,"-",0,")",null,null,"Fin 1",null,"(",1,"-",0,")"]
[null,45,"Fin 1",null,"(",1,"-",0,")",null,45,"Fin 1",null,"(",1,"-",0,")",null,null,"Fin 1",null,"(",1,"-",0,")"]
[null,45,"Fin 1",null,"(",1,"-",0,")",null,45,"Fin 1",null,"(",1,"-",{"$f":"O76+M76-1","v":0},")",null,null,"Fin 1",null,"(",1,"-",0,")"]
[null,45,"Fin 1",null,"(",1,"-",0,")",null,45,"Fin 1",null,"(",1,"-",{"$f":"O77+M77-1","v":0},")",null,null,"Fin 1",null,"(",1,"-",0,")"]
[null,45,"Fin 1",null,"(",1,"-",0,")",null,45,"Fin 1",null,"(",1,"-",0,")",null,null,"Fin 1",null,"(",1,"-",0,")"]
[null,45,"Fin 1",null,"(",1,"-",0,")",null,45,"Fin 1",null,"(",1,"-",0,")",null,null,"Fin 1",null,"(",1,"-",0,")"]
[null,45,"Fin 1",null,"(",1,"-",0,")",null,45,"Fin 1",null,"(",1,"-",0,")",null,null,"Fin 1",null,"(",1,"-",0,")"]
[null,45,"Fin 1",null,"(",1,"-",0,")",null,45,"Fin 1",null,"(",1,"-",0,")",null,null,"Fin 1",null,"(",1,"-",0,")"]
[null,45,"Fin 1",null,"(",1,"-",0,")",null,45,"Fin 1",null,"(",1,"-",0,")",null,null,"Fin 1",null,"(",1,"-",0,")"]
[null,45,"Fin 1",null,"(",1,"-",0,")",null,45,"Fin 1",null,"(",1,"-",0,")",null,null,"Fin 1",null,"(",1,"-",0,")"]
[null,45,"Fin 1",null,"(",1,"-",0,")",null,45,"Fin 1",null,"(",1,"-",0,")",null,null,"Fin 1",null,"(",1,"-",0,")"]
[null,45,"Fin 1",null,"(",1,"-",0,")",null,45,"Fin 1",null,"(",1,"-",0,")",null,null,"Fin 1",null,"(",1,"-",0,")"]
[null,45,"Fin 1",null,"(",1,"-",0,")",null,45,"Fin 1",null,"(",1,"-",0,")",null,null,"Fin 1",null,"(",1,"-",0,")"]
[null,45,"Fin 1",null,"(",1,"-",0,")",null,45,"Fin 1",null,"(",1,"-",0,")",null,null,"Fin 1",null,"(",1,"-",0,")"]
[null,45,"Fin 1",null,"(",1,"-",0,")",null,45,"Fin 1",null,"(",1,"-",0,")",null,null,"Fin 1",null,"(",1,"-",0,")"]
[null,45,"Fin 3",null,"(",1,"-",0,")",null,45,"Fin 1",null,"(",1,"-",0,")",null,45,"Fin 3",null,"(",1,"-",0,")"]
[null,45,"Fin 1",null,"(",1,"-",0,")",null,45,"Fin 1",null,"(",1,"-",0,")",null,45,"Fin 1",null,"(",1,"-",0,")"]
[null,45,"Fin 3",null,"(",1,"-",0,")",null,45,"Fin 1",null,"(",1,"-",0,")",null,45,"Fin 3",null,"(",1,"-",0,")"]
[null,45,"Fin 1",null,"(",1,"-",0,")",null,45,"Fin 1",null,"(",1,"-",0,")",null,45,"Fin 1",null,"(",1,"-",0,")"]
[null,45,"Fin 3",null,"(",1,"-",0,")",null,45,"Fin 1",null,"(",1,"-",0,")",null,45,"Fin 3",null,"(",1,"-",0,")"]
[null,45,"Fin 1",null,"(",1,"-",0,")",null,45,"Fin 1",null,"(",1,"-",0,")",null,45,"Fin 1",null,"(",1,"-",0,")"]
[null,45,"Fin 3",null,"(",1,"-",0,")",null,45,"Fin 1",null,"(",1,"-",0,")",null,45,"Fin 3",null,"(",1,"-",0,")"]
[null,45,"Fin 1",null,"(",1,"-",0,")",null,45,"Fin 1",null,"(",1,"-",0,")",null,45,"Fin 1",null,"(",1,"-",0,")"]
[null,45,"Fin 3",null,"(",1,"-",0,")",null,45,"Fin 1",null,"(",1,"-",0,")",null,45,"Fin 3",null,"(",1,"-",0,")"]
[null,45,"Fin 1",null,"(",1,"-",0,")",null,45,"Fin 1",null,"(",1,"-",0,")",null,45,"Fin 1",null,"(",1,"-",0,")"]
[null,45,"Fin 3",null,"(",1,"-",0,")",null,45,"Fin 1",null,"(",1,"-",0,")",null,45,"Fin 3",null,"(",1,"-",0,")"]
[null,45,"Fin 1",null,"(",1,"-",0,")",null,45,"Fin 1",null,"(",1,"-",0,")",null,45,"Fin 1",null,"(",1,"-",0,")"]
[null,45,"Fin 3",null,"(",1,"-",0,")",null,45,"Fin 1",null,"(",1,"-",0,")",null,45,"Fin 3",null,"(",1,"-",0,")"]
[null,45,"Fin 1",null,"(",1,"-",0,")",null,45,"Fin 1",null,"(",1,"-",0,")",null,45,"Fin 1",null,"(",1,"-",0,")"]
[null,45,"Fin 3",null,"(",1,"-",0,")",null,45,"Fin 1",null,"(",1,"-",0,")",null,45,"Fin 3",null,"(",1,"-",0,")"]
[null,45,"Fin 1",null,"(",1,"-",0,")",null,45,"Fin 1",null,"(",1,"-",0,")",null,45,"Fin 1",null,"(",1,"-",0,")"]
[null,45,"Fin 3",null,"(",1,"-",0,")",null,45,"Fin 1",null,"(",1,"-",0,")",null,45,"Fin 3",null,"(",1,"-",0,")"]
[null,45,"Fin 1",null,"(",1,"-",0,")",null,45,"Fin 1",null,"(",1,"-",0,")",null,45,"Fin 1",null,"(",1,"-",0,")"]
[null,45,"Fin 3",null,"(",1,"-",0,")",null,45,"Fin 1",null,"(",1,"-",0,")",null,45,"Fin 3",null,"(",1,"-",0,")"]
[null,45,"Fin 1",null,"(",1,"-",0,")",null,45,"Fin 1",null,"(",1,"-",0,")",null,45,"Fin 1",null,"(",1,"-",0,")"]
[null,45,"Fin 3",null,"(",1,"-",0,")",null,45,"Fin 1",null,"(",1,"-",0,")",null,45,"Fin 3",null,"(",1,"-",0,")"]
[null,45,"Fin 1",null,"(",1,"-",0,")",null,45,"Fin 1",null,"(",1,"-",0,")",null,45,"Fin 1",null,"(",1,"-",0,")"]
[null,45,"Fin 1",null,"(",1,"-",0,")",null,45,"Fin 1",null,"(",1,"-",0,")",null,45,"Fin 3",null,"(",1,"-",0,")"]
[null,45,"Fin 1",null,"(",1,"-",0,")",null,45,"Fin 1",null,"(",1,"-",0,")",null,45,"Fin 1",null,"(",1,"-",0,")"]
[null,45,"Fin 1",null,"(",1,"-",0,")",null,45,"Fin 1",null,"(",1,"-",0,")",null,45,"Fin 1",null,"(",1,"-",0,")"]
[]
[null,null,null,{"$f":"SUM(D64:D113)","v":0},null,null,null,null,null,null,null,null,{"$f":"SUM(M64:M113)","v":0},null,null,null,null,null,null,null,null,{"$f":"SUM(V64:V113)","v":0}]
[]
[null,"20.00-20.30",null,"Награждение победителей и призеров - Rewarding of winners and prize-winners",null,null,null,null,null,null,null,null,null,null,null,null,null,null,null,{"$f":"T61","v":"44, 55, 66, 77, 88, 99 кг"}]
[]
[null,"Внимание! В программе могут быть изменения - Attention! Тhe program can be changed!"]

{"sheet":"AB","index":18,"n_rows":119,"n_cols":27,"rows_kept":119,"cut":false,"hidden":true,"merged":[[10,1,10,2],[10,3,10,17],[10,19,10,26],[1,1,1,26],[3,1,3,26],[5,1,5,7],[5,20,5,26],[7,1,7,2],[7,3,7,17],[7,19,7,26],[8,1,8,2],[8,3,8,17],[8,19,8,26],[9,1,9,2],[9,3,9,17],[58,1,58,2],[58,3,58,17],[11,1,11,2],[11,3,11,17],[11,19,11,26],[13,1,13,3],[13,4,13,8],[13,10,13,12],[13,13,13,17],[13,19,13,21],[13,22,13,26],[55,3,55,8],[55,12,55,17],[55,21,55,26],[57,1,57,2],[57,3,57,17],[62,22,62,26],[59,1,59,2],[59,3,59,17],[59,19,59,26],[60,1,60,2],[60,3,60,17],[60,19,60,26],[62,1,62,3],[62,4,62,8],[62,10,62,12],[62,13,62,17],[62,19,62,21],[118,1,118,26],[114,3,114,8],[114,12,114,17],[114,21,114,26],[116,1,116,2],[116,3,116,17],[116,19,116,26]]}
[]
[null,"Распорядок дня - The work schedule "]
[]
[null,{"$f":"Inf!B4","v":"ХХХI-Всероссийский турнир по греко-римской борьбе,посвященный памяти ректора Ленинградского финансово-экономического института им.Н.А.Вознесенского /ныне Санкт-Петербургского государственного экономического университета,з.д.н.России Лаврикова Юрия Александровича."}]
[]
[null,"20-22ноября 2023г.",null,null,null,null,null,null,null,null,null,null,null,null,null,null,null,null,null,null,{"$f":"Inf!F5","v":"Санкт-Петербург"}]
[]
[null,"09.00-09.30",null,"Медицинский контроль и 2 взвешивание борцов - Medical control and II weighing of wrestlers",null,null,null,null,null,null,null,null,null,null,null,null,null,null,null,"44, 55, 66, 77, 88, 99 кг"]
[null,"08.00-08.30",null,"Медицинский контроль и 1 взвешивание борцов - Medical control and I weighing of wrestlers",null,null,null,null,null,null,null,null,null,null,null,null,null,null,null,"22, 33, 44, 55, 66, 77 кг"]
[null,"10.00-10.30",null,"Торжественное открытие соревнований - Opening ceremony"]
[null,"11.00-14.30",null,"Утешительные поединки - Repechage rounds ",null,null,null,null,null,null,null,null,null,null,null,null,null,null,null,{"$f":"T8","v":"44, 55, 66, 77, 88, 99 кг"}]
[null,"10.00-16.45",null,"Предварительные поединки - Preliminary rounds ",null,null,null,null,null,null,null,null,null,null,null,null,null,null,null,{"$f":"T9","v":"22, 33, 44, 55, 66, 77 кг"}]
[]
[null,"Mat А",null,null,"82, 77, 67, 87, 60",null,null,null,null,null,"Mat В",null,null,"59, 71, 80, 98, 130",null,null,null,null,null,"Mat B",null,null,"72,97, 60, 130, 63"]
[null,72,"квалиф",10,"(",1,"-",{"$f":"F15+D15-1","v":10},")",null,0,"квалиф",null,"(",{"$f":"H54+1","v":82},"-",{"$f":"O15+M15-1","v":81},")",null,77,"квалиф",3,"(",{"$f":"Q54+1","v":82},"-",{"$f":"X15+V15-1","v":84},")"]
[null,82,"квалиф",3,"(",{"$f":"H15+1","v":11},"-",{"$f":"F16+D16-1","v":13},")",null,0,"квалиф",null,"(",{"$f":"Q15+1","v":82},"-",{"$f":"O16+M16-1","v":81},")",null,63,"квалиф",6,"(",{"$f":"Z15+1","v":85},"-",{"$f":"X16+V16-1","v":90},")"]
[null,55,"1круг",2,"(",{"$f":"H16+1","v":14},"-",{"$f":"F17+D17-1","v":15},")",null,0,"квалиф",null,"(",{"$f":"Q16+1","v":82},"-",{"$f":"O17+M17-1","v":81},")",null,67,"квалиф",5,"(",{"$f":"Z16+1","v":91},"-",{"$f":"X17+V17-1","v":95},")"]
[null,87,"квалиф",4,"(",16,"-",{"$f":"F18+D18-1","v":19},")",null,0,"квалиф",null,"(",82,"-",{"$f":"O18+M18-1","v":81},")",null,130,"квалиф",4,"(",96,"-",{"$f":"X18+V18-1","v":99},")"]
[null,60,"квалиф",3,"(",20,"-",{"$f":"F19+D19-1","v":22},")",null,0,"квалиф",null,"(",82,"-",{"$f":"O19+M19-1","v":81},")",null,97,"квалиф",3,"(",100,"-",{"$f":"X19+V19-1","v":102},")"]
[null,0,"1/16 ф ",null,"(",23,"-",22,")",null,0,"1/16 ф ",null,"(",82,"-",81,")",null,{"$f":"T15","v":77},"1/16 ф ",null,"(",103,"-",102,")"]
[null,0,"1/16 ф ",null,"(",23,"-",22,")",null,0,"1/16 ф ",null,"(",82,"-",81,")",null,{"$f":"T16","v":63},"1/16 ф ",null,"(",103,"-",102,")"]
[null,0,"1/16 ф ",null,"(",23,"-",22,")",null,0,"1/16 ф ",null,"(",82,"-",81,")",null,67,"1/16 ф ",null,"(",103,"-",102,")"]
[null,0,"1/16 ф ",null,"(",23,"-",22,")",null,0,"1/16 ф ",null,"(",82,"-",81,")",null,130,"1/16 ф ",null,"(",103,"-",102,")"]
[null,0,"1/16 ф ",null,"(",23,"-",22,")",null,0,"1/16 ф ",null,"(",82,"-",81,")",null,97,"1/16 ф ",null,"(",103,"-",102,")"]
[null,72,"1/8 ф ",8,"(",23,"-",30,")",null,0,"1/8 ф ",null,"(",82,"-",81,")",null,77,"1/8 ф ",8,"(",103,"-",110,")"]
[null,82,"1/8 ф ",8,"(",31,"-",38,")",null,0,"1/8 ф ",null,"(",82,"-",81,")",null,63,"1/8 ф ",null,"(",111,"-",110,")"]
[null,0,"1/8 ф ",null,"(",39,"-",{"$f":"F27+D27-1","v":38},")",null,0,"1/8 ф ",null,"(",82,"-",{"$f":"O27+M27-1","v":81},")",null,67,"1/8 ф ",null,"(",111,"-",{"$f":"X27+V27-1","v":110},")"]
[null,0,"1/8 ф ",null,"(",39,"-",{"$f":"F28+D28-1","v":38},")",null,0,"1/8 ф ",null,"(",82,"-",{"$f":"O28+M28-1","v":81},")",null,130,"1/8 ф ",null,"(",111,"-",{"$f":"X28+V28-1","v":110},")"]
[null,0,"1/8 ф ",null,"(",39,"-",{"$f":"F29+D29-1","v":38},")",null,0,"1/8 ф ",null,"(",82,"-",{"$f":"O29+M29-1","v":81},")",null,97,"1/8 ф ",null,"(",111,"-",{"$f":"X29+V29-1","v":110},")"]
[null,72,"1/4 ф",4,"(",39,"-",{"$f":"F30+D30-1","v":42},")",null,0,"1/4 ф",null,"(",82,"-",{"$f":"O30+M30-1","v":81},")",null,77,"1/4 ф",4,"(",111,"-",{"$f":"X30+V30-1","v":114},")"]
[null,82,"1/4 ф",4,"(",43,"-",46,")",null,0,"1/4 ф",null,"(",82,"-",81,")",null,63,"1/4 ф",4,"(",115,"-",118,")"]
[null,55,"2круг",2,"(",47,"-",48,")",null,0,"1/4 ф",null,"(",82,"-",81,")",null,67,"1/4 ф",4,"(",119,"-",122,")"]
[null,87,"1/4 ф",4,"(",49,"-",52,")",null,0,"1/4 ф",null,"(",82,"-",81,")",null,130,"1/4 ф",4,"(",123,"-",126,")"]
[null,60,"1/4 ф",4,"(",53,"-",56,")",null,0,"1/4 ф",null,"(",82,"-",81,")",null,97,"1/4 ф",4,"(",127,"-",130,")"]
[null,72,"1/2 ф ",2,"(",57,"-",58,")",null,0,"1/2 ф ",null,"(",82,"-",81,")",null,77,"1/2 ф ",2,"(",131,"-",132,")"]
[null,82,"1/2 ф ",2,"(",59,"-",60,")",null,0,"1/2 ф ",null,"(",82,"-",81,")",null,63,"1/2 ф ",2,"(",133,"-",134,")"]
[null,55,"3круг",2,"(",61,"-",62,")",null,0,"1/2 ф ",null,"(",82,"-",81,")",null,67,"1/2 ф ",2,"(",135,"-",136,")"]
[null,87,"1/2 ф ",2,"(",63,"-",64,")",null,0,"1/2 ф ",null,"(",82,"-",81,")",null,130,"1/2 ф ",2,"(",137,"-",138,")"]
[null,60,"1/2 ф ",2,"(",65,"-",66,")",null,0,"1/2 ф ",null,"(",82,"-",81,")",null,97,"1/2 ф ",2,"(",139,"-",140,")"]
[null,72,"ут 1",2,"(",67,"-",68,")",null,0,"ут 1",null,"(",82,"-",81,")",null,77,"ут 1",2,"(",141,"-",142,")"]
[null,82,"ут 1",2,"(",69,"-",70,")",null,0,"ут 1",null,"(",82,"-",81,")",null,63,"ут 1",2,"(",143,"-",144,")"]
[null,55,"4круг",2,"(",71,"-",72,")",null,0,"ут 1",null,"(",82,"-",81,")",null,67,"ут 1",2,"(",145,"-",146,")"]
[null,87,"ут 1",1,"(",73,"-",73,")",null,0,"ут 1",null,"(",82,"-",81,")",null,130,"ут 2",1,"(",147,"-",147,")"]
[null,60,"ут 1",1,"(",74,"-",74,")",null,0,"ут 1",null,"(",82,"-",81,")",null,97,"ут 1",1,"(",148,"-",148,")"]
[null,72,"ут 2",2,"(",75,"-",76,")",null,0,"ут 2",null,"(",82,"-",81,")",null,77,"ут 2",1,"(",149,"-",149,")"]
[null,82,"ут 2",1,"(",77,"-",77,")",null,0,"ут 2",null,"(",82,"-",81,")",null,63,"ут 2",null,"(",150,"-",149,")"]
[null,55,"5круг",2,"(",78,"-",79,")",null,0,"ут 2",null,"(",82,"-",81,")",null,67,"ут 2",null,"(",150,"-",149,")"]
[null,0,"ут 2",null,"(",80,"-",79,")",null,0,"ут 2",null,"(",82,"-",81,")",null,130,"ут 2",null,"(",150,"-",149,")"]
[null,0,"ут 2",null,"(",80,"-",79,")",null,0,"ут 2",null,"(",82,"-",81,")",null,97,"ут 2",null,"(",150,"-",149,")"]
[null,0,"ут 3",null,"(",80,"-",79,")",null,0,"ут 3",null,"(",82,"-",81,")",null,77,"ут 3",null,"(",150,"-",149,")"]
[null,0,"ут 3",null,"(",80,"-",79,")",null,0,"ут 3",null,"(",82,"-",81,")",null,63,"ут 3",null,"(",150,"-",149,")"]
[null,0,"ут 3",null,"(",80,"-",79,")",null,0,"ут 3",null,"(",82,"-",81,")",null,67,"ут 3",null,"(",150,"-",149,")"]
[null,0,"ут 3",null,"(",80,"-",79,")",null,0,"ут 3",null,"(",82,"-",81,")",null,130,"ут 4",null,"(",150,"-",149,")"]
[null,82,"ут 3",2,"(",80,"-",81,")",null,0,"ут 3",null,"(",82,"-",81,")",null,97,"ут 3",null,"(",150,"-",149,")"]
[]
[null,null,null,{"$f":"SUM(D15:D55)","v":81},null,null,null,null,null,null,null,null,{"$f":"SUM(M15:M54)","v":0},null,null,null,null,null,null,null,null,{"$f":"SUM(V15:V54)","v":68}]
[]
[null,"14.30-16.00",null,"Перерыв - Break"]
[null,"17.00-17.30",null,"Торжественное открытие соревнований - Opening ceremony"]
[null,"17.30-18.00",null,"Жеребьевка спортсменов - Drawing of athletes",null,null,null,null,null,null,null,null,null,null,null,null,null,null,null,"22, 33, 44, 55, 66, 77 кг"]
[null,"18.00-20.00",null,"Финальные поединки - Final rounds",null,null,null,null,null,null,null,null,null,null,null,null,null,null,null,{"$f":"T11","v":"44, 55, 66, 77, 88, 99 кг"}]
[]
[null,"Mat А",null,null,"82, 77, 67, 87, 60",null,null,null,null,null,"Mat В",null,null,"59, 71, 80, 98, 130",null,null,null,null,null,{"$f":"T14","v":"Mat B"},null,null,"72,97, 60, 130, 63"]
[null,72,"Fin 3",2,"(",{"$f":"Z54+1","v":150},"-",{"$f":"F64+D64-1","v":151},")",null,45,"Fin 3",null,"(",{"$f":"H113+1","v":167},"-",{"$f":"O64+M64-1","v":166},")",null,77,"Fin 3",2,"(",{"$f":"Q113+1","v":167},"-",{"$f":"X64+V64-1","v":168},")"]
[null,45,"Fin 3",null,"(",{"$f":"H64+1","v":152},"-",{"$f":"F65+D65-1","v":151},")",null,45,"Fin 3",null,"(",{"$f":"Q64+1","v":167},"-",{"$f":"O65+M65-1","v":166},")",null,null,"Fin 3",null,"(",{"$f":"Z64+1","v":169},"-",{"$f":"X65+V65-1","v":168},")"]
[null,45,"Fin 3",null,"(",{"$f":"H65+1","v":152},"-",151,")",null,45,"Fin 3",null,"(",{"$f":"Q65+1","v":167},"-",166,")",null,null,"Fin 3",null,"(",{"$f":"Z65+1","v":169},"-",168,")"]
[null,45,"Fin 3",null,"(",152,"-",151,")",null,45,"Fin 3",null,"(",167,"-",166,")",null,null,"Fin 3",null,"(",169,"-",168,")"]
[null,45,"Fin 3",null,"(",152,"-",151,")",null,45,"Fin 3",null,"(",167,"-",166,")",null,null,"Fin 3",null,"(",169,"-",168,")"]
[null,45,"Fin 3",null,"(",152,"-",151,")",null,45,"Fin 3",null,"(",167,"-",166,")",null,null,"Fin 3",null,"(",169,"-",168,")"]
[null,45,"Fin 3",null,"(",152,"-",151,")",null,45,"Fin 3",null,"(",167,"-",166,")",null,null,"Fin 3",null,"(",169,"-",168,")"]
[null,45,"Fin 3",null,"(",152,"-",151,")",null,45,"Fin 3",null,"(",167,"-",166,")",null,null,"Fin 3",null,"(",169,"-",168,")"]
[null,45,"Fin 3",null,"(",152,"-",151,")",null,45,"Fin 3",null,"(",167,"-",166,")",null,null,"Fin 3",null,"(",169,"-",168,")"]
[null,45,"Fin 1",null,"(",152,"-",151,")",null,45,"Fin 1",null,"(",167,"-",166,")",null,null,"Fin 1",null,"(",169,"-",168,")"]
[null,45,"Fin 1",null,"(",152,"-",151,")",null,45,"Fin 1",null,"(",167,"-",166,")",null,null,"Fin 1",null,"(",169,"-",168,")"]
[null,45,"Fin 1",null,"(",152,"-",151,")",null,45,"Fin 1",null,"(",167,"-",166,")",null,null,"Fin 1",null,"(",169,"-",168,")"]
[null,45,"Fin 1",null,"(",152,"-",151,")",null,45,"Fin 1",null,"(",167,"-",{"$f":"O76+M76-1","v":166},")",null,null,"Fin 1",null,"(",169,"-",168,")"]
[null,45,"Fin 1",null,"(",152,"-",151,")",null,45,"Fin 1",null,"(",167,"-",{"$f":"O77+M77-1","v":166},")",null,null,"Fin 1",null,"(",169,"-",168,")"]
[null,45,"Fin 1",null,"(",152,"-",151,")",null,45,"Fin 1",null,"(",167,"-",166,")",null,null,"Fin 1",null,"(",169,"-",168,")"]
[null,45,"Fin 1",null,"(",152,"-",151,")",null,45,"Fin 1",null,"(",167,"-",166,")",null,null,"Fin 1",null,"(",169,"-",168,")"]
[null,45,"Fin 1",null,"(",152,"-",151,")",null,45,"Fin 1",null,"(",167,"-",166,")",null,null,"Fin 1",null,"(",169,"-",168,")"]
[null,45,"Fin 1",null,"(",152,"-",151,")",null,45,"Fin 1",null,"(",167,"-",166,")",null,null,"Fin 1",null,"(",169,"-",168,")"]
[null,45,"Fin 1",null,"(",152,"-",151,")",null,45,"Fin 1",null,"(",167,"-",166,")",null,null,"Fin 1",null,"(",169,"-",168,")"]
[null,45,"Fin 1",null,"(",152,"-",151,")",null,45,"Fin 1",null,"(",167,"-",166,")",null,null,"Fin 1",null,"(",169,"-",168,")"]
[null,45,"Fin 1",null,"(",152,"-",151,")",null,45,"Fin 1",null,"(",167,"-",166,")",null,null,"Fin 1",null,"(",169,"-",168,")"]
[null,45,"Fin 1",null,"(",152,"-",151,")",null,45,"Fin 1",null,"(",167,"-",166,")",null,null,"Fin 1",null,"(",169,"-",168,")"]
[null,45,"Fin 1",null,"(",152,"-",151,")",null,45,"Fin 1",null,"(",167,"-",166,")",null,null,"Fin 1",null,"(",169,"-",168,")"]
[null,45,"Fin 1",null,"(",152,"-",151,")",null,45,"Fin 1",null,"(",167,"-",166,")",null,null,"Fin 1",null,"(",169,"-",168,")"]
[null,82,"Fin 3",2,"(",152,"-",153,")",null,45,"Fin 1",null,"(",167,"-",166,")",null,63,"Fin 3",2,"(",169,"-",170,")"]
[null,87,"Fin 3",2,"(",154,"-",155,")",null,45,"Fin 1",null,"(",167,"-",166,")",null,67,"Fin 3",2,"(",171,"-",172,")"]
[null,60,"Fin 3",2,"(",156,"-",157,")",null,45,"Fin 1",null,"(",167,"-",166,")",null,130,"Fin 3",2,"(",173,"-",174,")"]
[null,60,"Fin 1",1,"(",158,"-",158,")",null,45,"Fin 1",null,"(",167,"-",166,")",null,97,"Fin 3",2,"(",175,"-",176,")"]
[null,63,"Fin 1",1,"(",159,"-",159,")",null,45,"Fin 1",null,"(",167,"-",166,")",null,45,"Fin 1",null,"(",177,"-",176,")"]
[null,67,"Fin 1",1,"(",160,"-",160,")",null,45,"Fin 1",null,"(",167,"-",166,")",null,45,"Fin 3",null,"(",177,"-",176,")"]
[null,72,"Fin 1",1,"(",161,"-",161,")",null,45,"Fin 1",null,"(",167,"-",166,")",null,45,"Fin 1",null,"(",177,"-",176,")"]
[null,77,"Fin 1",1,"(",162,"-",162,")",null,45,"Fin 1",null,"(",167,"-",166,")",null,45,"Fin 3",null,"(",177,"-",176,")"]
[null,82,"Fin 1",1,"(",163,"-",163,")",null,45,"Fin 1",null,"(",167,"-",166,")",null,45,"Fin 1",null,"(",177,"-",176,")"]
[null,87,"Fin 1",1,"(",164,"-",164,")",null,45,"Fin 1",null,"(",167,"-",166,")",null,45,"Fin 3",null,"(",177,"-",176,")"]
[null,97,"Fin 1",1,"(",165,"-",165,")",null,45,"Fin 1",null,"(",167,"-",166,")",null,45,"Fin 1",null,"(",177,"-",176,")"]
[null,45,"Fin 3",null,"(",166,"-",165,")",null,45,"Fin 1",null,"(",167,"-",166,")",null,45,"Fin 3",null,"(",177,"-",176,")"]
[null,45,"Fin 1",null,"(",166,"-",165,")",null,45,"Fin 1",null,"(",167,"-",166,")",null,45,"Fin 1",null,"(",177,"-",176,")"]
[null,45,"Fin 3",null,"(",166,"-",165,")",null,45,"Fin 1",null,"(",167,"-",166,")",null,45,"Fin 3",null,"(",177,"-",176,")"]
[null,45,"Fin 1",null,"(",166,"-",165,")",null,45,"Fin 1",null,"(",167,"-",166,")",null,45,"Fin 1",null,"(",177,"-",176,")"]
[null,45,"Fin 3",null,"(",166,"-",165,")",null,45,"Fin 1",null,"(",167,"-",166,")",null,45,"Fin 3",null,"(",177,"-",176,")"]
[null,45,"Fin 1",null,"(",166,"-",165,")",null,45,"Fin 1",null,"(",167,"-",166,")",null,45,"Fin 1",null,"(",177,"-",176,")"]
[null,45,"Fin 3",null,"(",166,"-",165,")",null,45,"Fin 1",null,"(",167,"-",166,")",null,45,"Fin 3",null,"(",177,"-",176,")"]
[null,45,"Fin 1",null,"(",166,"-",165,")",null,45,"Fin 1",null,"(",167,"-",166,")",null,45,"Fin 1",null,"(",177,"-",176,")"]
[null,45,"Fin 3",null,"(",166,"-",165,")",null,45,"Fin 1",null,"(",167,"-",166,")",null,45,"Fin 3",null,"(",177,"-",176,")"]
[null,45,"Fin 1",null,"(",166,"-",165,")",null,45,"Fin 1",null,"(",167,"-",166,")",null,45,"Fin 1",null,"(",177,"-",176,")"]
[null,45,"Fin 3",null,"(",166,"-",165,")",null,45,"Fin 1",null,"(",167,"-",166,")",null,45,"Fin 3",null,"(",177,"-",176,")"]
[null,45,"Fin 1",null,"(",166,"-",165,")",null,45,"Fin 1",null,"(",167,"-",166,")",null,45,"Fin 1",null,"(",177,"-",176,")"]
[null,45,"Fin 1",null,"(",166,"-",165,")",null,45,"Fin 1",null,"(",167,"-",166,")",null,45,"Fin 3",null,"(",177,"-",176,")"]
[null,45,"Fin 1",null,"(",166,"-",165,")",null,45,"Fin 1",null,"(",167,"-",166,")",null,45,"Fin 1",null,"(",177,"-",176,")"]
[null,130,"Fin 1",1,"(",166,"-",166,")",null,45,"Fin 1",null,"(",167,"-",166,")",null,45,"Fin 1",null,"(",177,"-",176,")"]
[]
[null,null,null,{"$f":"SUM(D64:D113)","v":17},null,null,null,null,null,null,null,null,{"$f":"SUM(M64:M113)","v":0},null,null,null,null,null,null,null,null,{"$f":"SUM(V64:V113)","v":10}]
[]
[null,"15.30-16.00",null,"Награждение победителей и призеров - Rewarding of winners and prize-winners",null,null,null,null,null,null,null,null,null,null,null,null,null,null,null,{"$f":"T61","v":"44, 55, 66, 77, 88, 99 кг"}]
[]
[null,"Внимание! В программе могут быть изменения - Attention! Тhe program can be changed!"]

{"sheet":"ABC","index":19,"n_rows":119,"n_cols":27,"rows_kept":119,"cut":false,"hidden":true,"merged":[[1,1,1,26],[3,1,3,26],[118,1,118,26],[58,1,58,2],[60,1,60,2],[62,1,62,3],[62,10,62,12],[62,19,62,21],[114,3,114,8],[114,12,114,17],[114,21,114,26],[116,1,116,2],[58,3,58,17],[59,3,59,17],[5,1,5,7],[13,22,13,26],[13,19,13,21],[9,1,9,2],[5,20,5,26],[7,1,7,2],[13,4,13,8],[7,3,7,17],[8,3,8,17],[9,3,9,17],[11,3,11,17],[7,19,7,26],[8,19,8,26],[11,19,11,26],[62,22,62,26],[116,3,116,17],[116,19,116,26],[10,1,10,2],[10,3,10,17],[10,19,10,26],[55,21,55,26],[11,1,11,2],[13,1,13,3],[13,10,13,12],[60,19,60,26],[62,4,62,8],[59,1,59,2],[60,3,60,17],[59,19,59,26],[57,1,57,2],[55,3,55,8],[55,12,55,17],[13,13,13,17],[8,1,8,2],[62,13,62,17],[57,3,57,17]]}
[]
[null,"Распорядок дня - The work schedule "]
[]
[null,{"$f":"Inf!B4","v":"ХХХI-Всероссийский турнир по греко-римской борьбе,посвященный памяти ректора Ленинградского финансово-экономического института им.Н.А.Вознесенского /ныне Санкт-Петербургского государственного экономического университета,з.д.н.России Лаврикова Юрия Александровича."}]
[]
[null,"дата проведения",null,null,null,null,null,null,null,null,null,null,null,null,null,null,null,null,null,null,{"$f":"Inf!F5","v":"Санкт-Петербург"}]
[]
[null,"08.00-08.30",null,"Медицинский контроль и 2 взвешивание борцов - Medical control and II weighing of wrestlers",null,null,null,null,null,null,null,null,null,null,null,null,null,null,null,"44, 55, 66, 77, 88, 99 кг"]
[null,"08.00-08.30",null,"Медицинский контроль и 1 взвешивание борцов - Medical control and I weighing of wrestlers",null,null,null,null,null,null,null,null,null,null,null,null,null,null,null,"22, 33, 44, 55, 66, 77 кг"]
[null,"10.00-10.30",null,"Торжественное открытие соревнований - Opening ceremony"]
[null,"10.00-16.45",null,"Утешительные поединки - Repechage rounds ",null,null,null,null,null,null,null,null,null,null,null,null,null,null,null,{"$f":"T8","v":"44, 55, 66, 77, 88, 99 кг"}]
[null,"10.00-16.45",null,"Предварительные поединки - Preliminary rounds ",null,null,null,null,null,null,null,null,null,null,null,null,null,null,null,{"$f":"T9","v":"22, 33, 44, 55, 66, 77 кг"}]
[]
[null,"Mat А",null,null,"59, 71, 80, 98, 130",null,null,null,null,null,"Mat В",null,null,"59, 71, 80, 98, 130",null,null,null,null,null,"Mat C",null,null,"59, 71, 80, 98, 130"]
[null,0,"квалиф",null,"(",1,"-",{"$f":"F15+D15-1","v":0},")",null,0,"квалиф",null,"(",{"$f":"H54+1","v":1},"-",{"$f":"O15+M15-1","v":0},")",null,0,"квалиф",null,"(",{"$f":"Q54+1","v":1},"-",{"$f":"X15+V15-1","v":0},")"]
[null,0,"квалиф",null,"(",{"$f":"H15+1","v":1},"-",{"$f":"F16+D16-1","v":0},")",null,0,"квалиф",null,"(",{"$f":"Q15+1","v":1},"-",{"$f":"O16+M16-1","v":0},")",null,{"$f":"X14","v":0},"квалиф",null,"(",{"$f":"Z15+1","v":1},"-",{"$f":"X16+V16-1","v":0},")"]
[null,0,"квалиф",null,"(",{"$f":"H16+1","v":1},"-",{"$f":"F17+D17-1","v":0},")",null,0,"квалиф",null,"(",{"$f":"Q16+1","v":1},"-",{"$f":"O17+M17-1","v":0},")",null,{"$f":"Y14","v":0},"квалиф",null,"(",{"$f":"Z16+1","v":1},"-",{"$f":"X17+V17-1","v":0},")"]
[null,0,"квалиф",null,"(",1,"-",{"$f":"F18+D18-1","v":0},")",null,0,"квалиф",null,"(",1,"-",{"$f":"O18+M18-1","v":0},")",null,0,"квалиф",null,"(",1,"-",{"$f":"X18+V18-1","v":0},")"]
[null,0,"квалиф",null,"(",1,"-",{"$f":"F19+D19-1","v":0},")",null,0,"квалиф",null,"(",1,"-",{"$f":"O19+M19-1","v":0},")",null,{"$f":"AA14","v":0},"квалиф",null,"(",1,"-",{"$f":"X19+V19-1","v":0},")"]
[null,0,"1/16 ф ",null,"(",1,"-",0,")",null,0,"1/16 ф ",null,"(",1,"-",0,")",null,{"$f":"T15","v":0},"1/16 ф ",null,"(",1,"-",0,")"]
[null,0,"1/16 ф ",null,"(",1,"-",0,")",null,0,"1/16 ф ",null,"(",1,"-",0,")",null,{"$f":"T16","v":0},"1/16 ф ",null,"(",1,"-",0,")"]
[null,0,"1/16 ф ",null,"(",1,"-",0,")",null,0,"1/16 ф ",null,"(",1,"-",0,")",null,0,"1/16 ф ",null,"(",1,"-",0,")"]
[null,0,"1/16 ф ",null,"(",1,"-",0,")",null,0,"1/16 ф ",null,"(",1,"-",0,")",null,0,"1/16 ф ",null,"(",1,"-",0,")"]
[null,0,"1/16 ф ",null,"(",1,"-",0,")",null,0,"1/16 ф ",null,"(",1,"-",0,")",null,0,"1/16 ф ",null,"(",1,"-",0,")"]
[null,0,"1/8 ф ",null,"(",1,"-",0,")",null,0,"1/8 ф ",null,"(",1,"-",0,")",null,0,"1/8 ф ",null,"(",1,"-",0,")"]
[null,0,"1/8 ф ",null,"(",1,"-",0,")",null,0,"1/8 ф ",null,"(",1,"-",0,")",null,0,"1/8 ф ",null,"(",1,"-",0,")"]
[null,0,"1/8 ф ",null,"(",1,"-",{"$f":"F27+D27-1","v":0},")",null,0,"1/8 ф ",null,"(",1,"-",{"$f":"O27+M27-1","v":0},")",null,0,"1/8 ф ",null,"(",1,"-",{"$f":"X27+V27-1","v":0},")"]
[null,0,"1/8 ф ",null,"(",1,"-",{"$f":"F28+D28-1","v":0},")",null,0,"1/8 ф ",null,"(",1,"-",{"$f":"O28+M28-1","v":0},")",null,0,"1/8 ф ",null,"(",1,"-",{"$f":"X28+V28-1","v":0},")"]
[null,0,"1/8 ф ",null,"(",1,"-",{"$f":"F29+D29-1","v":0},")",null,0,"1/8 ф ",null,"(",1,"-",{"$f":"O29+M29-1","v":0},")",null,0,"1/8 ф ",null,"(",1,"-",{"$f":"X29+V29-1","v":0},")"]
[null,0,"1/4 ф",null,"(",1,"-",{"$f":"F30+D30-1","v":0},")",null,0,"1/4 ф",null,"(",1,"-",{"$f":"O30+M30-1","v":0},")",null,0,"1/4 ф",null,"(",1,"-",{"$f":"X30+V30-1","v":0},")"]
[null,0,"1/4 ф",null,"(",1,"-",0,")",null,0,"1/4 ф",null,"(",1,"-",0,")",null,0,"1/4 ф",null,"(",1,"-",0,")"]
[null,0,"1/4 ф",null,"(",1,"-",0,")",null,0,"1/4 ф",null,"(",1,"-",0,")",null,0,"1/4 ф",null,"(",1,"-",0,")"]
[null,0,"1/4 ф",null,"(",1,"-",0,")",null,0,"1/4 ф",null,"(",1,"-",0,")",null,0,"1/4 ф",null,"(",1,"-",0,")"]
[null,0,"1/4 ф",null,"(",1,"-",0,")",null,0,"1/4 ф",null,"(",1,"-",0,")",null,0,"1/4 ф",null,"(",1,"-",0,")"]
[null,0,"1/2 ф ",null,"(",1,"-",0,")",null,0,"1/2 ф ",null,"(",1,"-",0,")",null,0,"1/2 ф ",null,"(",1,"-",0,")"]
[null,0,"1/2 ф ",null,"(",1,"-",0,")",null,0,"1/2 ф ",null,"(",1,"-",0,")",null,0,"1/2 ф ",null,"(",1,"-",0,")"]
[null,0,"1/2 ф ",null,"(",1,"-",0,")",null,0,"1/2 ф ",null,"(",1,"-",0,")",null,0,"1/2 ф ",null,"(",1,"-",0,")"]
[null,0,"1/2 ф ",null,"(",1,"-",0,")",null,0,"1/2 ф ",null,"(",1,"-",0,")",null,0,"1/2 ф ",null,"(",1,"-",0,")"]
[null,0,"1/2 ф ",null,"(",1,"-",0,")",null,0,"1/2 ф ",null,"(",1,"-",0,")",null,0,"1/2 ф ",null,"(",1,"-",0,")"]
[null,0,"ут 1",null,"(",1,"-",0,")",null,0,"ут 1",null,"(",1,"-",0,")",null,0,"ут 1",null,"(",1,"-",0,")"]
[null,0,"ут 1",null,"(",1,"-",0,")",null,0,"ут 1",null,"(",1,"-",0,")",null,0,"ут 1",null,"(",1,"-",0,")"]
[null,0,"ут 1",null,"(",1,"-",0,")",null,0,"ут 1",null,"(",1,"-",0,")",null,0,"ут 1",null,"(",1,"-",0,")"]
[null,0,"ут 1",null,"(",1,"-",0,")",null,0,"ут 1",null,"(",1,"-",0,")",null,0,"ут 2",null,"(",1,"-",0,")"]
[null,0,"ут 1",null,"(",1,"-",0,")",null,0,"ут 1",null,"(",1,"-",0,")",null,0,"ут 1",null,"(",1,"-",0,")"]
[null,0,"ут 2",null,"(",1,"-",0,")",null,0,"ут 2",null,"(",1,"-",0,")",null,0,"ут 2",null,"(",1,"-",0,")"]
[null,0,"ут 2",null,"(",1,"-",0,")",null,0,"ут 2",null,"(",1,"-",0,")",null,0,"ут 2",null,"(",1,"-",0,")"]
[null,0,"ут 2",null,"(",1,"-",0,")",null,0,"ут 2",null,"(",1,"-",0,")",null,0,"ут 2",null,"(",1,"-",0,")"]
[null,0,"ут 2",null,"(",1,"-",0,")",null,0,"ут 2",null,"(",1,"-",0,")",null,0,"ут 2",null,"(",1,"-",0,")"]
[null,0,"ут 2",null,"(",1,"-",0,")",null,0,"ут 2",null,"(",1,"-",0,")",null,0,"ут 2",null,"(",1,"-",0,")"]
[null,0,"ут 3",null,"(",1,"-",0,")",null,0,"ут 3",null,"(",1,"-",0,")",null,0,"ут 3",null,"(",1,"-",0,")"]
[null,0,"ут 3",null,"(",1,"-",0,")",null,0,"ут 3",null,"(",1,"-",0,")",null,0,"ут 3",null,"(",1,"-",0,")"]
[null,0,"ут 3",null,"(",1,"-",0,")",null,0,"ут 3",null,"(",1,"-",0,")",null,0,"ут 3",null,"(",1,"-",0,")"]
[null,0,"ут 3",null,"(",1,"-",0,")",null,0,"ут 3",null,"(",1,"-",0,")",null,0,"ут 4",null,"(",1,"-",0,")"]
[null,0,"ут 3",null,"(",1,"-",0,")",null,0,"ут 3",null,"(",1,"-",0,")",null,0,"ут 3",null,"(",1,"-",0,")"]
[]
[null,null,null,{"$f":"SUM(D15:D55)","v":0},null,null,null,null,null,null,null,null,{"$f":"SUM(M15:M54)","v":0},null,null,null,null,null,null,null,null,{"$f":"SUM(V15:V54)","v":0}]
[]
[null,"14.30-16.00",null,"Перерыв - Break"]
[null,"17.00-17.30",null,"Торжественное открытие соревнований - Opening ceremony"]
[null,"17.30-18.00",null,"Жеребьевка спортсменов - Drawing of athletes",null,null,null,null,null,null,null,null,null,null,null,null,null,null,null,"22, 33, 44, 55, 66, 77 кг"]
[null,"18.00-20.00",null,"Финальные поединки - Final rounds",null,null,null,null,null,null,null,null,null,null,null,null,null,null,null,{"$f":"T11","v":"44, 55, 66, 77, 88, 99 кг"}]
[]
[null,"Mat А",null,null,"59, 71, 80, 98, 130",null,null,null,null,null,"Mat В",null,null,"59, 71, 80, 98, 130",null,null,null,null,null,{"$f":"T14","v":"Mat C"},null,null,"59, 71, 80, 98, 130"]
[null,45,"Fin 3",null,"(",{"$f":"Z54+1","v":1},"-",{"$f":"F64+D64-1","v":0},")",null,45,"Fin 3",null,"(",{"$f":"H113+1","v":1},"-",{"$f":"O64+M64-1","v":0},")",null,null,"Fin 3",null,"(",{"$f":"Q113+1","v":1},"-",{"$f":"X64+V64-1","v":0},")"]
[null,45,"Fin 3",null,"(",{"$f":"H64+1","v":1},"-",{"$f":"F65+D65-1","v":0},")",null,45,"Fin 3",null,"(",{"$f":"Q64+1","v":1},"-",{"$f":"O65+M65-1","v":0},")",null,null,"Fin 3",null,"(",{"$f":"Z64+1","v":1},"-",{"$f":"X65+V65-1","v":0},")"]
[null,45,"Fin 3",null,"(",{"$f":"H65+1","v":1},"-",0,")",null,45,"Fin 3",null,"(",{"$f":"Q65+1","v":1},"-",0,")",null,null,"Fin 3",null,"(",{"$f":"Z65+1","v":1},"-",0,")"]
[null,45,"Fin 3",null,"(",1,"-",0,")",null,45,"Fin 3",null,"(",1,"-",0,")",null,null,"Fin 3",null,"(",1,"-",0,")"]
[null,45,"Fin 3",null,"(",1,"-",0,")",null,45,"Fin 3",null,"(",1,"-",0,")",null,null,"Fin 3",null,"(",1,"-",0,")"]
[null,45,"Fin 3",null,"(",1,"-",0,")",null,45,"Fin 3",null,"(",1,"-",0,")",null,null,"Fin 3",null,"(",1,"-",0,")"]
[null,45,"Fin 3",null,"(",1,"-",0,")",null,45,"Fin 3",null,"(",1,"-",0,")",null,null,"Fin 3",null,"(",1,"-",0,")"]
[null,45,"Fin 3",null,"(",1,"-",0,")",null,45,"Fin 3",null,"(",1,"-",0,")",null,null,"Fin 3",null,"(",1,"-",0,")"]
[null,45,"Fin 3",null,"(",1,"-",0,")",null,45,"Fin 3",null,"(",1,"-",0,")",null,null,"Fin 3",null,"(",1,"-",0,")"]
[null,45,"Fin 1",null,"(",1,"-",0,")",null,45,"Fin 1",null,"(",1,"-",0,")",null,null,"Fin 1",null,"(",1,"-",0,")"]
[null,45,"Fin 1",null,"(",1,"-",0,")",null,45,"Fin 1",null,"(",1,"-",0,")",null,null,"Fin 1",null,"(",1,"-",0,")"]
[null,45,"Fin 1",null,"(",1,"-",0,")",null,45,"Fin 1",null,"(",1,"-",0,")",null,null,"Fin 1",null,"(",1,"-",0,")"]
[null,45,"Fin 1",null,"(",1,"-",0,")",null,45,"Fin 1",null,"(",1,"-",{"$f":"O76+M76-1","v":0},")",null,null,"Fin 1",null,"(",1,"-",0,")"]
[null,45,"Fin 1",null,"(",1,"-",0,")",null,45,"Fin 1",null,"(",1,"-",{"$f":"O77+M77-1","v":0},")",null,null,"Fin 1",null,"(",1,"-",0,")"]
[null,45,"Fin 1",null,"(",1,"-",0,")",null,45,"Fin 1",null,"(",1,"-",0,")",null,null,"Fin 1",null,"(",1,"-",0,")"]
[null,45,"Fin 1",null,"(",1,"-",0,")",null,45,"Fin 1",null,"(",1,"-",0,")",null,null,"Fin 1",null,"(",1,"-",0,")"]
[null,45,"Fin 1",null,"(",1,"-",0,")",null,45,"Fin 1",null,"(",1,"-",0,")",null,null,"Fin 1",null,"(",1,"-",0,")"]
[null,45,"Fin 1",null,"(",1,"-",0,")",null,45,"Fin 1",null,"(",1,"-",0,")",null,null,"Fin 1",null,"(",1,"-",0,")"]
[null,45,"Fin 1",null,"(",1,"-",0,")",null,45,"Fin 1",null,"(",1,"-",0,")",null,null,"Fin 1",null,"(",1,"-",0,")"]
[null,45,"Fin 1",null,"(",1,"-",0,")",null,45,"Fin 1",null,"(",1,"-",0,")",null,null,"Fin 1",null,"(",1,"-",0,")"]
[null,45,"Fin 1",null,"(",{"$f":"H83+1","v":1},"-",{"$f":"F84+D84-1","v":0},")",null,45,"Fin 1",null,"(",{"$f":"Q83+1","v":1},"-",{"$f":"O84+M84-1","v":0},")",null,null,"Fin 1",null,"(",1,"-",{"$f":"X84+V84-1","v":0},")"]
[null,45,"Fin 1",null,"(",1,"-",0,")",null,45,"Fin 1",null,"(",1,"-",0,")",null,null,"Fin 1",null,"(",1,"-",0,")"]
[null,45,"Fin 1",null,"(",1,"-",0,")",null,45,"Fin 1",null,"(",1,"-",0,")",null,null,"Fin 1",null,"(",1,"-",0,")"]
[null,45,"Fin 1",null,"(",1,"-",0,")",null,45,"Fin 1",null,"(",1,"-",0,")",null,null,"Fin 1",null,"(",1,"-",0,")"]
[null,45,"Fin 1",null,"(",1,"-",0,")",null,45,"Fin 1",null,"(",{"$f":"Q87+1","v":1},"-",{"$f":"O88+M88-1","v":0},")",null,null,"Fin 1",null,"(",1,"-",0,")"]
[null,45,"Fin 3",null,"(",1,"-",0,")",null,45,"Fin 1",null,"(",{"$f":"Q88+1","v":1},"-",{"$f":"O89+M89-1","v":0},")",null,45,"Fin 3",null,"(",1,"-",0,")"]
[null,45,"Fin 1",null,"(",1,"-",0,")",null,45,"Fin 1",null,"(",1,"-",0,")",null,45,"Fin 1",null,"(",1,"-",0,")"]
[null,45,"Fin 3",null,"(",1,"-",0,")",null,45,"Fin 1",null,"(",1,"-",0,")",null,45,"Fin 3",null,"(",1,"-",0,")"]
[null,45,"Fin 1",null,"(",1,"-",0,")",null,45,"Fin 1",null,"(",1,"-",0,")",null,45,"Fin 1",null,"(",1,"-",0,")"]
[null,45,"Fin 3",null,"(",1,"-",0,")",null,45,"Fin 1",null,"(",1,"-",0,")",null,45,"Fin 3",null,"(",1,"-",0,")"]
[null,45,"Fin 1",null,"(",1,"-",0,")",null,45,"Fin 1",null,"(",1,"-",0,")",null,45,"Fin 1",null,"(",1,"-",0,")"]
[null,45,"Fin 3",null,"(",1,"-",0,")",null,45,"Fin 1",null,"(",1,"-",0,")",null,45,"Fin 3",null,"(",1,"-",0,")"]
[null,45,"Fin 1",null,"(",1,"-",0,")",null,45,"Fin 1",null,"(",1,"-",0,")",null,45,"Fin 1",null,"(",1,"-",0,")"]
[null,45,"Fin 3",null,"(",1,"-",0,")",null,45,"Fin 1",null,"(",1,"-",0,")",null,45,"Fin 3",null,"(",1,"-",0,")"]
[null,45,"Fin 1",null,"(",1,"-",0,")",null,45,"Fin 1",null,"(",1,"-",0,")",null,45,"Fin 1",null,"(",1,"-",0,")"]
[null,45,"Fin 3",null,"(",1,"-",0,")",null,45,"Fin 1",null,"(",1,"-",0,")",null,45,"Fin 3",null,"(",1,"-",0,")"]
[null,45,"Fin 1",null,"(",1,"-",0,")",null,45,"Fin 1",null,"(",1,"-",0,")",null,45,"Fin 1",null,"(",1,"-",0,")"]
[null,45,"Fin 3",null,"(",1,"-",0,")",null,45,"Fin 1",null,"(",1,"-",0,")",null,45,"Fin 3",null,"(",1,"-",0,")"]
[null,45,"Fin 1",null,"(",1,"-",0,")",null,45,"Fin 1",null,"(",1,"-",0,")",null,45,"Fin 1",null,"(",1,"-",0,")"]
[null,45,"Fin 3",null,"(",1,"-",0,")",null,45,"Fin 1",null,"(",1,"-",0,")",null,45,"Fin 3",null,"(",1,"-",0,")"]
[null,45,"Fin 1",null,"(",1,"-",0,")",null,45,"Fin 1",null,"(",1,"-",0,")",null,45,"Fin 1",null,"(",1,"-",0,")"]
[null,45,"Fin 3",null,"(",1,"-",0,")",null,45,"Fin 1",null,"(",1,"-",0,")",null,45,"Fin 3",null,"(",1,"-",0,")"]
[null,45,"Fin 1",null,"(",1,"-",0,")",null,45,"Fin 1",null,"(",1,"-",0,")",null,45,"Fin 1",null,"(",1,"-",0,")"]
[null,45,"Fin 3",null,"(",1,"-",0,")",null,45,"Fin 1",null,"(",1,"-",0,")",null,45,"Fin 3",null,"(",1,"-",0,")"]
[null,45,"Fin 1",null,"(",1,"-",0,")",null,45,"Fin 1",null,"(",1,"-",0,")",null,45,"Fin 1",null,"(",1,"-",0,")"]
[null,45,"Fin 3",null,"(",1,"-",0,")",null,45,"Fin 1",null,"(",1,"-",0,")",null,45,"Fin 3",null,"(",1,"-",0,")"]
[null,45,"Fin 1",null,"(",1,"-",0,")",null,45,"Fin 1",null,"(",1,"-",0,")",null,45,"Fin 1",null,"(",1,"-",0,")"]
[null,45,"Fin 1",null,"(",1,"-",0,")",null,45,"Fin 1",null,"(",1,"-",0,")",null,45,"Fin 3",null,"(",1,"-",0,")"]
[null,45,"Fin 1",null,"(",1,"-",0,")",null,45,"Fin 1",null,"(",1,"-",0,")",null,45,"Fin 1",null,"(",1,"-",0,")"]
[null,45,"Fin 1",null,"(",1,"-",0,")",null,45,"Fin 1",null,"(",1,"-",0,")",null,45,"Fin 1",null,"(",1,"-",0,")"]
[]
[null,null,null,{"$f":"SUM(D64:D113)","v":0},null,null,null,null,null,null,null,null,{"$f":"SUM(M64:M113)","v":0},null,null,null,null,null,null,null,null,{"$f":"SUM(V64:V113)","v":0}]
[]
[null,"20.00-20.30",null,"Награждение победителей и призеров - Rewarding of winners and prize-winners",null,null,null,null,null,null,null,null,null,null,null,null,null,null,null,{"$f":"T61","v":"44, 55, 66, 77, 88, 99 кг"}]
[]
[null,"Внимание! В программе могут быть изменения - Attention! Тhe program can be changed!"]

{"sheet":"4_mat","index":20,"n_rows":119,"n_cols":36,"rows_kept":119,"cut":false,"hidden":true,"merged":[[5,1,5,7],[7,1,7,2],[7,28,7,35],[8,1,8,2],[8,28,8,35],[9,1,9,2],[10,1,10,2],[10,28,10,35],[9,3,9,26],[10,3,10,26],[58,1,58,2],[58,3,58,17],[11,1,11,2],[11,28,11,35],[13,1,13,3],[13,4,13,8],[13,10,13,12],[13,13,13,17],[13,19,13,21],[13,22,13,26],[11,3,11,26],[55,3,55,8],[55,12,55,17],[55,21,55,26],[57,1,57,2],[57,3,57,17],[59,1,59,2],[59,3,59,17],[59,28,59,35],[60,1,60,2],[60,3,60,17],[60,28,60,35],[116,28,116,35],[116,3,116,26],[62,1,62,3],[62,4,62,8],[62,10,62,12],[62,13,62,17],[62,19,62,21],[62,22,62,26],[118,1,118,35],[62,28,62,30],[62,31,62,35],[114,30,114,35],[1,1,1,35],[3,1,3,35],[5,28,5,35],[7,3,7,26],[8,3,8,26],[13,28,13,30],[13,31,13,35],[55,30,55,35],[114,3,114,8],[114,12,114,17],[114,21,114,26],[116,1,116,2]]}
[]
[null,"Распорядок дня - The work schedule "]
[]
[null,{"$f":"Inf!B4","v":"ХХХI-Всероссийский турнир по греко-римской борьбе,посвященный памяти ректора Ленинградского финансово-экономического института им.Н.А.Вознесенского /ныне Санкт-Петербургского государственного экономического университета,з.д.н.России Лаврикова Юрия Александровича."}]
[]
[null,"дата проведения",null,null,null,null,null,null,null,null,null,null,null,null,null,null,null,null,null,null,null,null,null,null,null,null,null,null,{"$f":"Inf!F5","v":"Санкт-Петербург"}]
[]
[null,"08.00-08.30",null,"Медицинский контроль и 2 взвешивание борцов - Medical control and II weighing of wrestlers",null,null,null,null,null,null,null,null,null,null,null,null,null,null,null,null,null,null,null,null,null,null,null,null,"44, 55, 66, 77, 88, 99 кг"]
[null,"08.00-08.30",null,"Медицинский контроль и 1 взвешивание борцов - Medical control and I weighing of wrestlers",null,null,null,null,null,null,null,null,null,null,null,null,null,null,null,null,null,null,null,null,null,null,null,null,"22, 33, 44, 55, 66, 77 кг"]
[null,"10.00-10.30",null,"Торжественное открытие соревнований - Opening ceremony"]
[null,"10.00-16.45",null,"Утешительные поединки - Repechage rounds ",null,null,null,null,null,null,null,null,null,null,null,null,null,null,null,null,null,null,null,null,null,null,null,null,{"$f":"AC8","v":"44, 55, 66, 77, 88, 99 кг"}]
[null,"10.00-16.45",null,"Предварительные поединки - Preliminary rounds ",null,null,null,null,null,null,null,null,null,null,null,null,null,null,null,null,null,null,null,null,null,null,null,null,{"$f":"AC9","v":"22, 33, 44, 55, 66, 77 кг"}]
[]
[null,"Mat А",null,null,"59, 71, 80, 98, 130",null,null,null,null,null,"Mat В",null,null,"59, 71, 80, 98, 130",null,null,null,null,null,"Mat C",null,null,"59, 71, 80, 98, 130",null,null,null,null,null,"Mat D",null,null,"59, 71, 80, 98, 130"]
[null,0,"квалиф",null,"(",1,"-",{"$f":"F15+D15-1","v":0},")",null,0,"квалиф",null,"(",{"$f":"H54+1","v":1},"-",{"$f":"O15+M15-1","v":0},")",null,0,"квалиф",null,"(",{"$f":"Q54+1","v":1},"-",{"$f":"X15+V15-1","v":0},")",null,0,"квалиф",null,"(",{"$f":"Z54+1","v":1},"-",{"$f":"AG15+AE15-1","v":0},")"]
[null,0,"квалиф",null,"(",{"$f":"H15+1","v":1},"-",{"$f":"F16+D16-1","v":0},")",null,0,"квалиф",null,"(",{"$f":"Q15+1","v":1},"-",{"$f":"O16+M16-1","v":0},")",null,{"$f":"X14","v":0},"квалиф",null,"(",{"$f":"Z15+1","v":1},"-",{"$f":"X16+V16-1","v":0},")",null,{"$f":"AG14","v":0},"квалиф",null,"(",{"$f":"AI15+1","v":1},"-",{"$f":"AG16+AE16-1","v":0},")"]
[null,0,"квалиф",null,"(",{"$f":"H16+1","v":1},"-",{"$f":"F17+D17-1","v":0},")",null,0,"квалиф",null,"(",{"$f":"Q16+1","v":1},"-",{"$f":"O17+M17-1","v":0},")",null,{"$f":"Y14","v":0},"квалиф",null,"(",{"$f":"Z16+1","v":1},"-",{"$f":"X17+V17-1","v":0},")",null,{"$f":"AH14","v":0},"квалиф",null,"(",{"$f":"AI16+1","v":1},"-",{"$f":"AG17+AE17-1","v":0},")"]
[null,0,"квалиф",null,"(",1,"-",{"$f":"F18+D18-1","v":0},")",null,0,"квалиф",null,"(",1,"-",{"$f":"O18+M18-1","v":0},")",null,0,"квалиф",null,"(",1,"-",{"$f":"X18+V18-1","v":0},")",null,0,"квалиф",null,"(",1,"-",{"$f":"AG18+AE18-1","v":0},")"]
[null,0,"квалиф",null,"(",1,"-",{"$f":"F19+D19-1","v":0},")",null,0,"квалиф",null,"(",1,"-",{"$f":"O19+M19-1","v":0},")",null,{"$f":"AA14","v":0},"квалиф",null,"(",1,"-",{"$f":"X19+V19-1","v":0},")",null,{"$f":"AJ14","v":0},"квалиф",null,"(",1,"-",{"$f":"AG19+AE19-1","v":0},")"]
[null,0,"1/16 ф ",null,"(",1,"-",0,")",null,0,"1/16 ф ",null,"(",1,"-",0,")",null,{"$f":"T15","v":0},"1/16 ф ",null,"(",1,"-",0,")",null,{"$f":"AC15","v":0},"1/16 ф ",null,"(",1,"-",0,")"]
[null,0,"1/16 ф ",null,"(",1,"-",0,")",null,0,"1/16 ф ",null,"(",1,"-",0,")",null,{"$f":"T16","v":0},"1/16 ф ",null,"(",1,"-",0,")",null,{"$f":"AC16","v":0},"1/16 ф ",null,"(",1,"-",0,")"]
[null,0,"1/16 ф ",null,"(",1,"-",0,")",null,0,"1/16 ф ",null,"(",1,"-",0,")",null,0,"1/16 ф ",null,"(",1,"-",0,")",null,0,"1/16 ф ",null,"(",1,"-",0,")"]
[null,0,"1/16 ф ",null,"(",1,"-",0,")",null,0,"1/16 ф ",null,"(",1,"-",0,")",null,0,"1/16 ф ",null,"(",1,"-",0,")",null,0,"1/16 ф ",null,"(",1,"-",0,")"]
[null,0,"1/16 ф ",null,"(",1,"-",0,")",null,0,"1/16 ф ",null,"(",1,"-",0,")",null,0,"1/16 ф ",null,"(",1,"-",0,")",null,0,"1/16 ф ",null,"(",1,"-",0,")"]
[null,0,"1/8 ф ",null,"(",1,"-",0,")",null,0,"1/8 ф ",null,"(",1,"-",0,")",null,0,"1/8 ф ",null,"(",1,"-",0,")",null,0,"1/8 ф ",null,"(",1,"-",0,")"]
[null,0,"1/8 ф ",null,"(",1,"-",0,")",null,0,"1/8 ф ",null,"(",1,"-",0,")",null,0,"1/8 ф ",null,"(",1,"-",0,")",null,0,"1/8 ф ",null,"(",1,"-",0,")"]
[null,0,"1/8 ф ",null,"(",1,"-",{"$f":"F27+D27-1","v":0},")",null,0,"1/8 ф ",null,"(",1,"-",{"$f":"O27+M27-1","v":0},")",null,0,"1/8 ф ",null,"(",1,"-",{"$f":"X27+V27-1","v":0},")",null,0,"1/8 ф ",null,"(",1,"-",{"$f":"AG27+AE27-1","v":0},")"]
[null,0,"1/8 ф ",null,"(",1,"-",{"$f":"F28+D28-1","v":0},")",null,0,"1/8 ф ",null,"(",1,"-",{"$f":"O28+M28-1","v":0},")",null,0,"1/8 ф ",null,"(",1,"-",{"$f":"X28+V28-1","v":0},")",null,0,"1/8 ф ",null,"(",1,"-",{"$f":"AG28+AE28-1","v":0},")"]
[null,0,"1/8 ф ",null,"(",1,"-",{"$f":"F29+D29-1","v":0},")",null,0,"1/8 ф ",null,"(",1,"-",{"$f":"O29+M29-1","v":0},")",null,0,"1/8 ф ",null,"(",1,"-",{"$f":"X29+V29-1","v":0},")",null,0,"1/8 ф ",null,"(",1,"-",{"$f":"AG29+AE29-1","v":0},")"]
[null,0,"1/4 ф",null,"(",1,"-",{"$f":"F30+D30-1","v":0},")",null,0,"1/4 ф",null,"(",1,"-",{"$f":"O30+M30-1","v":0},")",null,0,"1/4 ф",null,"(",1,"-",{"$f":"X30+V30-1","v":0},")",null,0,"1/4 ф",null,"(",1,"-",{"$f":"AG30+AE30-1","v":0},")"]
[null,0,"1/4 ф",null,"(",1,"-",0,")",null,0,"1/4 ф",null,"(",1,"-",0,")",null,0,"1/4 ф",null,"(",1,"-",0,")",null,0,"1/4 ф",null,"(",1,"-",0,")"]
[null,0,"1/4 ф",null,"(",1,"-",0,")",null,0,"1/4 ф",null,"(",1,"-",0,")",null,0,"1/4 ф",null,"(",1,"-",0,")",null,0,"1/4 ф",null,"(",1,"-",0,")"]
[null,0,"1/4 ф",null,"(",1,"-",0,")",null,0,"1/4 ф",null,"(",1,"-",0,")",null,0,"1/4 ф",null,"(",1,"-",0,")",null,0,"1/4 ф",null,"(",1,"-",0,")"]
[null,0,"1/4 ф",null,"(",1,"-",0,")",null,0,"1/4 ф",null,"(",1,"-",0,")",null,0,"1/4 ф",null,"(",1,"-",0,")",null,0,"1/4 ф",null,"(",1,"-",0,")"]
[null,0,"1/2 ф ",null,"(",1,"-",0,")",null,0,"1/2 ф ",null,"(",1,"-",0,")",null,0,"1/2 ф ",null,"(",1,"-",0,")",null,0,"1/2 ф ",null,"(",1,"-",0,")"]
[null,0,"1/2 ф ",null,"(",1,"-",0,")",null,0,"1/2 ф ",null,"(",1,"-",0,")",null,0,"1/2 ф ",null,"(",1,"-",0,")",null,0,"1/2 ф ",null,"(",1,"-",0,")"]
[null,0,"1/2 ф ",null,"(",1,"-",0,")",null,0,"1/2 ф ",null,"(",1,"-",0,")",null,0,"1/2 ф ",null,"(",1,"-",0,")",null,0,"1/2 ф ",null,"(",1,"-",0,")"]
[null,0,"1/2 ф ",null,"(",1,"-",0,")",null,0,"1/2 ф ",null,"(",1,"-",0,")",null,0,"1/2 ф ",null,"(",1,"-",0,")",null,0,"1/2 ф ",null,"(",1,"-",0,")"]
[null,0,"1/2 ф ",null,"(",1,"-",0,")",null,0,"1/2 ф ",null,"(",1,"-",0,")",null,0,"1/2 ф ",null,"(",1,"-",0,")",null,0,"1/2 ф ",null,"(",1,"-",0,")"]
[null,0,"ут 1",null,"(",1,"-",0,")",null,0,"ут 1",null,"(",1,"-",0,")",null,0,"ут 1",null,"(",1,"-",0,")",null,0,"ут 1",null,"(",1,"-",0,")"]
[null,0,"ут 1",null,"(",1,"-",0,")",null,0,"ут 1",null,"(",1,"-",0,")",null,0,"ут 1",null,"(",1,"-",0,")",null,0,"ут 1",null,"(",1,"-",0,")"]
[null,0,"ут 1",null,"(",1,"-",0,")",null,0,"ут 1",null,"(",1,"-",0,")",null,0,"ут 1",null,"(",1,"-",0,")",null,0,"ут 1",null,"(",1,"-",0,")"]
[null,0,"ут 1",null,"(",1,"-",0,")",null,0,"ут 1",null,"(",1,"-",0,")",null,0,"ут 2",null,"(",1,"-",0,")",null,0,"ут 2",null,"(",1,"-",0,")"]
[null,0,"ут 1",null,"(",1,"-",0,")",null,0,"ут 1",null,"(",1,"-",0,")",null,0,"ут 1",null,"(",1,"-",0,")",null,0,"ут 1",null,"(",1,"-",0,")"]
[null,0,"ут 2",null,"(",1,"-",0,")",null,0,"ут 2",null,"(",1,"-",0,")",null,0,"ут 2",null,"(",1,"-",0,")",null,0,"ут 2",null,"(",1,"-",0,")"]
[null,0,"ут 2",null,"(",1,"-",0,")",null,0,"ут 2",null,"(",1,"-",0,")",null,0,"ут 2",null,"(",1,"-",0,")",null,0,"ут 2",null,"(",1,"-",0,")"]
[null,0,"ут 2",null,"(",1,"-",0,")",null,0,"ут 2",null,"(",1,"-",0,")",null,0,"ут 2",null,"(",1,"-",0,")",null,0,"ут 2",null,"(",1,"-",0,")"]
[null,0,"ут 2",null,"(",1,"-",0,")",null,0,"ут 2",null,"(",1,"-",0,")",null,0,"ут 2",null,"(",1,"-",0,")",null,0,"ут 2",null,"(",1,"-",0,")"]
[null,0,"ут 2",null,"(",1,"-",0,")",null,0,"ут 2",null,"(",1,"-",0,")",null,0,"ут 2",null,"(",1,"-",0,")",null,0,"ут 2",null,"(",1,"-",0,")"]
[null,0,"ут 3",null,"(",1,"-",0,")",null,0,"ут 3",null,"(",1,"-",0,")",null,0,"ут 3",null,"(",1,"-",0,")",null,0,"ут 3",null,"(",1,"-",0,")"]
[null,0,"ут 3",null,"(",1,"-",0,")",null,0,"ут 3",null,"(",1,"-",0,")",null,0,"ут 3",null,"(",1,"-",0,")",null,0,"ут 3",null,"(",1,"-",0,")"]
[null,0,"ут 3",null,"(",1,"-",0,")",null,0,"ут 3",null,"(",1,"-",0,")",null,0,"ут 3",null,"(",1,"-",0,")",null,0,"ут 3",null,"(",1,"-",0,")"]
[null,0,"ут 3",null,"(",1,"-",0,")",null,0,"ут 3",null,"(",1,"-",0,")",null,0,"ут 3",null,"(",1,"-",0,")",null,0,"ут 3",null,"(",1,"-",0,")"]
[null,0,"ут 3",null,"(",1,"-",0,")",null,0,"ут 3",null,"(",1,"-",0,")",null,0,"ут 3",null,"(",1,"-",0,")",null,0,"ут 3",null,"(",1,"-",0,")"]
[]
[null,null,null,{"$f":"SUM(D15:D55)","v":0},null,null,null,null,null,null,null,null,{"$f":"SUM(M15:M54)","v":0},null,null,null,null,null,null,null,null,{"$f":"SUM(V15:V54)","v":0},null,null,null,null,null,null,null,null,{"$f":"SUM(AE15:AE54)","v":0}]
[]
[null,"14.30-16.00",null,"Перерыв - Break"]
[null,"17.00-17.30",null,"Торжественное открытие соревнований - Opening ceremony"]
[null,"17.30-18.00",null,"Жеребьевка спортсменов - Drawing of athletes",null,null,null,null,null,null,null,null,null,null,null,null,null,null,null,null,null,null,null,null,null,null,null,null,"22, 33, 44, 55, 66, 77 кг"]
[null,"18.00-20.00",null,"Финальные поединки - Final rounds",null,null,null,null,null,null,null,null,null,null,null,null,null,null,null,null,null,null,null,null,null,null,null,null,{"$f":"AC11","v":"44, 55, 66, 77, 88, 99 кг"}]
[]
[null,"Mat А",null,null,"59, 71, 80, 98, 130",null,null,null,null,null,"Mat В",null,null,"59, 71, 80, 98, 130",null,null,null,null,null,{"$f":"T14","v":"Mat C"},null,null,"59, 71, 80, 98, 130",null,null,null,null,null,{"$f":"AC14","v":"Mat D"},null,null,{"$f":"AF14","v":"59, 71, 80, 98, 130"}]
[null,45,"Fin 3",null,"(",{"$f":"AI54+1","v":1},"-",{"$f":"F64+D64-1","v":0},")",null,45,"Fin 3",null,"(",{"$f":"H113+1","v":1},"-",{"$f":"O64+M64-1","v":0},")",null,null,"Fin 3",null,"(",{"$f":"Q113+1","v":1},"-",{"$f":"X64+V64-1","v":0},")",null,null,"Fin 3",null,"(",{"$f":"Z113+1","v":1},"-",{"$f":"AG64+AE64-1","v":0},")"]
[null,45,"Fin 3",null,"(",{"$f":"H64+1","v":1},"-",{"$f":"F65+D65-1","v":0},")",null,45,"Fin 3",null,"(",{"$f":"Q64+1","v":1},"-",{"$f":"O65+M65-1","v":0},")",null,null,"Fin 3",null,"(",{"$f":"Z64+1","v":1},"-",{"$f":"X65+V65-1","v":0},")",null,null,"Fin 3",null,"(",{"$f":"AI64+1","v":1},"-",{"$f":"AG65+AE65-1","v":0},")"]
[null,45,"Fin 3",null,"(",{"$f":"H65+1","v":1},"-",0,")",null,45,"Fin 3",null,"(",{"$f":"Q65+1","v":1},"-",0,")",null,null,"Fin 3",null,"(",{"$f":"Z65+1","v":1},"-",0,")",null,null,"Fin 3",null,"(",{"$f":"AI65+1","v":1},"-",0,")"]
[null,45,"Fin 3",null,"(",1,"-",0,")",null,45,"Fin 3",null,"(",1,"-",0,")",null,null,"Fin 3",null,"(",1,"-",0,")",null,null,"Fin 3",null,"(",1,"-",0,")"]
[null,45,"Fin 3",null,"(",1,"-",0,")",null,45,"Fin 3",null,"(",1,"-",0,")",null,null,"Fin 3",null,"(",1,"-",0,")",null,null,"Fin 3",null,"(",1,"-",0,")"]
[null,45,"Fin 3",null,"(",1,"-",0,")",null,45,"Fin 3",null,"(",1,"-",0,")",null,null,"Fin 3",null,"(",1,"-",0,")",null,null,"Fin 3",null,"(",1,"-",0,")"]
[null,45,"Fin 3",null,"(",1,"-",0,")",null,45,"Fin 3",null,"(",1,"-",0,")",null,null,"Fin 3",null,"(",1,"-",0,")",null,null,"Fin 3",null,"(",1,"-",0,")"]
[null,45,"Fin 3",null,"(",1,"-",0,")",null,45,"Fin 3",null,"(",1,"-",0,")",null,null,"Fin 3",null,"(",1,"-",0,")",null,null,"Fin 3",null,"(",1,"-",0,")"]
[null,45,"Fin 3",null,"(",1,"-",0,")",null,45,"Fin 3",null,"(",1,"-",0,")",null,null,"Fin 3",null,"(",1,"-",0,")",null,null,"Fin 3",null,"(",1,"-",0,")"]
[null,45,"Fin 1",null,"(",1,"-",0,")",null,45,"Fin 1",null,"(",1,"-",0,")",null,null,"Fin 1",null,"(",1,"-",0,")",null,null,"Fin 1",null,"(",1,"-",0,")"]
[null,45,"Fin 1",null,"(",1,"-",0,")",null,45,"Fin 1",null,"(",1,"-",0,")",null,null,"Fin 1",null,"(",1,"-",0,")",null,null,"Fin 1",null,"(",1,"-",0,")"]
[null,45,"Fin 1",null,"(",1,"-",0,")",null,45,"Fin 1",null,"(",1,"-",0,")",null,null,"Fin 1",null,"(",1,"-",0,")",null,null,"Fin 1",null,"(",1,"-",0,")"]
[null,45,"Fin 1",null,"(",1,"-",0,")",null,45,"Fin 1",null,"(",1,"-",{"$f":"O76+M76-1","v":0},")",null,null,"Fin 1",null,"(",1,"-",0,")",null,null,"Fin 1",null,"(",1,"-",0,")"]
[null,45,"Fin 1",null,"(",1,"-",0,")",null,45,"Fin 1",null,"(",1,"-",{"$f":"O77+M77-1","v":0},")",null,null,"Fin 1",null,"(",1,"-",0,")",null,null,"Fin 1",null,"(",1,"-",0,")"]
[null,45,"Fin 1",null,"(",1,"-",0,")",null,45,"Fin 1",null,"(",1,"-",0,")",null,null,"Fin 1",null,"(",1,"-",0,")",null,null,"Fin 1",null,"(",1,"-",0,")"]
[null,45,"Fin 1",null,"(",1,"-",0,")",null,45,"Fin 1",null,"(",1,"-",0,")",null,null,"Fin 1",null,"(",1,"-",0,")",null,null,"Fin 1",null,"(",1,"-",0,")"]
[null,45,"Fin 1",null,"(",1,"-",0,")",null,45,"Fin 1",null,"(",1,"-",0,")",null,null,"Fin 1",null,"(",1,"-",0,")",null,null,"Fin 1",null,"(",1,"-",0,")"]
[null,45,"Fin 1",null,"(",1,"-",0,")",null,45,"Fin 1",null,"(",1,"-",0,")",null,null,"Fin 1",null,"(",1,"-",0,")",null,null,"Fin 1",null,"(",1,"-",0,")"]
[null,45,"Fin 1",null,"(",1,"-",0,")",null,45,"Fin 1",null,"(",1,"-",0,")",null,null,"Fin 1",null,"(",1,"-",0,")",null,null,"Fin 1",null,"(",1,"-",0,")"]
[null,45,"Fin 1",null,"(",1,"-",0,")",null,45,"Fin 1",null,"(",1,"-",0,")",null,null,"Fin 1",null,"(",1,"-",0,")",null,null,"Fin 1",null,"(",1,"-",0,")"]
[null,45,"Fin 1",null,"(",1,"-",0,")",null,45,"Fin 1",null,"(",1,"-",0,")",null,null,"Fin 1",null,"(",1,"-",0,")",null,null,"Fin 1",null,"(",1,"-",0,")"]
[null,45,"Fin 1",null,"(",1,"-",0,")",null,45,"Fin 1",null,"(",1,"-",0,")",null,null,"Fin 1",null,"(",1,"-",0,")",null,null,"Fin 1",null,"(",1,"-",0,")"]
[null,45,"Fin 1",null,"(",1,"-",0,")",null,45,"Fin 1",null,"(",1,"-",0,")",null,null,"Fin 1",null,"(",1,"-",0,")",null,null,"Fin 1",null,"(",1,"-",0,")"]
[null,45,"Fin 1",null,"(",1,"-",0,")",null,45,"Fin 1",null,"(",1,"-",0,")",null,null,"Fin 1",null,"(",1,"-",0,")",null,null,"Fin 1",null,"(",1,"-",0,")"]
[null,45,"Fin 1",null,"(",1,"-",0,")",null,45,"Fin 1",null,"(",1,"-",0,")",null,null,"Fin 1",null,"(",1,"-",0,")",null,null,"Fin 1",null,"(",1,"-",0,")"]
[null,45,"Fin 3",null,"(",1,"-",0,")",null,45,"Fin 1",null,"(",1,"-",0,")",null,45,"Fin 3",null,"(",1,"-",0,")",null,45,"Fin 3",null,"(",1,"-",0,")"]
[null,45,"Fin 1",null,"(",1,"-",0,")",null,45,"Fin 1",null,"(",1,"-",0,")",null,45,"Fin 1",null,"(",1,"-",0,")",null,45,"Fin 1",null,"(",1,"-",0,")"]
[null,45,"Fin 3",null,"(",1,"-",0,")",null,45,"Fin 1",null,"(",1,"-",0,")",null,45,"Fin 3",null,"(",1,"-",0,")",null,45,"Fin 3",null,"(",1,"-",0,")"]
[null,45,"Fin 1",null,"(",1,"-",0,")",null,45,"Fin 1",null,"(",1,"-",0,")",null,45,"Fin 1",null,"(",1,"-",0,")",null,45,"Fin 1",null,"(",1,"-",0,")"]
[null,45,"Fin 3",null,"(",1,"-",0,")",null,45,"Fin 1",null,"(",1,"-",0,")",null,45,"Fin 3",null,"(",1,"-",0,")",null,45,"Fin 3",null,"(",1,"-",0,")"]
[null,45,"Fin 1",null,"(",1,"-",0,")",null,45,"Fin 1",null,"(",1,"-",0,")",null,45,"Fin 1",null,"(",1,"-",0,")",null,45,"Fin 1",null,"(",1,"-",0,")"]
[null,45,"Fin 3",null,"(",1,"-",0,")",null,45,"Fin 1",null,"(",1,"-",0,")",null,45,"Fin 3",null,"(",1,"-",0,")",null,45,"Fin 3",null,"(",1,"-",0,")"]
[null,45,"Fin 1",null,"(",1,"-",0,")",null,45,"Fin 1",null,"(",1,"-",0,")",null,45,"Fin 1",null,"(",1,"-",0,")",null,45,"Fin 1",null,"(",1,"-",0,")"]
[null,45,"Fin 3",null,"(",1,"-",0,")",null,45,"Fin 1",null,"(",1,"-",0,")",null,45,"Fin 3",null,"(",1,"-",0,")",null,45,"Fin 3",null,"(",1,"-",0,")"]
[null,45,"Fin 1",null,"(",1,"-",0,")",null,45,"Fin 1",null,"(",1,"-",0,")",null,45,"Fin 1",null,"(",1,"-",0,")",null,45,"Fin 1",null,"(",1,"-",0,")"]
[null,45,"Fin 3",null,"(",1,"-",0,")",null,45,"Fin 1",null,"(",1,"-",0,")",null,45,"Fin 3",null,"(",1,"-",0,")",null,45,"Fin 3",null,"(",1,"-",0,")"]
[null,45,"Fin 1",null,"(",1,"-",0,")",null,45,"Fin 1",null,"(",1,"-",0,")",null,45,"Fin 1",null,"(",1,"-",0,")",null,45,"Fin 1",null,"(",1,"-",0,")"]
[null,45,"Fin 3",null,"(",1,"-",0,")",null,45,"Fin 1",null,"(",1,"-",0,")",null,45,"Fin 3",null,"(",1,"-",0,")",null,45,"Fin 3",null,"(",1,"-",0,")"]
[null,45,"Fin 1",null,"(",1,"-",0,")",null,45,"Fin 1",null,"(",1,"-",0,")",null,45,"Fin 1",null,"(",1,"-",0,")",null,45,"Fin 1",null,"(",1,"-",0,")"]
[null,45,"Fin 3",null,"(",1,"-",0,")",null,45,"Fin 1",null,"(",1,"-",0,")",null,45,"Fin 3",null,"(",1,"-",0,")",null,45,"Fin 3",null,"(",1,"-",0,")"]
[null,45,"Fin 1",null,"(",1,"-",0,")",null,45,"Fin 1",null,"(",1,"-",0,")",null,45,"Fin 1",null,"(",1,"-",0,")",null,45,"Fin 1",null,"(",1,"-",0,")"]
[null,45,"Fin 3",null,"(",1,"-",0,")",null,45,"Fin 1",null,"(",1,"-",0,")",null,45,"Fin 3",null,"(",1,"-",0,")",null,45,"Fin 3",null,"(",1,"-",0,")"]
[null,45,"Fin 1",null,"(",1,"-",0,")",null,45,"Fin 1",null,"(",1,"-",0,")",null,45,"Fin 1",null,"(",1,"-",0,")",null,45,"Fin 1",null,"(",1,"-",0,")"]
[null,45,"Fin 3",null,"(",1,"-",0,")",null,45,"Fin 1",null,"(",1,"-",0,")",null,45,"Fin 3",null,"(",1,"-",0,")",null,45,"Fin 3",null,"(",1,"-",0,")"]
[null,45,"Fin 1",null,"(",1,"-",0,")",null,45,"Fin 1",null,"(",1,"-",0,")",null,45,"Fin 1",null,"(",1,"-",0,")",null,45,"Fin 1",null,"(",1,"-",0,")"]
[null,45,"Fin 3",null,"(",1,"-",0,")",null,45,"Fin 1",null,"(",1,"-",0,")",null,45,"Fin 3",null,"(",1,"-",0,")",null,45,"Fin 3",null,"(",1,"-",0,")"]
[null,45,"Fin 1",null,"(",1,"-",0,")",null,45,"Fin 1",null,"(",1,"-",0,")",null,45,"Fin 1",null,"(",1,"-",0,")",null,45,"Fin 1",null,"(",1,"-",0,")"]
[null,45,"Fin 1",null,"(",1,"-",0,")",null,45,"Fin 1",null,"(",1,"-",0,")",null,45,"Fin 3",null,"(",1,"-",0,")",null,45,"Fin 3",null,"(",1,"-",0,")"]
[null,45,"Fin 1",null,"(",1,"-",0,")",null,45,"Fin 1",null,"(",1,"-",0,")",null,45,"Fin 1",null,"(",1,"-",0,")",null,45,"Fin 1",null,"(",1,"-",0,")"]
[null,45,"Fin 1",null,"(",1,"-",0,")",null,45,"Fin 1",null,"(",1,"-",0,")",null,45,"Fin 1",null,"(",1,"-",0,")",null,45,"Fin 1",null,"(",1,"-",0,")"]
[]
[null,null,null,{"$f":"SUM(D64:D113)","v":0},null,null,null,null,null,null,null,null,{"$f":"SUM(M64:M113)","v":0},null,null,null,null,null,null,null,null,{"$f":"SUM(V64:V113)","v":0},null,null,null,null,null,null,null,null,{"$f":"SUM(AE64:AE113)","v":0}]
[]
[null,"20.00-20.30",null,"Награждение победителей и призеров - Rewarding of winners and prize-winners",null,null,null,null,null,null,null,null,null,null,null,null,null,null,null,null,null,null,null,null,null,null,null,null,{"$f":"AC61","v":"44, 55, 66, 77, 88, 99 кг"}]
[]
[null,"Внимание! В программе могут быть изменения - Attention! Тhe program can be changed!"]

{"sheet":"5_mat","index":21,"n_rows":119,"n_cols":45,"rows_kept":119,"cut":false,"hidden":true,"merged":[[118,1,118,44],[62,37,62,39],[62,40,62,44],[114,39,114,44],[116,37,116,44],[1,1,1,44],[3,1,3,44],[13,37,13,39],[13,40,13,44],[55,39,55,44],[10,1,10,2],[10,3,10,26],[10,28,10,35],[5,1,5,7],[5,28,5,35],[7,1,7,2],[7,3,7,26],[7,28,7,35],[8,1,8,2],[8,3,8,26],[8,28,8,35],[59,37,59,44],[60,37,60,44],[5,37,5,44],[7,37,7,44],[8,37,8,44],[10,37,10,44],[11,37,11,44],[9,1,9,2],[9,3,9,26],[11,1,11,2],[11,3,11,26],[11,28,11,35],[13,1,13,3],[13,4,13,8],[13,10,13,12],[13,13,13,17],[13,19,13,21],[13,22,13,26],[13,28,13,30],[60,1,60,2],[60,3,60,17],[60,28,60,35],[13,31,13,35],[55,3,55,8],[55,12,55,17],[55,21,55,26],[55,30,55,35],[57,1,57,2],[57,3,57,17],[58,1,58,2],[58,3,58,17],[59,1,59,2],[59,3,59,17],[59,28,59,35],[116,1,116,2],[116,3,116,26],[116,28,116,35],[62,28,62,30],[62,31,62,35],[114,3,114,8],[114,12,114,17],[114,21,114,26],[114,30,114,35],[62,1,62,3],[62,4,62,8],[62,10,62,12],[62,13,62,17],[62,19,62,21],[62,22,62,26]]}
[]
[null,"Распорядок дня - The work schedule "]
[]
[null,{"$f":"Inf!B4","v":"ХХХI-Всероссийский турнир по греко-римской борьбе,посвященный памяти ректора Ленинградского финансово-экономического института им.Н.А.Вознесенского /ныне Санкт-Петербургского государственного экономического университета,з.д.н.России Лаврикова Юрия Александровича."}]
[]
[null,"дата проведения",null,null,null,null,null,null,null,null,null,null,null,null,null,null,null,null,null,null,null,null,null,null,null,null,null,null,{"$f":"Inf!F5","v":"Санкт-Петербург"}]
[]
[null,"08.00-08.30",null,"Медицинский контроль и 2 взвешивание борцов - Medical control and II weighing of wrestlers",null,null,null,null,null,null,null,null,null,null,null,null,null,null,null,null,null,null,null,null,null,null,null,null,"44, 55, 66, 77, 88, 99 кг"]
[null,"08.00-08.30",null,"Медицинский контроль и 1 взвешивание борцов - Medical control and I weighing of wrestlers",null,null,null,null,null,null,null,null,null,null,null,null,null,null,null,null,null,null,null,null,null,null,null,null,"22, 33, 44, 55, 66, 77 кг"]
[null,"10.00-10.30",null,"Торжественное открытие соревнований - Opening ceremony"]
[null,"10.00-16.45",null,"Утешительные поединки - Repechage rounds ",null,null,null,null,null,null,null,null,null,null,null,null,null,null,null,null,null,null,null,null,null,null,null,null,{"$f":"AC8","v":"44, 55, 66, 77, 88, 99 кг"}]
[null,"10.00-16.45",null,"Предварительные поединки - Preliminary rounds ",null,null,null,null,null,null,null,null,null,null,null,null,null,null,null,null,null,null,null,null,null,null,null,null,{"$f":"AC9","v":"22, 33, 44, 55, 66, 77 кг"}]
[]
[null,"Mat А",null,null,"59, 71, 80, 98, 130",null,null,null,null,null,"Mat В",null,null,"59, 71, 80, 98, 130",null,null,null,null,null,"Mat C",null,null,"59, 71, 80, 98, 130",null,null,null,null,null,"Mat D",null,null,"59, 71, 80, 98, 130",null,null,null,null,null,"Mat E",null,null,"59, 71, 80, 98, 130"]
[null,0,"квалиф",null,"(",1,"-",{"$f":"F15+D15-1","v":0},")",null,0,"квалиф",null,"(",{"$f":"H54+1","v":1},"-",{"$f":"O15+M15-1","v":0},")",null,0,"квалиф",null,"(",{"$f":"Q54+1","v":1},"-",{"$f":"X15+V15-1","v":0},")",null,0,"квалиф",null,"(",{"$f":"Z54+1","v":1},"-",{"$f":"AG15+AE15-1","v":0},")",null,0,"квалиф",null,"(",{"$f":"AI54+1","v":1},"-",{"$f":"AP15+AN15-1","v":0},")"]
[null,0,"квалиф",null,"(",{"$f":"H15+1","v":1},"-",{"$f":"F16+D16-1","v":0},")",null,0,"квалиф",null,"(",{"$f":"Q15+1","v":1},"-",{"$f":"O16+M16-1","v":0},")",null,{"$f":"X14","v":0},"квалиф",null,"(",{"$f":"Z15+1","v":1},"-",{"$f":"X16+V16-1","v":0},")",null,{"$f":"AG14","v":0},"квалиф",null,"(",{"$f":"AI15+1","v":1},"-",{"$f":"AG16+AE16-1","v":0},")",null,{"$f":"AP14","v":0},"квалиф",null,"(",{"$f":"AR15+1","v":1},"-",{"$f":"AP16+AN16-1","v":0},")"]
[null,0,"квалиф",null,"(",{"$f":"H16+1","v":1},"-",{"$f":"F17+D17-1","v":0},")",null,0,"квалиф",null,"(",{"$f":"Q16+1","v":1},"-",{"$f":"O17+M17-1","v":0},")",null,{"$f":"Y14","v":0},"квалиф",null,"(",{"$f":"Z16+1","v":1},"-",{"$f":"X17+V17-1","v":0},")",null,{"$f":"AH14","v":0},"квалиф",null,"(",{"$f":"AI16+1","v":1},"-",{"$f":"AG17+AE17-1","v":0},")",null,{"$f":"AQ14","v":0},"квалиф",null,"(",{"$f":"AR16+1","v":1},"-",{"$f":"AP17+AN17-1","v":0},")"]
[null,0,"квалиф",null,"(",1,"-",{"$f":"F18+D18-1","v":0},")",null,0,"квалиф",null,"(",1,"-",{"$f":"O18+M18-1","v":0},")",null,0,"квалиф",null,"(",1,"-",{"$f":"X18+V18-1","v":0},")",null,0,"квалиф",null,"(",1,"-",{"$f":"AG18+AE18-1","v":0},")",null,0,"квалиф",null,"(",1,"-",{"$f":"AP18+AN18-1","v":0},")"]
[null,0,"квалиф",null,"(",1,"-",{"$f":"F19+D19-1","v":0},")",null,0,"квалиф",null,"(",1,"-",{"$f":"O19+M19-1","v":0},")",null,{"$f":"AA14","v":0},"квалиф",null,"(",1,"-",{"$f":"X19+V19-1","v":0},")",null,{"$f":"AJ14","v":0},"квалиф",null,"(",1,"-",{"$f":"AG19+AE19-1","v":0},")",null,{"$f":"AS14","v":0},"квалиф",null,"(",1,"-",{"$f":"AP19+AN19-1","v":0},")"]
[null,0,"1/16 ф ",null,"(",1,"-",0,")",null,0,"1/16 ф ",null,"(",1,"-",0,")",null,{"$f":"T15","v":0},"1/16 ф ",null,"(",1,"-",0,")",null,{"$f":"AC15","v":0},"1/16 ф ",null,"(",1,"-",0,")",null,{"$f":"AL15","v":0},"1/16 ф ",null,"(",1,"-",0,")"]
[null,0,"1/16 ф ",null,"(",1,"-",0,")",null,0,"1/16 ф ",null,"(",1,"-",0,")",null,{"$f":"T16","v":0},"1/16 ф ",null,"(",1,"-",0,")",null,{"$f":"AC16","v":0},"1/16 ф ",null,"(",1,"-",0,")",null,{"$f":"AL16","v":0},"1/16 ф ",null,"(",1,"-",0,")"]
[null,0,"1/16 ф ",null,"(",1,"-",0,")",null,0,"1/16 ф ",null,"(",1,"-",0,")",null,0,"1/16 ф ",null,"(",1,"-",0,")",null,0,"1/16 ф ",null,"(",1,"-",0,")",null,0,"1/16 ф ",null,"(",1,"-",0,")"]
[null,0,"1/16 ф ",null,"(",1,"-",0,")",null,0,"1/16 ф ",null,"(",1,"-",0,")",null,0,"1/16 ф ",null,"(",1,"-",0,")",null,0,"1/16 ф ",null,"(",1,"-",0,")",null,0,"1/16 ф ",null,"(",1,"-",0,")"]
[null,0,"1/16 ф ",null,"(",1,"-",0,")",null,0,"1/16 ф ",null,"(",1,"-",0,")",null,0,"1/16 ф ",null,"(",1,"-",0,")",null,0,"1/16 ф ",null,"(",1,"-",0,")",null,0,"1/16 ф ",null,"(",1,"-",0,")"]
[null,0,"1/8 ф ",null,"(",1,"-",0,")",null,0,"1/8 ф ",null,"(",1,"-",0,")",null,0,"1/8 ф ",null,"(",1,"-",0,")",null,0,"1/8 ф ",null,"(",1,"-",0,")",null,0,"1/8 ф ",null,"(",1,"-",0,")"]
[null,0,"1/8 ф ",null,"(",1,"-",0,")",null,0,"1/8 ф ",null,"(",1,"-",0,")",null,0,"1/8 ф ",null,"(",1,"-",0,")",null,0,"1/8 ф ",null,"(",1,"-",0,")",null,0,"1/8 ф ",null,"(",1,"-",0,")"]
[null,0,"1/8 ф ",null,"(",1,"-",{"$f":"F27+D27-1","v":0},")",null,0,"1/8 ф ",null,"(",1,"-",{"$f":"O27+M27-1","v":0},")",null,0,"1/8 ф ",null,"(",1,"-",{"$f":"X27+V27-1","v":0},")",null,0,"1/8 ф ",null,"(",1,"-",{"$f":"AG27+AE27-1","v":0},")",null,0,"1/8 ф ",null,"(",1,"-",{"$f":"AP27+AN27-1","v":0},")"]
[null,0,"1/8 ф ",null,"(",1,"-",{"$f":"F28+D28-1","v":0},")",null,0,"1/8 ф ",null,"(",1,"-",{"$f":"O28+M28-1","v":0},")",null,0,"1/8 ф ",null,"(",1,"-",{"$f":"X28+V28-1","v":0},")",null,0,"1/8 ф ",null,"(",1,"-",{"$f":"AG28+AE28-1","v":0},")",null,0,"1/8 ф ",null,"(",1,"-",{"$f":"AP28+AN28-1","v":0},")"]
[null,0,"1/8 ф ",null,"(",1,"-",{"$f":"F29+D29-1","v":0},")",null,0,"1/8 ф ",null,"(",1,"-",{"$f":"O29+M29-1","v":0},")",null,0,"1/8 ф ",null,"(",1,"-",{"$f":"X29+V29-1","v":0},")",null,0,"1/8 ф ",null,"(",1,"-",{"$f":"AG29+AE29-1","v":0},")",null,0,"1/8 ф ",null,"(",1,"-",{"$f":"AP29+AN29-1","v":0},")"]
[null,0,"1/4 ф",null,"(",1,"-",{"$f":"F30+D30-1","v":0},")",null,0,"1/4 ф",null,"(",1,"-",{"$f":"O30+M30-1","v":0},")",null,0,"1/4 ф",null,"(",1,"-",{"$f":"X30+V30-1","v":0},")",null,0,"1/4 ф",null,"(",1,"-",{"$f":"AG30+AE30-1","v":0},")",null,0,"1/4 ф",null,"(",1,"-",{"$f":"AP30+AN30-1","v":0},")"]
[null,0,"1/4 ф",null,"(",1,"-",0,")",null,0,"1/4 ф",null,"(",1,"-",0,")",null,0,"1/4 ф",null,"(",1,"-",0,")",null,0,"1/4 ф",null,"(",1,"-",0,")",null,0,"1/4 ф",null,"(",1,"-",0,")"]
[null,0,"1/4 ф",null,"(",1,"-",0,")",null,0,"1/4 ф",null,"(",1,"-",0,")",null,0,"1/4 ф",null,"(",1,"-",0,")",null,0,"1/4 ф",null,"(",1,"-",0,")",null,0,"1/4 ф",null,"(",1,"-",0,")"]
[null,0,"1/4 ф",null,"(",1,"-",0,")",null,0,"1/4 ф",null,"(",1,"-",0,")",null,0,"1/4 ф",null,"(",1,"-",0,")",null,0,"1/4 ф",null,"(",1,"-",0,")",null,0,"1/4 ф",null,"(",1,"-",0,")"]
[null,0,"1/4 ф",null,"(",1,"-",0,")",null,0,"1/4 ф",null,"(",1,"-",0,")",null,0,"1/4 ф",null,"(",1,"-",0,")",null,0,"1/4 ф",null,"(",1,"-",0,")",null,0,"1/4 ф",null,"(",1,"-",0,")"]
[null,0,"1/2 ф ",null,"(",1,"-",0,")",null,0,"1/2 ф ",null,"(",1,"-",0,")",null,0,"1/2 ф ",null,"(",1,"-",0,")",null,0,"1/2 ф ",null,"(",1,"-",0,")",null,0,"1/2 ф ",null,"(",1,"-",0,")"]
[null,0,"1/2 ф ",null,"(",1,"-",0,")",null,0,"1/2 ф ",null,"(",1,"-",0,")",null,0,"1/2 ф ",null,"(",1,"-",0,")",null,0,"1/2 ф ",null,"(",1,"-",0,")",null,0,"1/2 ф ",null,"(",1,"-",0,")"]
[null,0,"1/2 ф ",null,"(",1,"-",0,")",null,0,"1/2 ф ",null,"(",1,"-",0,")",null,0,"1/2 ф ",null,"(",1,"-",0,")",null,0,"1/2 ф ",null,"(",1,"-",0,")",null,0,"1/2 ф ",null,"(",1,"-",0,")"]
[null,0,"1/2 ф ",null,"(",1,"-",0,")",null,0,"1/2 ф ",null,"(",1,"-",0,")",null,0,"1/2 ф ",null,"(",1,"-",0,")",null,0,"1/2 ф ",null,"(",1,"-",0,")",null,0,"1/2 ф ",null,"(",1,"-",0,")"]
[null,0,"1/2 ф ",null,"(",1,"-",0,")",null,0,"1/2 ф ",null,"(",1,"-",0,")",null,0,"1/2 ф ",null,"(",1,"-",0,")",null,0,"1/2 ф ",null,"(",1,"-",0,")",null,0,"1/2 ф ",null,"(",1,"-",0,")"]
[null,0,"ут 1",null,"(",1,"-",0,")",null,0,"ут 1",null,"(",1,"-",0,")",null,0,"ут 1",null,"(",1,"-",0,")",null,0,"ут 1",null,"(",1,"-",0,")",null,0,"ут 1",null,"(",1,"-",0,")"]
[null,0,"ут 1",null,"(",1,"-",0,")",null,0,"ут 1",null,"(",1,"-",0,")",null,0,"ут 1",null,"(",1,"-",0,")",null,0,"ут 1",null,"(",1,"-",0,")",null,0,"ут 1",null,"(",1,"-",0,")"]
[null,0,"ут 1",null,"(",1,"-",0,")",null,0,"ут 1",null,"(",1,"-",0,")",null,0,"ут 1",null,"(",1,"-",0,")",null,0,"ут 1",null,"(",1,"-",0,")",null,0,"ут 1",null,"(",1,"-",0,")"]
[null,0,"ут 1",null,"(",1,"-",0,")",null,0,"ут 1",null,"(",1,"-",0,")",null,0,"ут 2",null,"(",1,"-",0,")",null,0,"ут 2",null,"(",1,"-",0,")",null,0,"ут 2",null,"(",1,"-",0,")"]
[null,0,"ут 1",null,"(",1,"-",0,")",null,0,"ут 1",null,"(",1,"-",0,")",null,0,"ут 1",null,"(",1,"-",0,")",null,0,"ут 1",null,"(",1,"-",0,")",null,0,"ут 1",null,"(",1,"-",0,")"]
[null,0,"ут 2",null,"(",1,"-",0,")",null,0,"ут 2",null,"(",1,"-",0,")",null,0,"ут 2",null,"(",1,"-",0,")",null,0,"ут 2",null,"(",1,"-",0,")",null,0,"ут 2",null,"(",1,"-",0,")"]
[null,0,"ут 2",null,"(",1,"-",0,")",null,0,"ут 2",null,"(",1,"-",0,")",null,0,"ут 2",null,"(",1,"-",0,")",null,0,"ут 2",null,"(",1,"-",0,")",null,0,"ут 2",null,"(",1,"-",0,")"]
[null,0,"ут 2",null,"(",1,"-",0,")",null,0,"ут 2",null,"(",1,"-",0,")",null,0,"ут 2",null,"(",1,"-",0,")",null,0,"ут 2",null,"(",1,"-",0,")",null,0,"ут 2",null,"(",1,"-",0,")"]
[null,0,"ут 2",null,"(",1,"-",0,")",null,0,"ут 2",null,"(",1,"-",0,")",null,0,"ут 2",null,"(",1,"-",0,")",null,0,"ут 2",null,"(",1,"-",0,")",null,0,"ут 2",null,"(",1,"-",0,")"]
[null,0,"ут 2",null,"(",1,"-",0,")",null,0,"ут 2",null,"(",1,"-",0,")",null,0,"ут 2",null,"(",1,"-",0,")",null,0,"ут 2",null,"(",1,"-",0,")",null,0,"ут 2",null,"(",1,"-",0,")"]
[null,0,"ут 3",null,"(",1,"-",0,")",null,0,"ут 3",null,"(",1,"-",0,")",null,0,"ут 3",null,"(",1,"-",0,")",null,0,"ут 3",null,"(",1,"-",0,")",null,0,"ут 3",null,"(",1,"-",0,")"]
[null,0,"ут 3",null,"(",1,"-",0,")",null,0,"ут 3",null,"(",1,"-",0,")",null,0,"ут 3",null,"(",1,"-",0,")",null,0,"ут 3",null,"(",1,"-",0,")",null,0,"ут 3",null,"(",1,"-",0,")"]
[null,0,"ут 3",null,"(",1,"-",0,")",null,0,"ут 3",null,"(",1,"-",0,")",null,0,"ут 3",null,"(",1,"-",0,")",null,0,"ут 3",null,"(",1,"-",0,")",null,0,"ут 3",null,"(",1,"-",0,")"]
[null,0,"ут 3",null,"(",1,"-",0,")",null,0,"ут 3",null,"(",1,"-",0,")",null,0,"ут 3",null,"(",1,"-",0,")",null,0,"ут 3",null,"(",1,"-",0,")",null,0,"ут 3",null,"(",1,"-",0,")"]
[null,0,"ут 3",null,"(",1,"-",0,")",null,0,"ут 3",null,"(",1,"-",0,")",null,0,"ут 3",null,"(",1,"-",0,")",null,0,"ут 3",null,"(",1,"-",0,")",null,0,"ут 3",null,"(",1,"-",0,")"]
[]
[null,null,null,{"$f":"SUM(D15:D55)","v":0},null,null,null,null,null,null,null,null,{"$f":"SUM(M15:M54)","v":0},null,null,null,null,null,null,null,null,{"$f":"SUM(V15:V54)","v":0},null,null,null,null,null,null,null,null,{"$f":"SUM(AE15:AE54)","v":0},null,null,null,null,null,null,null,null,{"$f":"SUM(AN15:AN54)","v":0}]
[]
[null,"14.30-16.00",null,"Перерыв - Break"]
[null,"17.00-17.30",null,"Торжественное открытие соревнований - Opening ceremony"]
[null,"17.30-18.00",null,"Жеребьевка спортсменов - Drawing of athletes",null,null,null,null,null,null,null,null,null,null,null,null,null,null,null,null,null,null,null,null,null,null,null,null,"22, 33, 44, 55, 66, 77 кг"]
[null,"18.00-20.00",null,"Финальные поединки - Final rounds",null,null,null,null,null,null,null,null,null,null,null,null,null,null,null,null,null,null,null,null,null,null,null,null,{"$f":"AC11","v":"44, 55, 66, 77, 88, 99 кг"}]
[]
[null,"Mat А",null,null,"59, 71, 80, 98, 130",null,null,null,null,null,"Mat В",null,null,"59, 71, 80, 98, 130",null,null,null,null,null,{"$f":"T14","v":"Mat C"},null,null,"59, 71, 80, 98, 130",null,null,null,null,null,{"$f":"AC14","v":"Mat D"},null,null,{"$f":"AF14","v":"59, 71, 80, 98, 130"},null,null,null,null,null,{"$f":"AL14","v":"Mat E"},null,null,"59, 71, 80, 98, 130"]
[null,45,"Fin 3",null,"(",{"$f":"AR54+1","v":1},"-",{"$f":"F64+D64-1","v":0},")",null,45,"Fin 3",null,"(",{"$f":"H113+1","v":1},"-",{"$f":"O64+M64-1","v":0},")",null,null,"Fin 3",null,"(",{"$f":"Q113+1","v":1},"-",{"$f":"X64+V64-1","v":0},")",null,null,"Fin 3",null,"(",{"$f":"Z113+1","v":1},"-",{"$f":"AG64+AE64-1","v":0},")",null,null,"Fin 3",null,"(",{"$f":"AI113+1","v":1},"-",{"$f":"AP64+AN64-1","v":0},")"]
[null,45,"Fin 3",null,"(",{"$f":"H64+1","v":1},"-",{"$f":"F65+D65-1","v":0},")",null,45,"Fin 3",null,"(",{"$f":"Q64+1","v":1},"-",{"$f":"O65+M65-1","v":0},")",null,null,"Fin 3",null,"(",{"$f":"Z64+1","v":1},"-",{"$f":"X65+V65-1","v":0},")",null,null,"Fin 3",null,"(",{"$f":"AI64+1","v":1},"-",{"$f":"AG65+AE65-1","v":0},")",null,null,"Fin 3",null,"(",{"$f":"AR64+1","v":1},"-",{"$f":"AP65+AN65-1","v":0},")"]
[null,45,"Fin 3",null,"(",{"$f":"H65+1","v":1},"-",0,")",null,45,"Fin 3",null,"(",{"$f":"Q65+1","v":1},"-",0,")",null,null,"Fin 3",null,"(",{"$f":"Z65+1","v":1},"-",0,")",null,null,"Fin 3",null,"(",{"$f":"AI65+1","v":1},"-",0,")",null,null,"Fin 3",null,"(",{"$f":"AR65+1","v":1},"-",0,")"]
[null,45,"Fin 3",null,"(",1,"-",0,")",null,45,"Fin 3",null,"(",1,"-",0,")",null,null,"Fin 3",null,"(",1,"-",0,")",null,null,"Fin 3",null,"(",1,"-",0,")",null,null,"Fin 3",null,"(",1,"-",0,")"]
[null,45,"Fin 3",null,"(",1,"-",0,")",null,45,"Fin 3",null,"(",1,"-",0,")",null,null,"Fin 3",null,"(",1,"-",0,")",null,null,"Fin 3",null,"(",1,"-",0,")",null,null,"Fin 3",null,"(",1,"-",0,")"]
[null,45,"Fin 3",null,"(",1,"-",0,")",null,45,"Fin 3",null,"(",1,"-",0,")",null,null,"Fin 3",null,"(",1,"-",0,")",null,null,"Fin 3",null,"(",1,"-",0,")",null,null,"Fin 3",null,"(",1,"-",0,")"]
[null,45,"Fin 3",null,"(",1,"-",0,")",null,45,"Fin 3",null,"(",1,"-",0,")",null,null,"Fin 3",null,"(",1,"-",0,")",null,null,"Fin 3",null,"(",1,"-",0,")",null,null,"Fin 3",null,"(",1,"-",0,")"]
[null,45,"Fin 3",null,"(",1,"-",0,")",null,45,"Fin 3",null,"(",1,"-",0,")",null,null,"Fin 3",null,"(",1,"-",0,")",null,null,"Fin 3",null,"(",1,"-",0,")",null,null,"Fin 3",null,"(",1,"-",0,")"]
[null,45,"Fin 3",null,"(",1,"-",0,")",null,45,"Fin 3",null,"(",1,"-",0,")",null,null,"Fin 3",null,"(",1,"-",0,")",null,null,"Fin 3",null,"(",1,"-",0,")",null,null,"Fin 3",null,"(",1,"-",0,")"]
[null,45,"Fin 1",null,"(",1,"-",0,")",null,45,"Fin 1",null,"(",1,"-",0,")",null,null,"Fin 1",null,"(",1,"-",0,")",null,null,"Fin 1",null,"(",1,"-",0,")",null,null,"Fin 1",null,"(",1,"-",0,")"]
[null,45,"Fin 1",null,"(",1,"-",0,")",null,45,"Fin 1",null,"(",1,"-",0,")",null,null,"Fin 1",null,"(",1,"-",0,")",null,null,"Fin 1",null,"(",1,"-",0,")",null,null,"Fin 1",null,"(",1,"-",0,")"]
[null,45,"Fin 1",null,"(",1,"-",0,")",null,45,"Fin 1",null,"(",1,"-",0,")",null,null,"Fin 1",null,"(",1,"-",0,")",null,null,"Fin 1",null,"(",1,"-",0,")",null,null,"Fin 1",null,"(",1,"-",0,")"]
[null,45,"Fin 1",null,"(",1,"-",0,")",null,45,"Fin 1",null,"(",1,"-",{"$f":"O76+M76-1","v":0},")",null,null,"Fin 1",null,"(",1,"-",0,")",null,null,"Fin 1",null,"(",1,"-",0,")",null,null,"Fin 1",null,"(",1,"-",0,")"]
[null,45,"Fin 1",null,"(",1,"-",0,")",null,45,"Fin 1",null,"(",1,"-",{"$f":"O77+M77-1","v":0},")",null,null,"Fin 1",null,"(",1,"-",0,")",null,null,"Fin 1",null,"(",1,"-",0,")",null,null,"Fin 1",null,"(",1,"-",0,")"]
[null,45,"Fin 1",null,"(",1,"-",0,")",null,45,"Fin 1",null,"(",1,"-",0,")",null,null,"Fin 1",null,"(",1,"-",0,")",null,null,"Fin 1",null,"(",1,"-",0,")",null,null,"Fin 1",null,"(",1,"-",0,")"]
[null,45,"Fin 1",null,"(",1,"-",0,")",null,45,"Fin 1",null,"(",1,"-",0,")",null,null,"Fin 1",null,"(",1,"-",0,")",null,null,"Fin 1",null,"(",1,"-",0,")",null,null,"Fin 1",null,"(",1,"-",0,")"]
[null,45,"Fin 1",null,"(",1,"-",0,")",null,45,"Fin 1",null,"(",1,"-",0,")",null,null,"Fin 1",null,"(",1,"-",0,")",null,null,"Fin 1",null,"(",1,"-",0,")",null,null,"Fin 1",null,"(",1,"-",0,")"]
[null,45,"Fin 1",null,"(",1,"-",0,")",null,45,"Fin 1",null,"(",1,"-",0,")",null,null,"Fin 1",null,"(",1,"-",0,")",null,null,"Fin 1",null,"(",1,"-",0,")",null,null,"Fin 1",null,"(",1,"-",0,")"]
[null,45,"Fin 1",null,"(",1,"-",0,")",null,45,"Fin 1",null,"(",1,"-",0,")",null,null,"Fin 1",null,"(",1,"-",0,")",null,null,"Fin 1",null,"(",1,"-",0,")",null,null,"Fin 1",null,"(",1,"-",0,")"]
[null,45,"Fin 1",null,"(",1,"-",0,")",null,45,"Fin 1",null,"(",1,"-",0,")",null,null,"Fin 1",null,"(",1,"-",0,")",null,null,"Fin 1",null,"(",1,"-",0,")",null,null,"Fin 1",null,"(",1,"-",0,")"]
[null,45,"Fin 1",null,"(",1,"-",0,")",null,45,"Fin 1",null,"(",1,"-",0,")",null,null,"Fin 1",null,"(",1,"-",0,")",null,null,"Fin 1",null,"(",1,"-",0,")",null,null,"Fin 1",null,"(",1,"-",0,")"]
[null,45,"Fin 1",null,"(",1,"-",0,")",null,45,"Fin 1",null,"(",1,"-",0,")",null,null,"Fin 1",null,"(",1,"-",0,")",null,null,"Fin 1",null,"(",1,"-",0,")",null,null,"Fin 1",null,"(",1,"-",0,")"]
[null,45,"Fin 1",null,"(",1,"-",0,")",null,45,"Fin 1",null,"(",1,"-",0,")",null,null,"Fin 1",null,"(",1,"-",0,")",null,null,"Fin 1",null,"(",1,"-",0,")",null,null,"Fin 1",null,"(",1,"-",0,")"]
[null,45,"Fin 1",null,"(",1,"-",0,")",null,45,"Fin 1",null,"(",1,"-",0,")",null,null,"Fin 1",null,"(",1,"-",0,")",null,null,"Fin 1",null,"(",1,"-",0,")",null,null,"Fin 1",null,"(",1,"-",0,")"]
[null,45,"Fin 1",null,"(",1,"-",0,")",null,45,"Fin 1",null,"(",1,"-",0,")",null,null,"Fin 1",null,"(",1,"-",0,")",null,null,"Fin 1",null,"(",1,"-",0,")",null,null,"Fin 1",null,"(",1,"-",0,")"]
[null,45,"Fin 3",null,"(",1,"-",0,")",null,45,"Fin 1",null,"(",1,"-",0,")",null,45,"Fin 3",null,"(",1,"-",0,")",null,45,"Fin 3",null,"(",1,"-",0,")",null,45,"Fin 3",null,"(",1,"-",0,")"]
[null,45,"Fin 1",null,"(",1,"-",0,")",null,45,"Fin 1",null,"(",1,"-",0,")",null,45,"Fin 1",null,"(",1,"-",0,")",null,45,"Fin 1",null,"(",1,"-",0,")",null,45,"Fin 1",null,"(",1,"-",0,")"]
[null,45,"Fin 3",null,"(",1,"-",0,")",null,45,"Fin 1",null,"(",1,"-",0,")",null,45,"Fin 3",null,"(",1,"-",0,")",null,45,"Fin 3",null,"(",1,"-",0,")",null,45,"Fin 3",null,"(",1,"-",0,")"]
[null,45,"Fin 1",null,"(",1,"-",0,")",null,45,"Fin 1",null,"(",1,"-",0,")",null,45,"Fin 1",null,"(",1,"-",0,")",null,45,"Fin 1",null,"(",1,"-",0,")",null,45,"Fin 1",null,"(",1,"-",0,")"]
[null,45,"Fin 3",null,"(",1,"-",0,")",null,45,"Fin 1",null,"(",1,"-",0,")",null,45,"Fin 3",null,"(",1,"-",0,")",null,45,"Fin 3",null,"(",1,"-",0,")",null,45,"Fin 3",null,"(",1,"-",0,")"]
[null,45,"Fin 1",null,"(",1,"-",0,")",null,45,"Fin 1",null,"(",1,"-",0,")",null,45,"Fin 1",null,"(",1,"-",0,")",null,45,"Fin 1",null,"(",1,"-",0,")",null,45,"Fin 1",null,"(",1,"-",0,")"]
[null,45,"Fin 3",null,"(",1,"-",0,")",null,45,"Fin 1",null,"(",1,"-",0,")",null,45,"Fin 3",null,"(",1,"-",0,")",null,45,"Fin 3",null,"(",1,"-",0,")",null,45,"Fin 3",null,"(",1,"-",0,")"]
[null,45,"Fin 1",null,"(",1,"-",0,")",null,45,"Fin 1",null,"(",1,"-",0,")",null,45,"Fin 1",null,"(",1,"-",0,")",null,45,"Fin 1",null,"(",1,"-",0,")",null,45,"Fin 1",null,"(",1,"-",0,")"]
[null,45,"Fin 3",null,"(",1,"-",0,")",null,45,"Fin 1",null,"(",1,"-",0,")",null,45,"Fin 3",null,"(",1,"-",0,")",null,45,"Fin 3",null,"(",1,"-",0,")",null,45,"Fin 3",null,"(",1,"-",0,")"]
[null,45,"Fin 1",null,"(",1,"-",0,")",null,45,"Fin 1",null,"(",1,"-",0,")",null,45,"Fin 1",null,"(",1,"-",0,")",null,45,"Fin 1",null,"(",1,"-",0,")"]
[null,45,"Fin 3",null,"(",1,"-",0,")",null,45,"Fin 1",null,"(",1,"-",0,")",null,45,"Fin 3",null,"(",1,"-",0,")",null,45,"Fin 3",null,"(",1,"-",0,")"]
[null,45,"Fin 1",null,"(",1,"-",0,")",null,45,"Fin 1",null,"(",1,"-",0,")",null,45,"Fin 1",null,"(",1,"-",0,")",null,45,"Fin 1",null,"(",1,"-",0,")"]
[null,45,"Fin 3",null,"(",1,"-",0,")",null,45,"Fin 1",null,"(",1,"-",0,")",null,45,"Fin 3",null,"(",1,"-",0,")",null,45,"Fin 3",null,"(",1,"-",0,")"]
[null,45,"Fin 1",null,"(",1,"-",0,")",null,45,"Fin 1",null,"(",1,"-",0,")",null,45,"Fin 1",null,"(",1,"-",0,")",null,45,"Fin 1",null,"(",1,"-",0,")"]
[null,45,"Fin 3",null,"(",1,"-",0,")",null,45,"Fin 1",null,"(",1,"-",0,")",null,45,"Fin 3",null,"(",1,"-",0,")",null,45,"Fin 3",null,"(",1,"-",0,")"]
[null,45,"Fin 1",null,"(",1,"-",0,")",null,45,"Fin 1",null,"(",1,"-",0,")",null,45,"Fin 1",null,"(",1,"-",0,")",null,45,"Fin 1",null,"(",1,"-",0,")"]
[null,45,"Fin 3",null,"(",1,"-",0,")",null,45,"Fin 1",null,"(",1,"-",0,")",null,45,"Fin 3",null,"(",1,"-",0,")",null,45,"Fin 3",null,"(",1,"-",0,")"]
[null,45,"Fin 1",null,"(",1,"-",0,")",null,45,"Fin 1",null,"(",1,"-",0,")",null,45,"Fin 1",null,"(",1,"-",0,")",null,45,"Fin 1",null,"(",1,"-",0,")"]
[null,45,"Fin 3",null,"(",1,"-",0,")",null,45,"Fin 1",null,"(",1,"-",0,")",null,45,"Fin 3",null,"(",1,"-",0,")",null,45,"Fin 3",null,"(",1,"-",0,")"]
[null,45,"Fin 1",null,"(",1,"-",0,")",null,45,"Fin 1",null,"(",1,"-",0,")",null,45,"Fin 1",null,"(",1,"-",0,")",null,45,"Fin 1",null,"(",1,"-",0,")"]
[null,45,"Fin 3",null,"(",1,"-",0,")",null,45,"Fin 1",null,"(",1,"-",0,")",null,45,"Fin 3",null,"(",1,"-",0,")",null,45,"Fin 3",null,"(",1,"-",0,")"]
[null,45,"Fin 1",null,"(",1,"-",0,")",null,45,"Fin 1",null,"(",1,"-",0,")",null,45,"Fin 1",null,"(",1,"-",0,")",null,45,"Fin 1",null,"(",1,"-",0,")"]
[null,45,"Fin 1",null,"(",1,"-",0,")",null,45,"Fin 1",null,"(",1,"-",0,")",null,45,"Fin 3",null,"(",1,"-",0,")",null,45,"Fin 3",null,"(",1,"-",0,")"]
[null,45,"Fin 1",null,"(",1,"-",0,")",null,45,"Fin 1",null,"(",1,"-",0,")",null,45,"Fin 1",null,"(",1,"-",0,")",null,45,"Fin 1",null,"(",1,"-",0,")"]
[null,45,"Fin 1",null,"(",1,"-",0,")",null,45,"Fin 1",null,"(",1,"-",0,")",null,45,"Fin 1",null,"(",1,"-",0,")",null,45,"Fin 1",null,"(",1,"-",0,")"]
[]
[null,null,null,{"$f":"SUM(D64:D113)","v":0},null,null,null,null,null,null,null,null,{"$f":"SUM(M64:M113)","v":0},null,null,null,null,null,null,null,null,{"$f":"SUM(V64:V113)","v":0},null,null,null,null,null,null,null,null,{"$f":"SUM(AE64:AE113)","v":0},null,null,null,null,null,null,null,null,{"$f":"SUM(AN64:AN113)","v":0}]
[]
[null,"20.00-20.30",null,"Награждение победителей и призеров - Rewarding of winners and prize-winners",null,null,null,null,null,null,null,null,null,null,null,null,null,null,null,null,null,null,null,null,null,null,null,null,{"$f":"AC61","v":"44, 55, 66, 77, 88, 99 кг"}]
[]
[null,"Внимание! В программе могут быть изменения - Attention! Тhe program can be changed!"]

{"sheet":"A-B","index":22,"n_rows":11,"n_cols":14,"rows_kept":11,"cut":false,"hidden":true,"merged":[[0,1,0,13]]}
[null,"Распределение по пулам участников весовой категории в зависимости от количества участников"]
[null,"ВЕС"]
[null,"Кол-во"]
[null,"А1",{"$f":"IF(C3=0,\"\",INDEX(Лист4!$B$1:$J$58,MATCH(C3,Лист4!$B$1:$B$58,0),2))","v":""},{"$f":"IF(D3=0,\"\",INDEX(Лист4!$B$1:$J$58,MATCH(D3,Лист4!$B$1:$B$58,0),2))","v":""},{"$f":"IF(E3=0,\"\",INDEX(Лист4!$B$1:$J$58,MATCH(E3,Лист4!$B$1:$B$58,0),2))","v":""},{"$f":"IF(F3=0,\"\",INDEX(Лист4!$B$1:$J$58,MATCH(F3,Лист4!$B$1:$B$58,0),2))","v":""},{"$f":"IF(G3=0,\"\",INDEX(Лист4!$B$1:$J$58,MATCH(G3,Лист4!$B$1:$B$58,0),2))","v":""},{"$f":"IF(H3=0,\"\",INDEX(Лист4!$B$1:$J$58,MATCH(H3,Лист4!$B$1:$B$58,0),2))","v":""},{"$f":"IF(I3=0,\"\",INDEX(Лист4!$B$1:$J$58,MATCH(I3,Лист4!$B$1:$B$58,0),2))","v":""},{"$f":"IF(J3=0,\"\",INDEX(Лист4!$B$1:$J$58,MATCH(J3,Лист4!$B$1:$B$58,0),2))","v":""},{"$f":"IF(K3=0,\"\",INDEX(Лист4!$B$1:$J$58,MATCH(K3,Лист4!$B$1:$B$58,0),2))","v":""},{"$f":"IF(L3=0,\"\",INDEX(Лист4!$B$1:$J$58,MATCH(L3,Лист4!$B$1:$B$58,0),2))","v":""},{"$f":"IF(M3=0,\"\",INDEX(Лист4!$B$1:$J$58,MATCH(M3,Лист4!$B$1:$B$58,0),2))","v":""},{"$f":"IF(N3=0,\"\",INDEX(Лист4!$B$1:$J$58,MATCH(N3,Лист4!$B$1:$B$58,0),2))","v":""}]
[null,"А2",{"$f":"IF(C3=0,\"\",INDEX(Лист4!$B$1:$J$58,MATCH(C3,Лист4!$B$1:$B$58,0),3))","v":""},{"$f":"IF(D3=0,\"\",INDEX(Лист4!$B$1:$J$58,MATCH(D3,Лист4!$B$1:$B$58,0),3))","v":""},{"$f":"IF(E3=0,\"\",INDEX(Лист4!$B$1:$J$58,MATCH(E3,Лист4!$B$1:$B$58,0),3))","v":""},{"$f":"IF(F3=0,\"\",INDEX(Лист4!$B$1:$J$58,MATCH(F3,Лист4!$B$1:$B$58,0),3))","v":""},{"$f":"IF(G3=0,\"\",INDEX(Лист4!$B$1:$J$58,MATCH(G3,Лист4!$B$1:$B$58,0),3))","v":""},{"$f":"IF(H3=0,\"\",INDEX(Лист4!$B$1:$J$58,MATCH(H3,Лист4!$B$1:$B$58,0),3))","v":""},{"$f":"IF(I3=0,\"\",INDEX(Лист4!$B$1:$J$58,MATCH(I3,Лист4!$B$1:$B$58,0),3))","v":""},{"$f":"IF(J3=0,\"\",INDEX(Лист4!$B$1:$J$58,MATCH(J3,Лист4!$B$1:$B$58,0),3))","v":""},{"$f":"IF(K3=0,\"\",INDEX(Лист4!$B$1:$J$58,MATCH(K3,Лист4!$B$1:$B$58,0),3))","v":""},{"$f":"IF(L3=0,\"\",INDEX(Лист4!$B$1:$J$58,MATCH(L3,Лист4!$B$1:$B$58,0),3))","v":""},{"$f":"IF(M3=0,\"\",INDEX(Лист4!$B$1:$J$58,MATCH(M3,Лист4!$B$1:$B$58,0),3))","v":""},{"$f":"IF(N3=0,\"\",INDEX(Лист4!$B$1:$J$58,MATCH(N3,Лист4!$B$1:$B$58,0),3))","v":""}]
[null,"А3",{"$f":"IF(C3=0,\"\",INDEX(Лист4!$B$1:$J$58,MATCH(C3,Лист4!$B$1:$B$58,0),4))","v":""},{"$f":"IF(D3=0,\"\",INDEX(Лист4!$B$1:$J$58,MATCH(D3,Лист4!$B$1:$B$58,0),4))","v":""},{"$f":"IF(E3=0,\"\",INDEX(Лист4!$B$1:$J$58,MATCH(E3,Лист4!$B$1:$B$58,0),4))","v":""},{"$f":"IF(F3=0,\"\",INDEX(Лист4!$B$1:$J$58,MATCH(F3,Лист4!$B$1:$B$58,0),4))","v":""},{"$f":"IF(G3=0,\"\",INDEX(Лист4!$B$1:$J$58,MATCH(G3,Лист4!$B$1:$B$58,0),4))","v":""},{"$f":"IF(H3=0,\"\",INDEX(Лист4!$B$1:$J$58,MATCH(H3,Лист4!$B$1:$B$58,0),4))","v":""},{"$f":"IF(I3=0,\"\",INDEX(Лист4!$B$1:$J$58,MATCH(I3,Лист4!$B$1:$B$58,0),4))","v":""},{"$f":"IF(J3=0,\"\",INDEX(Лист4!$B$1:$J$58,MATCH(J3,Лист4!$B$1:$B$58,0),4))","v":""},{"$f":"IF(K3=0,\"\",INDEX(Лист4!$B$1:$J$58,MATCH(K3,Лист4!$B$1:$B$58,0),4))","v":""},{"$f":"IF(L3=0,\"\",INDEX(Лист4!$B$1:$J$58,MATCH(L3,Лист4!$B$1:$B$58,0),4))","v":""},{"$f":"IF(M3=0,\"\",INDEX(Лист4!$B$1:$J$58,MATCH(M3,Лист4!$B$1:$B$58,0),4))","v":""},{"$f":"IF(N3=0,\"\",INDEX(Лист4!$B$1:$J$58,MATCH(N3,Лист4!$B$1:$B$58,0),4))","v":""}]
[null,"А4",{"$f":"IF(C3=0,\"\",INDEX(Лист4!$B$1:$J$58,MATCH(C3,Лист4!$B$1:$B$58,0),5))","v":""},{"$f":"IF(D3=0,\"\",INDEX(Лист4!$B$1:$J$58,MATCH(D3,Лист4!$B$1:$B$58,0),5))","v":""},{"$f":"IF(E3=0,\"\",INDEX(Лист4!$B$1:$J$58,MATCH(E3,Лист4!$B$1:$B$58,0),5))","v":""},{"$f":"IF(F3=0,\"\",INDEX(Лист4!$B$1:$J$58,MATCH(F3,Лист4!$B$1:$B$58,0),5))","v":""},{"$f":"IF(G3=0,\"\",INDEX(Лист4!$B$1:$J$58,MATCH(G3,Лист4!$B$1:$B$58,0),5))","v":""},{"$f":"IF(H3=0,\"\",INDEX(Лист4!$B$1:$J$58,MATCH(H3,Лист4!$B$1:$B$58,0),5))","v":""},{"$f":"IF(I3=0,\"\",INDEX(Лист4!$B$1:$J$58,MATCH(I3,Лист4!$B$1:$B$58,0),5))","v":""},{"$f":"IF(J3=0,\"\",INDEX(Лист4!$B$1:$J$58,MATCH(J3,Лист4!$B$1:$B$58,0),5))","v":""},{"$f":"IF(K3=0,\"\",INDEX(Лист4!$B$1:$J$58,MATCH(K3,Лист4!$B$1:$B$58,0),5))","v":""},{"$f":"IF(L3=0,\"\",INDEX(Лист4!$B$1:$J$58,MATCH(L3,Лист4!$B$1:$B$58,0),5))","v":""},{"$f":"IF(M3=0,\"\",INDEX(Лист4!$B$1:$J$58,MATCH(M3,Лист4!$B$1:$B$58,0),5))","v":""},{"$f":"IF(N3=0,\"\",INDEX(Лист4!$B$1:$J$58,MATCH(N3,Лист4!$B$1:$B$58,0),5))","v":""}]
[null,"В1",{"$f":"IF(C3=0,\"\",INDEX(Лист4!$B$1:$J$58,MATCH(C3,Лист4!$B$1:$B$58,0),6))","v":""},{"$f":"IF(D3=0,\"\",INDEX(Лист4!$B$1:$J$58,MATCH(D3,Лист4!$B$1:$B$58,0),6))","v":""},{"$f":"IF(E3=0,\"\",INDEX(Лист4!$B$1:$J$58,MATCH(E3,Лист4!$B$1:$B$58,0),6))","v":""},{"$f":"IF(F3=0,\"\",INDEX(Лист4!$B$1:$J$58,MATCH(F3,Лист4!$B$1:$B$58,0),6))","v":""},{"$f":"IF(G3=0,\"\",INDEX(Лист4!$B$1:$J$58,MATCH(G3,Лист4!$B$1:$B$58,0),6))","v":""},{"$f":"IF(H3=0,\"\",INDEX(Лист4!$B$1:$J$58,MATCH(H3,Лист4!$B$1:$B$58,0),6))","v":""},{"$f":"IF(I3=0,\"\",INDEX(Лист4!$B$1:$J$58,MATCH(I3,Лист4!$B$1:$B$58,0),6))","v":""},{"$f":"IF(J3=0,\"\",INDEX(Лист4!$B$1:$J$58,MATCH(J3,Лист4!$B$1:$B$58,0),6))","v":""},{"$f":"IF(K3=0,\"\",INDEX(Лист4!$B$1:$J$58,MATCH(K3,Лист4!$B$1:$B$58,0),6))","v":""},{"$f":"IF(L3=0,\"\",INDEX(Лист4!$B$1:$J$58,MATCH(L3,Лист4!$B$1:$B$58,0),6))","v":""},{"$f":"IF(M3=0,\"\",INDEX(Лист4!$B$1:$J$58,MATCH(M3,Лист4!$B$1:$B$58,0),6))","v":""},{"$f":"IF(N3=0,\"\",INDEX(Лист4!$B$1:$J$58,MATCH(N3,Лист4!$B$1:$B$58,0),6))","v":""}]
[null,"В2",{"$f":"IF(C3=0,\"\",INDEX(Лист4!$B$1:$J$58,MATCH(C3,Лист4!$B$1:$B$58,0),7))","v":""},{"$f":"IF(D3=0,\"\",INDEX(Лист4!$B$1:$J$58,MATCH(D3,Лист4!$B$1:$B$58,0),7))","v":""},{"$f":"IF(E3=0,\"\",INDEX(Лист4!$B$1:$J$58,MATCH(E3,Лист4!$B$1:$B$58,0),7))","v":""},{"$f":"IF(F3=0,\"\",INDEX(Лист4!$B$1:$J$58,MATCH(F3,Лист4!$B$1:$B$58,0),7))","v":""},{"$f":"IF(G3=0,\"\",INDEX(Лист4!$B$1:$J$58,MATCH(G3,Лист4!$B$1:$B$58,0),7))","v":""},{"$f":"IF(H3=0,\"\",INDEX(Лист4!$B$1:$J$58,MATCH(H3,Лист4!$B$1:$B$58,0),7))","v":""},{"$f":"IF(I3=0,\"\",INDEX(Лист4!$B$1:$J$58,MATCH(I3,Лист4!$B$1:$B$58,0),7))","v":""},{"$f":"IF(J3=0,\"\",INDEX(Лист4!$B$1:$J$58,MATCH(J3,Лист4!$B$1:$B$58,0),7))","v":""},{"$f":"IF(K3=0,\"\",INDEX(Лист4!$B$1:$J$58,MATCH(K3,Лист4!$B$1:$B$58,0),7))","v":""},{"$f":"IF(L3=0,\"\",INDEX(Лист4!$B$1:$J$58,MATCH(L3,Лист4!$B$1:$B$58,0),7))","v":""},{"$f":"IF(M3=0,\"\",INDEX(Лист4!$B$1:$J$58,MATCH(M3,Лист4!$B$1:$B$58,0),7))","v":""},{"$f":"IF(N3=0,\"\",INDEX(Лист4!$B$1:$J$58,MATCH(N3,Лист4!$B$1:$B$58,0),7))","v":""}]
[null,"В3",{"$f":"IF(C3=0,\"\",INDEX(Лист4!$B$1:$J$58,MATCH(C3,Лист4!$B$1:$B$58,0),8))","v":""},{"$f":"IF(D3=0,\"\",INDEX(Лист4!$B$1:$J$58,MATCH(D3,Лист4!$B$1:$B$58,0),8))","v":""},{"$f":"IF(E3=0,\"\",INDEX(Лист4!$B$1:$J$58,MATCH(E3,Лист4!$B$1:$B$58,0),8))","v":""},{"$f":"IF(F3=0,\"\",INDEX(Лист4!$B$1:$J$58,MATCH(F3,Лист4!$B$1:$B$58,0),8))","v":""},{"$f":"IF(G3=0,\"\",INDEX(Лист4!$B$1:$J$58,MATCH(G3,Лист4!$B$1:$B$58,0),8))","v":""},{"$f":"IF(H3=0,\"\",INDEX(Лист4!$B$1:$J$58,MATCH(H3,Лист4!$B$1:$B$58,0),8))","v":""},{"$f":"IF(I3=0,\"\",INDEX(Лист4!$B$1:$J$58,MATCH(I3,Лист4!$B$1:$B$58,0),8))","v":""},{"$f":"IF(J3=0,\"\",INDEX(Лист4!$B$1:$J$58,MATCH(J3,Лист4!$B$1:$B$58,0),8))","v":""},{"$f":"IF(K3=0,\"\",INDEX(Лист4!$B$1:$J$58,MATCH(K3,Лист4!$B$1:$B$58,0),8))","v":""},{"$f":"IF(L3=0,\"\",INDEX(Лист4!$B$1:$J$58,MATCH(L3,Лист4!$B$1:$B$58,0),8))","v":""},{"$f":"IF(M3=0,\"\",INDEX(Лист4!$B$1:$J$58,MATCH(M3,Лист4!$B$1:$B$58,0),8))","v":""},{"$f":"IF(N3=0,\"\",INDEX(Лист4!$B$1:$J$58,MATCH(N3,Лист4!$B$1:$B$58,0),8))","v":""}]
[null,"В4",{"$f":"IF(C3=0,\"\",INDEX(Лист4!$B$1:$J$58,MATCH(C3,Лист4!$B$1:$B$58,0),9))","v":""},{"$f":"IF(D3=0,\"\",INDEX(Лист4!$B$1:$J$58,MATCH(D3,Лист4!$B$1:$B$58,0),9))","v":""},{"$f":"IF(E3=0,\"\",INDEX(Лист4!$B$1:$J$58,MATCH(E3,Лист4!$B$1:$B$58,0),9))","v":""},{"$f":"IF(F3=0,\"\",INDEX(Лист4!$B$1:$J$58,MATCH(F3,Лист4!$B$1:$B$58,0),9))","v":""},{"$f":"IF(G3=0,\"\",INDEX(Лист4!$B$1:$J$58,MATCH(G3,Лист4!$B$1:$B$58,0),9))","v":""},{"$f":"IF(H3=0,\"\",INDEX(Лист4!$B$1:$J$58,MATCH(H3,Лист4!$B$1:$B$58,0),9))","v":""},{"$f":"IF(I3=0,\"\",INDEX(Лист4!$B$1:$J$58,MATCH(I3,Лист4!$B$1:$B$58,0),9))","v":""},{"$f":"IF(J3=0,\"\",INDEX(Лист4!$B$1:$J$58,MATCH(J3,Лист4!$B$1:$B$58,0),9))","v":""},{"$f":"IF(K3=0,\"\",INDEX(Лист4!$B$1:$J$58,MATCH(K3,Лист4!$B$1:$B$58,0),9))","v":""},{"$f":"IF(L3=0,\"\",INDEX(Лист4!$B$1:$J$58,MATCH(L3,Лист4!$B$1:$B$58,0),9))","v":""},{"$f":"IF(M3=0,\"\",INDEX(Лист4!$B$1:$J$58,MATCH(M3,Лист4!$B$1:$B$58,0),9))","v":""},{"$f":"IF(N3=0,\"\",INDEX(Лист4!$B$1:$J$58,MATCH(N3,Лист4!$B$1:$B$58,0),9))","v":""}]

{"sheet":"Ra","index":23,"n_rows":25,"n_cols":28,"rows_kept":25,"cut":false,"hidden":true,"merged":[[0,1,0,20]]}
[null,"Количество пар от числа участников соревнований в каждой весовой категории"]
[null,"Весовая категория",null,{"$f":"Inf!I5","v":55},{"$f":"Inf!I6","v":60},{"$f":"Inf!I7","v":63},{"$f":"Inf!I8","v":67},{"$f":"Inf!I9","v":72},{"$f":"Inf!I10","v":77},{"$f":"Inf!I11","v":82},{"$f":"Inf!I12","v":87},{"$f":"Inf!K5","v":97},{"$f":"Inf!K6","v":130},{"$f":"Inf!K7","v":0},{"$f":"Inf!K8","v":0},{"$f":"Inf!K9","v":0},{"$f":"Inf!K10","v":0},{"$f":"Inf!K11","v":0},{"$f":"Inf!K12","v":0},null,"Всего",null,null,"1 ковер",null,"2 ковра",null,"3 ковра"]
[]
[null,"Кол-во участников",null,{"$f":"'M-I'!F29","v":6},{"$f":"'M-I'!G29","v":7},{"$f":"'M-I'!H29","v":9},{"$f":"'M-I'!I29","v":9},{"$f":"'M-I'!J29","v":17},{"$f":"'M-I'!K29","v":11},{"$f":"'M-I'!L29","v":17},{"$f":"'M-I'!M29","v":11},{"$f":"'M-I'!N29","v":12},{"$f":"'M-I'!O29","v":10},{"$f":"'M-I'!P29","v":0},{"$f":"'M-I'!Q29","v":0},{"$f":"'M-I'!R29","v":0},{"$f":"'M-I'!S29","v":0},{"$f":"'M-I'!T29","v":0},{"$f":"'M-I'!U29","v":0},null,{"$f":"SUM(D4:S4)","v":109},null,null,6,null,"1 пара           Начало ",null,"11:00:00"]
[]
[null,"квалификация",null,{"$f":"IF(D4=\" \",\" \",IF(D4=0,\" \",IF(Лист2!D6>0,Лист2!D6,\" \")))","v":" "},{"$f":"IF(E4=\" \",\" \",IF(E4=0,\" \",IF(Лист2!E6>0,Лист2!E6,\" \")))","v":" "},{"$f":"IF(F4=\" \",\" \",IF(F4=0,\" \",IF(Лист2!F6>0,Лист2!F6,\" \")))","v":" "},{"$f":"IF(G4=\" \",\" \",IF(G4=0,\" \",IF(Лист2!G6>0,Лист2!G6,\" \")))","v":" "},{"$f":"IF(H4=\" \",\" \",IF(H4=0,\" \",IF(Лист2!H6>0,Лист2!H6,\" \")))","v":" "},{"$f":"IF(I4=\" \",\" \",IF(I4=0,\" \",IF(Лист2!I6>0,Лист2!I6,\" \")))","v":" "},{"$f":"IF(J4=\" \",\" \",IF(J4=0,\" \",IF(Лист2!J6>0,Лист2!J6,\" \")))","v":" "},{"$f":"IF(K4=\" \",\" \",IF(K4=0,\" \",IF(Лист2!K6>0,Лист2!K6,\" \")))","v":" "},{"$f":"IF(L4=\" \",\" \",IF(L4=0,\" \",IF(Лист2!L6>0,Лист2!L6,\" \")))","v":" "},{"$f":"IF(M4=\" \",\" \",IF(M4=0,\" \",IF(Лист2!M6>0,Лист2!M6,\" \")))","v":" "},{"$f":"IF(N4=\" \",\" \",IF(N4=0,\" \",IF(Лист2!N6>0,Лист2!N6,\" \")))","v":" "},{"$f":"IF(O4=\" \",\" \",IF(O4=0,\" \",IF(Лист2!O6>0,Лист2!O6,\" \")))","v":" "},{"$f":"IF(P4=\" \",\" \",IF(P4=0,\" \",IF(Лист2!P6>0,Лист2!P6,\" \")))","v":" "},{"$f":"IF(Q4=\" \",\" \",IF(Q4=0,\" \",IF(Лист2!Q6>0,Лист2!Q6,\" \")))","v":" "},{"$f":"IF(R4=\" \",\" \",IF(R4=0,\" \",IF(Лист2!R6>0,Лист2!R6,\" \")))","v":" "},{"$f":"IF(S4=\" \",\" \",IF(S4=0,\" \",IF(Лист2!S6>0,Лист2!S6,\" \")))","v":" "},null,{"$f":"SUM(D6:S6)","v":0},null,null,{"$f":"AB4+(X4/1440)*U6","v":"11:00:00"},null,{"$f":"AB4+(X4/1440)*U6/2","v":"11:00:00"},null,{"$f":"AB4+(X4/1440)*U6/3","v":"11:00:00"}]
[null,"1\\32     (1 круг)",null,{"$f":"IF(D4=\" \",\" \",IF(D4=0,\" \",IF(Лист2!D7>0,Лист2!D7,\" \")))","v":2},{"$f":"IF(E4=\" \",\" \",IF(E4=0,\" \",IF(Лист2!E7>0,Лист2!E7,\" \")))","v":3},{"$f":"IF(F4=\" \",\" \",IF(F4=0,\" \",IF(Лист2!F7>0,Лист2!F7,\" \")))","v":1},{"$f":"IF(G4=\" \",\" \",IF(G4=0,\" \",IF(Лист2!G7>0,Лист2!G7,\" \")))","v":1},{"$f":"IF(H4=\" \",\" \",IF(H4=0,\" \",IF(Лист2!H7>0,Лист2!H7,\" \")))","v":1},{"$f":"IF(I4=\" \",\" \",IF(I4=0,\" \",IF(Лист2!I7>0,Лист2!I7,\" \")))","v":3},{"$f":"IF(J4=\" \",\" \",IF(J4=0,\" \",IF(Лист2!J7>0,Лист2!J7,\" \")))","v":1},{"$f":"IF(K4=\" \",\" \",IF(K4=0,\" \",IF(Лист2!K7>0,Лист2!K7,\" \")))","v":3},{"$f":"IF(L4=\" \",\" \",IF(L4=0,\" \",IF(Лист2!L7>0,Лист2!L7,\" \")))","v":4},{"$f":"IF(M4=\" \",\" \",IF(M4=0,\" \",IF(Лист2!M7>0,Лист2!M7,\" \")))","v":2},{"$f":"IF(N4=\" \",\" \",IF(N4=0,\" \",IF(Лист2!N7>0,Лист2!N7,\" \")))","v":" "},{"$f":"IF(O4=\" \",\" \",IF(O4=0,\" \",IF(Лист2!O7>0,Лист2!O7,\" \")))","v":" "},{"$f":"IF(P4=\" \",\" \",IF(P4=0,\" \",IF(Лист2!P7>0,Лист2!P7,\" \")))","v":" "},{"$f":"IF(Q4=\" \",\" \",IF(Q4=0,\" \",IF(Лист2!Q7>0,Лист2!Q7,\" \")))","v":" "},{"$f":"IF(R4=\" \",\" \",IF(R4=0,\" \",IF(Лист2!R7>0,Лист2!R7,\" \")))","v":" "},{"$f":"IF(S4=\" \",\" \",IF(S4=0,\" \",IF(Лист2!S7>0,Лист2!S7,\" \")))","v":" "},null,{"$f":"SUM(D7:S7)","v":21},null,null,{"$f":"(X4/1440)*U7+X6","v":"13:06:00"},null,{"$f":"(X4/1440)*U7/2+Z6","v":"12:03:00"},null,{"$f":"(X4/1440)*U7/3+AB6","v":"11:42:00"}]
[null,"1\\16       (2 круг)",null,{"$f":"IF(D4=\" \",\" \",IF(D4=0,\" \",IF(Лист2!D8>0,Лист2!D8,\" \")))","v":2},{"$f":"IF(E4=\" \",\" \",IF(E4=0,\" \",IF(Лист2!E8>0,Лист2!E8,\" \")))","v":3},{"$f":"IF(F4=\" \",\" \",IF(F4=0,\" \",IF(Лист2!F8>0,Лист2!F8,\" \")))","v":" "},{"$f":"IF(G4=\" \",\" \",IF(G4=0,\" \",IF(Лист2!G8>0,Лист2!G8,\" \")))","v":" "},{"$f":"IF(H4=\" \",\" \",IF(H4=0,\" \",IF(Лист2!H8>0,Лист2!H8,\" \")))","v":" "},{"$f":"IF(I4=\" \",\" \",IF(I4=0,\" \",IF(Лист2!I8>0,Лист2!I8,\" \")))","v":" "},{"$f":"IF(J4=\" \",\" \",IF(J4=0,\" \",IF(Лист2!J8>0,Лист2!J8,\" \")))","v":" "},{"$f":"IF(K4=\" \",\" \",IF(K4=0,\" \",IF(Лист2!K8>0,Лист2!K8,\" \")))","v":" "},{"$f":"IF(L4=\" \",\" \",IF(L4=0,\" \",IF(Лист2!L8>0,Лист2!L8,\" \")))","v":" "},{"$f":"IF(M4=\" \",\" \",IF(M4=0,\" \",IF(Лист2!M8>0,Лист2!M8,\" \")))","v":" "},{"$f":"IF(N4=\" \",\" \",IF(N4=0,\" \",IF(Лист2!N8>0,Лист2!N8,\" \")))","v":" "},{"$f":"IF(O4=\" \",\" \",IF(O4=0,\" \",IF(Лист2!O8>0,Лист2!O8,\" \")))","v":" "},{"$f":"IF(P4=\" \",\" \",IF(P4=0,\" \",IF(Лист2!P8>0,Лист2!P8,\" \")))","v":" "},{"$f":"IF(Q4=\" \",\" \",IF(Q4=0,\" \",IF(Лист2!Q8>0,Лист2!Q8,\" \")))","v":" "},{"$f":"IF(R4=\" \",\" \",IF(R4=0,\" \",IF(Лист2!R8>0,Лист2!R8,\" \")))","v":" "},{"$f":"IF(S4=\" \",\" \",IF(S4=0,\" \",IF(Лист2!S8>0,Лист2!S8,\" \")))","v":" "},null,{"$f":"SUM(D8:S8)","v":5},null,null,{"$f":"(X4/1440)*U8+X7","v":"13:36:00"},null,{"$f":"(X4/1440)*U8/2+Z7","v":"12:18:00"},null,{"$f":"(X4/1440)*U8/3+AB7","v":"11:52:00"}]
[null,"1\\8      (3 круг)",null,{"$f":"IF(D4=\" \",\" \",IF(D4=0,\" \",IF(Лист2!D9>0,Лист2!D9,\" \")))","v":2},{"$f":"IF(E4=\" \",\" \",IF(E4=0,\" \",IF(Лист2!E9>0,Лист2!E9,\" \")))","v":3},{"$f":"IF(F4=\" \",\" \",IF(F4=0,\" \",IF(Лист2!F9>0,Лист2!F9,\" \")))","v":" "},{"$f":"IF(G4=\" \",\" \",IF(G4=0,\" \",IF(Лист2!G9>0,Лист2!G9,\" \")))","v":" "},{"$f":"IF(H4=\" \",\" \",IF(H4=0,\" \",IF(Лист2!H9>0,Лист2!H9,\" \")))","v":8},{"$f":"IF(I4=\" \",\" \",IF(I4=0,\" \",IF(Лист2!I9>0,Лист2!I9,\" \")))","v":" "},{"$f":"IF(J4=\" \",\" \",IF(J4=0,\" \",IF(Лист2!J9>0,Лист2!J9,\" \")))","v":8},{"$f":"IF(K4=\" \",\" \",IF(K4=0,\" \",IF(Лист2!K9>0,Лист2!K9,\" \")))","v":" "},{"$f":"IF(L4=\" \",\" \",IF(L4=0,\" \",IF(Лист2!L9>0,Лист2!L9,\" \")))","v":" "},{"$f":"IF(M4=\" \",\" \",IF(M4=0,\" \",IF(Лист2!M9>0,Лист2!M9,\" \")))","v":" "},{"$f":"IF(N4=\" \",\" \",IF(N4=0,\" \",IF(Лист2!N9>0,Лист2!N9,\" \")))","v":" "},{"$f":"IF(O4=\" \",\" \",IF(O4=0,\" \",IF(Лист2!O9>0,Лист2!O9,\" \")))","v":" "},{"$f":"IF(P4=\" \",\" \",IF(P4=0,\" \",IF(Лист2!P9>0,Лист2!P9,\" \")))","v":" "},{"$f":"IF(Q4=\" \",\" \",IF(Q4=0,\" \",IF(Лист2!Q9>0,Лист2!Q9,\" \")))","v":" "},{"$f":"IF(R4=\" \",\" \",IF(R4=0,\" \",IF(Лист2!R9>0,Лист2!R9,\" \")))","v":" "},{"$f":"IF(S4=\" \",\" \",IF(S4=0,\" \",IF(Лист2!S9>0,Лист2!S9,\" \")))","v":" "},null,21,null,null,{"$f":"(X4/1440)*U9+X8","v":"15:42:00"},null,{"$f":"(X4/1440)*U9/2+Z8","v":"13:21:00"},null,{"$f":"(X4/1440)*U9/3+AB8","v":"12:34:00"}]
[null,"1\\4 финала",null,{"$f":"IF(D4=\" \",\" \",IF(D4=0,\" \",IF(Лист2!D10>0,Лист2!D10,\" \")))","v":" "},{"$f":"IF(E4=\" \",\" \",IF(E4=0,\" \",IF(Лист2!E10>0,Лист2!E10,\" \")))","v":" "},{"$f":"IF(F4=\" \",\" \",IF(F4=0,\" \",IF(Лист2!F10>0,Лист2!F10,\" \")))","v":4},{"$f":"IF(G4=\" \",\" \",IF(G4=0,\" \",IF(Лист2!G10>0,Лист2!G10,\" \")))","v":4},{"$f":"IF(H4=\" \",\" \",IF(H4=0,\" \",IF(Лист2!H10>0,Лист2!H10,\" \")))","v":4},{"$f":"IF(I4=\" \",\" \",IF(I4=0,\" \",IF(Лист2!I10>0,Лист2!I10,\" \")))","v":4},{"$f":"IF(J4=\" \",\" \",IF(J4=0,\" \",IF(Лист2!J10>0,Лист2!J10,\" \")))","v":4},{"$f":"IF(K4=\" \",\" \",IF(K4=0,\" \",IF(Лист2!K10>0,Лист2!K10,\" \")))","v":4},{"$f":"IF(L4=\" \",\" \",IF(L4=0,\" \",IF(Лист2!L10>0,Лист2!L10,\" \")))","v":4},{"$f":"IF(M4=\" \",\" \",IF(M4=0,\" \",IF(Лист2!M10>0,Лист2!M10,\" \")))","v":4},{"$f":"IF(N4=\" \",\" \",IF(N4=0,\" \",IF(Лист2!N10>0,Лист2!N10,\" \")))","v":" "},{"$f":"IF(O4=\" \",\" \",IF(O4=0,\" \",IF(Лист2!O10>0,Лист2!O10,\" \")))","v":" "},{"$f":"IF(P4=\" \",\" \",IF(P4=0,\" \",IF(Лист2!P10>0,Лист2!P10,\" \")))","v":" "},{"$f":"IF(Q4=\" \",\" \",IF(Q4=0,\" \",IF(Лист2!Q10>0,Лист2!Q10,\" \")))","v":" "},{"$f":"IF(R4=\" \",\" \",IF(R4=0,\" \",IF(Лист2!R10>0,Лист2!R10,\" \")))","v":" "},{"$f":"IF(S4=\" \",\" \",IF(S4=0,\" \",IF(Лист2!S10>0,Лист2!S10,\" \")))","v":" "},null,32,null,null,{"$f":"(X4/1440)*U10+X9","v":"18:54:00"},null,{"$f":"(X4/1440)*U10/2+Z9","v":"14:57:00"},null,{"$f":"(X4/1440)*U10/3+AB9","v":"13:38:00"}]
[null,"1\\2       (4 круг)",null,{"$f":"IF(D4=\" \",\" \",IF(D4=0,\" \",IF(Лист2!D11>0,Лист2!D11,\" \")))","v":2},{"$f":"IF(E4=\" \",\" \",IF(E4=0,\" \",IF(Лист2!E11>0,Лист2!E11,\" \")))","v":2},{"$f":"IF(F4=\" \",\" \",IF(F4=0,\" \",IF(Лист2!F11>0,Лист2!F11,\" \")))","v":2},{"$f":"IF(G4=\" \",\" \",IF(G4=0,\" \",IF(Лист2!G11>0,Лист2!G11,\" \")))","v":2},{"$f":"IF(H4=\" \",\" \",IF(H4=0,\" \",IF(Лист2!H11>0,Лист2!H11,\" \")))","v":2},{"$f":"IF(I4=\" \",\" \",IF(I4=0,\" \",IF(Лист2!I11>0,Лист2!I11,\" \")))","v":2},{"$f":"IF(J4=\" \",\" \",IF(J4=0,\" \",IF(Лист2!J11>0,Лист2!J11,\" \")))","v":2},{"$f":"IF(K4=\" \",\" \",IF(K4=0,\" \",IF(Лист2!K11>0,Лист2!K11,\" \")))","v":2},{"$f":"IF(L4=\" \",\" \",IF(L4=0,\" \",IF(Лист2!L11>0,Лист2!L11,\" \")))","v":2},{"$f":"IF(M4=\" \",\" \",IF(M4=0,\" \",IF(Лист2!M11>0,Лист2!M11,\" \")))","v":2},{"$f":"IF(N4=\" \",\" \",IF(N4=0,\" \",IF(Лист2!N11>0,Лист2!N11,\" \")))","v":" "},{"$f":"IF(O4=\" \",\" \",IF(O4=0,\" \",IF(Лист2!O11>0,Лист2!O11,\" \")))","v":" "},{"$f":"IF(P4=\" \",\" \",IF(P4=0,\" \",IF(Лист2!P11>0,Лист2!P11,\" \")))","v":" "},{"$f":"IF(Q4=\" \",\" \",IF(Q4=0,\" \",IF(Лист2!Q11>0,Лист2!Q11,\" \")))","v":" "},{"$f":"IF(R4=\" \",\" \",IF(R4=0,\" \",IF(Лист2!R11>0,Лист2!R11,\" \")))","v":" "},{"$f":"IF(S4=\" \",\" \",IF(S4=0,\" \",IF(Лист2!S11>0,Лист2!S11,\" \")))","v":" "},null,20,null,null,{"$f":"(X4/1440)*U11+X10","v":"20:54:00"},null,{"$f":"(X4/1440)*U11/2+Z10","v":"15:57:00"},null,{"$f":"(X4/1440)*U11/3+AB10","v":"14:18:00"}]
[]
[null,"1 день борьбы",1,{"$f":"IF(D4=0,\" \",SUM(D6:D11))","v":8},{"$f":"IF(E4=0,\" \",SUM(E6:E11))","v":11},7,7,15,9,15,9,10,8," "," "," "," "," "," ",null,99]
[]
[null,"утеш 1",null,{"$f":"IF(D4=\" \",\" \",IF(D4=0,\" \",IF(Лист2!D13>0,Лист2!D13,\" \")))","v":" "},{"$f":"IF(E4=\" \",\" \",IF(E4=0,\" \",IF(Лист2!E13>0,Лист2!E13,\" \")))","v":" "},{"$f":"IF(F4=\" \",\" \",IF(F4=0,\" \",IF(Лист2!F13>0,Лист2!F13,\" \")))","v":1},{"$f":"IF(G4=\" \",\" \",IF(G4=0,\" \",IF(Лист2!G13>0,Лист2!G13,\" \")))","v":1},{"$f":"IF(H4=\" \",\" \",IF(H4=0,\" \",IF(Лист2!H13>0,Лист2!H13,\" \")))","v":2},{"$f":"IF(I4=\" \",\" \",IF(I4=0,\" \",IF(Лист2!I13>0,Лист2!I13,\" \")))","v":1},{"$f":"IF(J4=\" \",\" \",IF(J4=0,\" \",IF(Лист2!J13>0,Лист2!J13,\" \")))","v":2},{"$f":"IF(K4=\" \",\" \",IF(K4=0,\" \",IF(Лист2!K13>0,Лист2!K13,\" \")))","v":1},{"$f":"IF(L4=\" \",\" \",IF(L4=0,\" \",IF(Лист2!L13>0,Лист2!L13,\" \")))","v":1},{"$f":"IF(M4=\" \",\" \",IF(M4=0,\" \",IF(Лист2!M13>0,Лист2!M13,\" \")))","v":1},{"$f":"IF(N4=\" \",\" \",IF(N4=0,\" \",IF(Лист2!N13>0,Лист2!N13,\" \")))","v":" "},{"$f":"IF(O4=\" \",\" \",IF(O4=0,\" \",IF(Лист2!O13>0,Лист2!O13,\" \")))","v":" "},{"$f":"IF(P4=\" \",\" \",IF(P4=0,\" \",IF(Лист2!P13>0,Лист2!P13,\" \")))","v":" "},{"$f":"IF(Q4=\" \",\" \",IF(Q4=0,\" \",IF(Лист2!Q13>0,Лист2!Q13,\" \")))","v":" "},{"$f":"IF(R4=\" \",\" \",IF(R4=0,\" \",IF(Лист2!R13>0,Лист2!R13,\" \")))","v":" "},{"$f":"IF(S4=\" \",\" \",IF(S4=0,\" \",IF(Лист2!S13>0,Лист2!S13,\" \")))","v":" "},null,10,null,null,{"$f":"(X4/1440)*U15+X11","v":"21:54:00"},null,{"$f":"(X4/1440)*U15/2+Z11","v":"16:27:00"},null,{"$f":"(X4/1440)*U15/3+AB11","v":"14:38:00"}]
[null,"утеш 2",null,{"$f":"IF(D4=\" \",\" \",IF(D4=0,\" \",IF(Лист2!D14>0,Лист2!D14,\" \")))","v":" "},{"$f":"IF(E4=\" \",\" \",IF(E4=0,\" \",IF(Лист2!E14>0,Лист2!E14,\" \")))","v":" "},{"$f":"IF(F4=\" \",\" \",IF(F4=0,\" \",IF(Лист2!F14>0,Лист2!F14,\" \")))","v":" "},{"$f":"IF(G4=\" \",\" \",IF(G4=0,\" \",IF(Лист2!G14>0,Лист2!G14,\" \")))","v":" "},{"$f":"IF(H4=\" \",\" \",IF(H4=0,\" \",IF(Лист2!H14>0,Лист2!H14,\" \")))","v":1},{"$f":"IF(I4=\" \",\" \",IF(I4=0,\" \",IF(Лист2!I14>0,Лист2!I14,\" \")))","v":" "},{"$f":"IF(J4=\" \",\" \",IF(J4=0,\" \",IF(Лист2!J14>0,Лист2!J14,\" \")))","v":1},{"$f":"IF(K4=\" \",\" \",IF(K4=0,\" \",IF(Лист2!K14>0,Лист2!K14,\" \")))","v":" "},{"$f":"IF(L4=\" \",\" \",IF(L4=0,\" \",IF(Лист2!L14>0,Лист2!L14,\" \")))","v":" "},{"$f":"IF(M4=\" \",\" \",IF(M4=0,\" \",IF(Лист2!M14>0,Лист2!M14,\" \")))","v":" "},{"$f":"IF(N4=\" \",\" \",IF(N4=0,\" \",IF(Лист2!N14>0,Лист2!N14,\" \")))","v":" "},{"$f":"IF(O4=\" \",\" \",IF(O4=0,\" \",IF(Лист2!O14>0,Лист2!O14,\" \")))","v":" "},{"$f":"IF(P4=\" \",\" \",IF(P4=0,\" \",IF(Лист2!P14>0,Лист2!P14,\" \")))","v":" "},{"$f":"IF(Q4=\" \",\" \",IF(Q4=0,\" \",IF(Лист2!Q14>0,Лист2!Q14,\" \")))","v":" "},{"$f":"IF(R4=\" \",\" \",IF(R4=0,\" \",IF(Лист2!R14>0,Лист2!R14,\" \")))","v":" "},{"$f":"IF(S4=\" \",\" \",IF(S4=0,\" \",IF(Лист2!S14>0,Лист2!S14,\" \")))","v":" "},null,{"$f":"SUM(D16:S16)","v":2},null,null,{"$f":"(X4/1440)*U16+X15","v":"22:06:00"},null,{"$f":"(X4/1440)*U16/2+Z15","v":"16:33:00"},null,{"$f":"(X4/1440)*U16/3+AB15","v":"14:42:00"}]
[null,"утеш 3",null,{"$f":"IF(D4=\" \",\" \",IF(D4=0,\" \",IF(Лист2!D15>0,Лист2!D15,\" \")))","v":" "},{"$f":"IF(E4=\" \",\" \",IF(E4=0,\" \",IF(Лист2!E15>0,Лист2!E15,\" \")))","v":" "},{"$f":"IF(F4=\" \",\" \",IF(F4=0,\" \",IF(Лист2!F15>0,Лист2!F15,\" \")))","v":" "},{"$f":"IF(G4=\" \",\" \",IF(G4=0,\" \",IF(Лист2!G15>0,Лист2!G15,\" \")))","v":" "},{"$f":"IF(H4=\" \",\" \",IF(H4=0,\" \",IF(Лист2!H15>0,Лист2!H15,\" \")))","v":" "},{"$f":"IF(I4=\" \",\" \",IF(I4=0,\" \",IF(Лист2!I15>0,Лист2!I15,\" \")))","v":" "},{"$f":"IF(J4=\" \",\" \",IF(J4=0,\" \",IF(Лист2!J15>0,Лист2!J15,\" \")))","v":" "},{"$f":"IF(K4=\" \",\" \",IF(K4=0,\" \",IF(Лист2!K15>0,Лист2!K15,\" \")))","v":" "},{"$f":"IF(L4=\" \",\" \",IF(L4=0,\" \",IF(Лист2!L15>0,Лист2!L15,\" \")))","v":" "},{"$f":"IF(M4=\" \",\" \",IF(M4=0,\" \",IF(Лист2!M15>0,Лист2!M15,\" \")))","v":" "},{"$f":"IF(N4=\" \",\" \",IF(N4=0,\" \",IF(Лист2!N15>0,Лист2!N15,\" \")))","v":" "},{"$f":"IF(O4=\" \",\" \",IF(O4=0,\" \",IF(Лист2!O15>0,Лист2!O15,\" \")))","v":" "},{"$f":"IF(P4=\" \",\" \",IF(P4=0,\" \",IF(Лист2!P15>0,Лист2!P15,\" \")))","v":" "},{"$f":"IF(Q4=\" \",\" \",IF(Q4=0,\" \",IF(Лист2!Q15>0,Лист2!Q15,\" \")))","v":" "},{"$f":"IF(R4=\" \",\" \",IF(R4=0,\" \",IF(Лист2!R15>0,Лист2!R15,\" \")))","v":" "},{"$f":"IF(S4=\" \",\" \",IF(S4=0,\" \",IF(Лист2!S15>0,Лист2!S15,\" \")))","v":" "},null,0,null,null,{"$f":"(X4/1440)*U17+X16","v":"22:06:00"},null,{"$f":"(X4/1440)*U17/2+Z16","v":"16:33:00"},null,{"$f":"(X4/1440)*U17/3+AB16","v":"14:42:00"}]
[null,"утеш 4",null,{"$f":"IF(D4=\" \",\" \",IF(D4=0,\" \",IF(Лист2!D16>0,Лист2!D16,\" \")))","v":" "},{"$f":"IF(E4=\" \",\" \",IF(E4=0,\" \",IF(Лист2!E16>0,Лист2!E16,\" \")))","v":" "},{"$f":"IF(F4=\" \",\" \",IF(F4=0,\" \",IF(Лист2!F16>0,Лист2!F16,\" \")))","v":" "},{"$f":"IF(G4=\" \",\" \",IF(G4=0,\" \",IF(Лист2!G16>0,Лист2!G16,\" \")))","v":" "},{"$f":"IF(H4=\" \",\" \",IF(H4=0,\" \",IF(Лист2!H16>0,Лист2!H16,\" \")))","v":" "},{"$f":"IF(I4=\" \",\" \",IF(I4=0,\" \",IF(Лист2!I16>0,Лист2!I16,\" \")))","v":" "},{"$f":"IF(J4=\" \",\" \",IF(J4=0,\" \",IF(Лист2!J16>0,Лист2!J16,\" \")))","v":" "},{"$f":"IF(K4=\" \",\" \",IF(K4=0,\" \",IF(Лист2!K16>0,Лист2!K16,\" \")))","v":" "},{"$f":"IF(L4=\" \",\" \",IF(L4=0,\" \",IF(Лист2!L16>0,Лист2!L16,\" \")))","v":" "},{"$f":"IF(M4=\" \",\" \",IF(M4=0,\" \",IF(Лист2!M16>0,Лист2!M16,\" \")))","v":" "},{"$f":"IF(N4=\" \",\" \",IF(N4=0,\" \",IF(Лист2!N16>0,Лист2!N16,\" \")))","v":" "},{"$f":"IF(O4=\" \",\" \",IF(O4=0,\" \",IF(Лист2!O16>0,Лист2!O16,\" \")))","v":" "},{"$f":"IF(P4=\" \",\" \",IF(P4=0,\" \",IF(Лист2!P16>0,Лист2!P16,\" \")))","v":" "},{"$f":"IF(Q4=\" \",\" \",IF(Q4=0,\" \",IF(Лист2!Q16>0,Лист2!Q16,\" \")))","v":" "},{"$f":"IF(R4=\" \",\" \",IF(R4=0,\" \",IF(Лист2!R16>0,Лист2!R16,\" \")))","v":" "},{"$f":"IF(S4=\" \",\" \",IF(S4=0,\" \",IF(Лист2!S16>0,Лист2!S16,\" \")))","v":" "},null,0,null,null,{"$f":"(X4/1440)*U18+X17","v":"22:06:00"},null,{"$f":"(X4/1440)*U18/2+Z17","v":"16:33:00"},null,{"$f":"(X4/1440)*U18/3+AB17","v":"14:42:00"}]
[]
[null,"финал 3-5",null,{"$f":"IF(D4=\" \",\" \",IF(D4=0,\" \",IF(Лист2!D18>0,Лист2!D18,\" \")))","v":1},{"$f":"IF(E4=\" \",\" \",IF(E4=0,\" \",IF(Лист2!E18>0,Лист2!E18,\" \")))","v":1},{"$f":"IF(F4=\" \",\" \",IF(F4=0,\" \",IF(Лист2!F18>0,Лист2!F18,\" \")))","v":2},{"$f":"IF(G4=\" \",\" \",IF(G4=0,\" \",IF(Лист2!G18>0,Лист2!G18,\" \")))","v":2},{"$f":"IF(H4=\" \",\" \",IF(H4=0,\" \",IF(Лист2!H18>0,Лист2!H18,\" \")))","v":2},{"$f":"IF(I4=\" \",\" \",IF(I4=0,\" \",IF(Лист2!I18>0,Лист2!I18,\" \")))","v":2},{"$f":"IF(J4=\" \",\" \",IF(J4=0,\" \",IF(Лист2!J18>0,Лист2!J18,\" \")))","v":2},{"$f":"IF(K4=\" \",\" \",IF(K4=0,\" \",IF(Лист2!K18>0,Лист2!K18,\" \")))","v":2},{"$f":"IF(L4=\" \",\" \",IF(L4=0,\" \",IF(Лист2!L18>0,Лист2!L18,\" \")))","v":2},{"$f":"IF(M4=\" \",\" \",IF(M4=0,\" \",IF(Лист2!M18>0,Лист2!M18,\" \")))","v":2},{"$f":"IF(N4=\" \",\" \",IF(N4=0,\" \",IF(Лист2!N18>0,Лист2!N18,\" \")))","v":" "},{"$f":"IF(O4=\" \",\" \",IF(O4=0,\" \",IF(Лист2!O18>0,Лист2!O18,\" \")))","v":" "},{"$f":"IF(P4=\" \",\" \",IF(P4=0,\" \",IF(Лист2!P18>0,Лист2!P18,\" \")))","v":" "},{"$f":"IF(Q4=\" \",\" \",IF(Q4=0,\" \",IF(Лист2!Q18>0,Лист2!Q18,\" \")))","v":" "},{"$f":"IF(R4=\" \",\" \",IF(R4=0,\" \",IF(Лист2!R18>0,Лист2!R18,\" \")))","v":" "},{"$f":"IF(S4=\" \",\" \",IF(S4=0,\" \",IF(Лист2!S18>0,Лист2!S18,\" \")))","v":" "},null,18,null,null,{"$f":"(X4/1440)*U20+X18","v":"23:54:00"},null,{"$f":"(X4/1440)*U20/2+Z18","v":"17:27:00"},null,{"$f":"(X4/1440)*U20/3+AB18","v":"15:18:00"}]
[null,"финал 1-2   (5 кр)",null,{"$f":"IF(D4=\" \",\" \",IF(D4=0,\" \",IF(Лист2!D19>0,Лист2!D19,\" \")))","v":1},{"$f":"IF(E4=\" \",\" \",IF(E4=0,\" \",IF(Лист2!E19>0,Лист2!E19,\" \")))","v":1},{"$f":"IF(F4=\" \",\" \",IF(F4=0,\" \",IF(Лист2!F19>0,Лист2!F19,\" \")))","v":1},{"$f":"IF(G4=\" \",\" \",IF(G4=0,\" \",IF(Лист2!G19>0,Лист2!G19,\" \")))","v":1},{"$f":"IF(H4=\" \",\" \",IF(H4=0,\" \",IF(Лист2!H19>0,Лист2!H19,\" \")))","v":1},{"$f":"IF(I4=\" \",\" \",IF(I4=0,\" \",IF(Лист2!I19>0,Лист2!I19,\" \")))","v":1},{"$f":"IF(J4=\" \",\" \",IF(J4=0,\" \",IF(Лист2!J19>0,Лист2!J19,\" \")))","v":1},{"$f":"IF(K4=\" \",\" \",IF(K4=0,\" \",IF(Лист2!K19>0,Лист2!K19,\" \")))","v":1},{"$f":"IF(L4=\" \",\" \",IF(L4=0,\" \",IF(Лист2!L19>0,Лист2!L19,\" \")))","v":1},{"$f":"IF(M4=\" \",\" \",IF(M4=0,\" \",IF(Лист2!M19>0,Лист2!M19,\" \")))","v":1},{"$f":"IF(N4=\" \",\" \",IF(N4=0,\" \",IF(Лист2!N19>0,Лист2!N19,\" \")))","v":" "},{"$f":"IF(O4=\" \",\" \",IF(O4=0,\" \",IF(Лист2!O19>0,Лист2!O19,\" \")))","v":" "},{"$f":"IF(P4=\" \",\" \",IF(P4=0,\" \",IF(Лист2!P19>0,Лист2!P19,\" \")))","v":" "},{"$f":"IF(Q4=\" \",\" \",IF(Q4=0,\" \",IF(Лист2!Q19>0,Лист2!Q19,\" \")))","v":" "},{"$f":"IF(R4=\" \",\" \",IF(R4=0,\" \",IF(Лист2!R19>0,Лист2!R19,\" \")))","v":" "},{"$f":"IF(S4=\" \",\" \",IF(S4=0,\" \",IF(Лист2!S19>0,Лист2!S19,\" \")))","v":" "},null,10,null,null,{"$f":"(X4/1440)*U21+X20","v":1.0374999999999999},null,{"$f":"(X4/1440)*U21/2+Z20","v":"17:57:00"},null,{"$f":"(X4/1440)*U21/3+AB20","v":"15:38:00"}]
[]
[null,"Без финалов",null,{"$f":"IF(D4=0,\" \",SUM(D6:D11)+SUM(D15:D18))","v":8},11,8,8,18,10,18,10,11,9," "," "," "," "," "," ",null,111,null,null,{"$f":"(X4/1440)*U23","v":"11:06:00"},null,{"$f":"X23/2","v":"05:33:00"},null,{"$f":"X23/3","v":"03:42:00"}]
[]
[null,"С финалами",null,{"$f":"IF(D4=0,\" \",SUM(D6:D11)+SUM(D15:D21))","v":10},13,11,11,21,13,21,13,14,12," "," "," "," "," "," ",null,139,null,null,{"$f":"(X4/1440)*U25","v":"13:54:00"},null,{"$f":"X25/2","v":"06:57:00"},null,{"$f":"X25/3","v":"04:38:00"}]

{"sheet":"Win","index":24,"n_rows":123,"n_cols":19,"rows_kept":123,"cut":false,"hidden":false,"merged":[[1,1,4,1],[1,2,1,18],[15,1,16,1],[15,2,16,2],[15,3,16,3],[15,4,16,4],[15,5,16,5],[15,6,16,6],[15,7,16,10],[10,1,10,2],[11,7,11,10],[13,1,14,1],[13,2,14,2],[13,3,14,3],[13,4,14,4],[13,5,14,5],[13,6,14,6],[12,18,12,21],[13,12,14,12],[13,13,14,13],[13,14,14,14],[13,15,14,15],[9,3,9,13],[13,16,14,16],[17,6,18,6],[17,7,18,10],[19,1,20,1],[19,2,20,2],[19,3,20,3],[19,4,20,4],[19,5,20,5],[19,6,20,6],[19,7,20,10],[17,1,18,1],[17,2,18,2],[17,3,18,3],[17,4,18,4],[17,5,18,5],[21,6,22,6],[21,7,22,10],[23,1,24,1],[23,2,24,2],[23,3,24,3],[23,4,24,4],[23,5,24,5],[23,6,24,6],[23,7,24,10],[21,1,22,1],[21,2,22,2],[21,3,22,3],[21,4,22,4],[21,5,22,5],[28,7,29,10],[30,1,31,1],[30,2,31,2],[30,3,31,3],[30,4,31,4],[30,5,31,5],[30,6,31,6],[30,7,31,10],[26,5,27,5],[26,6,27,6],[26,7,27,10],[28,1,29,1],[28,2,29,2],[28,3,29,3],[28,4,29,4],[28,5,29,5],[28,6,29,6],[26,1,27,1],[26,2,27,2],[26,3,27,3],[26,4,27,4],[36,7,37,10],[39,5,40,5],[39,6,40,6],[39,7,40,10],[32,4,33,4],[32,5,33,5],[32,6,33,6],[32,7,33,10],[34,1,35,1],[34,2,35,2],[34,3,35,3],[34,4,35,4],[34,5,35,5],[32,1,33,1],[32,2,33,2],[32,3,33,3],[34,6,35,6],[34,7,35,10],[41,6,42,6],[39,1,40,1],[39,2,40,2],[39,3,40,3],[39,4,40,4],[36,1,37,1],[36,2,37,2],[36,3,37,3],[36,4,37,4],[36,5,37,5],[36,6,37,6],[45,4,46,4],[45,5,46,5],[45,6,46,6],[45,7,46,10],[47,1,48,1],[47,2,48,2],[47,3,48,3],[47,4,48,4],[41,7,42,10],[43,1,44,1],[43,2,44,2],[43,3,44,3],[41,5,42,5],[43,4,44,4],[43,5,44,5],[43,6,44,6],[43,7,44,10],[45,1,46,1],[45,2,46,2],[45,3,46,3],[41,1,42,1],[41,2,42,2],[41,3,42,3],[41,4,42,4],[49,5,50,5],[52,4,53,4],[58,1,59,1],[58,2,59,2],[58,3,59,3],[47,6,48,6],[47,7,48,10],[49,1,50,1],[49,2,50,2],[49,3,50,3],[47,5,48,5],[49,4,50,4],[49,6,50,6],[49,7,50,10],[54,7,55,10],[56,1,57,1],[56,2,57,2],[56,3,57,3],[56,4,57,4],[56,5,57,5],[56,6,57,6],[56,7,57,10],[52,5,53,5],[52,6,53,6],[52,7,53,10],[54,1,55,1],[54,2,55,2],[54,3,55,3],[54,4,55,4],[54,5,55,5],[54,6,55,6],[52,1,53,1],[52,2,53,2],[52,3,53,3],[62,7,63,10],[67,5,68,5],[67,6,68,6],[67,7,68,10],[58,4,59,4],[58,5,59,5],[58,6,59,6],[58,7,59,10],[60,1,61,1],[60,2,61,2],[60,3,61,3],[60,4,61,4],[60,5,61,5],[60,6,61,6],[60,7,61,10],[69,5,70,5],[69,6,70,6],[67,1,68,1],[67,2,68,2],[67,3,68,3],[67,4,68,4],[62,1,63,1],[62,2,63,2],[62,3,63,3],[62,4,63,4],[62,5,63,5],[62,6,63,6],[73,4,74,4],[73,5,74,5],[73,6,74,6],[73,7,74,10],[75,1,76,1],[75,2,76,2],[75,3,76,3],[75,4,76,4],[69,7,70,10],[71,1,72,1],[71,2,72,2],[71,3,72,3],[71,4,72,4],[71,5,72,5],[71,6,72,6],[71,7,72,10],[73,1,74,1],[73,2,74,2],[73,3,74,3],[75,5,76,5],[69,1,70,1],[69,2,70,2],[69,3,70,3],[69,4,70,4],[82,7,83,10],[84,1,85,1],[84,2,85,2],[84,3,85,3],[84,4,85,4],[84,5,85,5],[84,6,85,6],[84,7,85,10],[80,5,81,5],[80,6,81,6],[80,7,81,10],[82,1,83,1],[82,2,83,2],[82,3,83,3],[82,4,83,4],[82,5,83,5],[82,6,83,6],[80,1,81,1],[80,2,81,2],[80,3,81,3],[80,4,81,4],[75,6,76,6],[75,7,76,10],[77,1,78,1],[77,2,78,2],[77,3,78,3],[77,4,78,4],[77,5,78,5],[77,6,78,6],[77,7,78,10],[88,2,89,2],[88,3,89,3],[88,4,89,4],[88,5,89,5],[88,6,89,6],[88,7,89,10],[86,1,87,1],[86,2,87,2],[86,3,87,3],[110,3,111,3],[101,6,102,6],[110,4,111,4],[110,5,111,5],[110,6,111,6],[105,1,105,2],[105,3,105,5],[90,1,91,1],[90,2,91,2],[90,3,91,3],[90,4,91,4],[90,5,91,5],[90,6,91,6],[97,1,98,1],[97,2,98,2],[97,3,98,3],[97,4,98,4],[97,5,98,5],[97,6,98,6],[93,5,94,5],[93,6,94,6],[95,1,96,1],[95,2,96,2],[95,3,96,3],[101,7,102,10],[103,1,104,1],[103,2,104,2],[103,3,104,3],[103,4,104,4],[103,5,104,5],[103,6,104,6],[103,7,104,10],[99,4,100,4],[99,6,100,6],[99,7,100,10],[101,1,102,1],[101,2,102,2],[101,3,102,3],[101,4,102,4],[101,5,102,5],[99,1,100,1],[99,2,100,2],[99,3,100,3],[99,5,100,5],[106,7,107,10],[108,1,109,1],[108,2,109,2],[108,3,109,3],[108,4,109,4],[108,5,109,5],[108,6,109,6],[108,7,109,10],[106,1,107,1],[106,2,107,2],[106,3,107,3],[106,4,107,4],[106,5,107,5],[106,6,107,6],[110,7,111,10],[112,1,113,1],[112,2,113,2],[112,3,113,3],[112,4,113,4],[112,5,113,5],[116,5,117,5],[116,6,117,6],[116,7,117,10],[116,1,117,1],[116,2,117,2],[116,3,117,3],[116,4,117,4],[112,6,113,6],[112,7,113,10],[114,1,115,1],[114,2,115,2],[114,3,115,3],[114,4,115,4],[114,5,115,5],[114,6,115,6],[114,7,115,10],[110,1,111,1],[110,2,111,2],[13,17,14,17],[13,18,14,21],[12,1,12,2],[12,7,12,10],[12,3,12,5],[12,12,12,13],[12,14,12,16],[13,7,14,10],[15,18,16,21],[17,12,18,12],[17,13,18,13],[17,14,18,14],[17,15,18,15],[17,16,18,16],[17,17,18,17],[17,18,18,21],[15,12,16,12],[15,13,16,13],[15,14,16,14],[15,15,16,15],[15,16,16,16],[15,17,16,17],[23,18,24,21],[10,12,10,13],[11,18,11,21],[3,4,5,17],[23,12,24,12],[23,13,24,13],[23,14,24,14],[23,15,24,15],[23,16,24,16],[23,17,24,17],[19,18,20,21],[21,12,22,12],[21,13,22,13],[21,14,22,14],[21,15,22,15],[21,16,22,16],[21,17,22,17],[21,18,22,21],[19,12,20,12],[19,13,20,13],[19,14,20,14],[19,15,20,15],[19,16,20,16],[19,17,20,17],[26,18,27,21],[28,12,29,12],[28,13,29,13],[28,14,29,14],[28,15,29,15],[28,16,29,16],[28,17,29,17],[28,18,29,21],[26,12,27,12],[26,13,27,13],[26,14,27,14],[26,15,27,15],[26,16,27,16],[26,17,27,17],[30,18,31,21],[32,12,33,12],[32,13,33,13],[32,14,33,14],[32,15,33,15],[32,16,33,16],[32,17,33,17],[32,18,33,21],[30,12,31,12],[30,13,31,13],[30,14,31,14],[30,15,31,15],[30,16,31,16],[30,17,31,17],[34,18,35,21],[36,12,37,12],[36,13,37,13],[36,14,37,14],[36,15,37,15],[36,16,37,16],[36,17,37,17],[36,18,37,21],[34,12,35,12],[34,13,35,13],[34,14,35,14],[34,15,35,15],[34,16,35,16],[34,17,35,17],[39,18,40,21],[41,12,42,12],[41,13,42,13],[41,14,42,14],[41,15,42,15],[41,16,42,16],[41,17,42,17],[41,18,42,21],[39,12,40,12],[39,13,40,13],[39,14,40,14],[39,15,40,15],[39,16,40,16],[39,17,40,17],[47,15,48,15],[47,16,48,16],[47,17,48,17],[43,18,44,21],[45,12,46,12],[45,13,46,13],[45,14,46,14],[45,15,46,15],[45,16,46,16],[45,17,46,17],[45,18,46,21],[43,12,44,12],[43,13,44,13],[43,14,44,14],[43,15,44,15],[43,16,44,16],[43,17,44,17],[52,18,53,21],[54,12,55,12],[54,13,55,13],[54,14,55,14],[54,15,55,15],[54,16,55,16],[54,17,55,17],[54,18,55,21],[52,12,53,12],[52,13,53,13],[52,14,53,14],[52,15,53,15],[52,16,53,16],[52,17,53,17],[56,18,57,21],[58,12,59,12],[58,13,59,13],[58,14,59,14],[58,15,59,15],[58,16,59,16],[58,17,59,17],[58,18,59,21],[56,12,57,12],[56,13,57,13],[56,14,57,14],[56,15,57,15],[56,16,57,16],[56,17,57,17],[60,18,61,21],[62,12,63,12],[62,13,63,13],[62,14,63,14],[62,15,63,15],[62,16,63,16],[62,17,63,17],[62,18,63,21],[60,12,61,12],[60,13,61,13],[60,14,61,14],[60,15,61,15],[60,16,61,16],[60,17,61,17],[67,18,68,21],[69,12,70,12],[69,13,70,13],[69,14,70,14],[69,15,70,15],[69,16,70,16],[69,17,70,17],[69,18,70,21],[67,12,68,12],[67,13,68,13],[67,14,68,14],[67,15,68,15],[67,16,68,16],[67,17,68,17],[73,14,74,14],[73,15,74,15],[73,16,74,16],[73,17,74,17],[73,18,74,21],[71,12,72,12],[71,13,72,13],[71,14,72,14],[71,15,72,15],[71,16,72,16],[71,17,72,17],[80,18,81,21],[82,12,83,12],[82,13,83,13],[82,14,83,14],[82,15,83,15],[82,16,83,16],[82,17,83,17],[82,18,83,21],[80,12,81,12],[80,13,81,13],[80,14,81,14],[80,15,81,15],[80,16,81,16],[80,17,81,17],[84,18,85,21],[86,12,87,12],[86,13,87,13],[86,14,87,14],[86,15,87,15],[86,16,87,16],[86,17,87,17],[86,18,87,21],[84,12,85,12],[84,13,85,13],[84,14,85,14],[84,15,85,15],[84,16,85,16],[84,17,85,17],[88,18,89,21],[90,12,91,12],[90,13,91,13],[90,14,91,14],[90,15,91,15],[90,16,91,16],[90,17,91,17],[90,18,91,21],[88,12,89,12],[88,13,89,13],[88,14,89,14],[88,15,89,15],[88,16,89,16],[88,17,89,17],[93,18,94,21],[95,12,96,12],[95,13,96,13],[95,14,96,14],[95,15,96,15],[95,16,96,16],[95,17,96,17],[95,18,96,21],[93,12,94,12],[93,13,94,13],[93,14,94,14],[93,15,94,15],[93,16,94,16],[93,17,94,17],[106,12,107,12],[106,13,107,13],[106,14,107,14],[106,15,107,15],[106,16,107,16],[106,17,107,17],[106,18,107,21],[101,18,102,21],[103,12,104,12],[103,13,104,13],[103,14,104,14],[103,15,104,15],[103,16,104,16],[103,17,104,17],[103,18,104,21],[101,12,102,12],[101,13,102,13],[101,14,102,14],[101,15,102,15],[101,16,102,16],[101,17,102,17],[112,15,113,15],[112,16,113,16],[112,17,113,17],[108,18,109,21],[110,12,111,12],[110,13,111,13],[110,14,111,14],[110,15,111,15],[110,16,111,16],[110,17,111,17],[110,18,111,21],[108,12,109,12],[108,13,109,13],[108,14,109,14],[108,15,109,15],[108,16,109,16],[108,17,109,17],[6,5,7,6],[25,1,25,2],[25,3,25,5],[25,7,25,10],[25,12,25,13],[25,14,25,16],[116,18,117,21],[116,12,117,12],[116,13,117,13],[116,14,117,14],[116,15,117,15],[116,16,117,16],[116,17,117,17],[112,18,113,21],[114,12,115,12],[114,13,115,13],[114,14,115,14],[114,15,115,15],[114,16,115,16],[114,17,115,17],[114,18,115,21],[112,12,113,12],[112,13,113,13],[112,14,113,14],[51,1,51,2],[51,3,51,5],[51,7,51,10],[51,12,51,13],[51,14,51,16],[51,18,51,21],[25,18,25,21],[38,1,38,2],[38,3,38,5],[38,7,38,10],[38,12,38,13],[38,14,38,16],[38,18,38,21],[47,18,48,21],[49,12,50,12],[49,13,50,13],[49,14,50,14],[49,15,50,15],[49,16,50,16],[49,17,50,17],[49,18,50,21],[47,12,48,12],[47,13,48,13],[47,14,48,14],[79,18,79,21],[66,1,66,2],[66,3,66,5],[66,7,66,10],[66,12,66,13],[66,14,66,16],[66,18,66,21],[75,18,76,21],[77,12,78,12],[77,13,78,13],[77,14,78,14],[77,15,78,15],[77,16,78,16],[77,17,78,17],[77,18,78,21],[75,12,76,12],[75,13,76,13],[75,14,76,14],[75,15,76,15],[75,16,76,16],[75,17,76,17],[71,18,72,21],[73,12,74,12],[73,13,74,13],[97,15,98,15],[97,16,98,16],[97,17,98,17],[79,1,79,2],[79,3,79,5],[79,7,79,10],[79,12,79,13],[79,14,79,16],[93,1,94,1],[93,2,94,2],[93,3,94,3],[93,4,94,4],[90,7,91,10],[95,7,96,10],[97,7,98,10],[93,7,94,10],[95,4,96,4],[95,5,96,5],[95,6,96,6],[86,4,87,4],[86,5,87,5],[86,6,87,6],[86,7,87,10],[88,1,89,1],[8,2,8,13],[6,14,6,17],[7,14,7,17],[105,7,105,10],[105,12,105,13],[105,14,105,16],[105,18,105,21],[92,1,92,2],[92,3,92,5],[92,7,92,10],[92,12,92,13],[92,14,92,16],[92,18,92,21],[97,18,98,21],[99,12,100,12],[99,13,100,13],[99,14,100,14],[99,15,100,15],[99,16,100,16],[99,17,100,17],[99,18,100,21],[97,12,98,12],[97,13,98,13],[97,14,98,14]]}
[]
[null,null,"La liste des Vainqueurs / List of Winners"]
[]
[null,null,null,null,{"$f":"Inf!B4","v":"ХХХI-Всероссийский турнир по греко-римской борьбе,посвященный памяти ректора Ленинградского финансово-экономического института им.Н.А.Вознесенского /ныне Санкт-Петербургского государственного экономического университета,з.д.н.России Лаврикова Юрия Александровича."}]
[]
[]
[null,null,null,null,null,{"$f":"Inf!C5","v":"GR"},null,null,null,null,null,null,null,null,{"$f":"Inf!B5","v":"20-22  ноября 2023г"}]
[null,null,null,null,null,null,null,null,null,null,null,null,null,null,{"$f":"Inf!F5","v":"Санкт-Петербург"}]
[null,null,"Количество субъектов Российской Федерации -",null,null,null,null,null,null,null,null,null,null,null,{"$f":"'M-II'!F7","v":70}]
[null,null,null,"Общее количество участников соревнований - ",null,null,null,null,null,null,null,null,null,null,{"$f":"'M-II'!V88","v":0}]
[]
[null,"Place"," № по жребию","Фамилия, имя участника","Регион","Разряд","Дата рождения","Ф.И.О. тренера",null,null,null,null,"Place"," № по жребию","Фамилия, имя участника","Регион","Разряд","Дата рождения","Ф.И.О. тренера"]
[null,{"$f":"'Atl1'!D2","v":55},null,"Количество участников - ",null,null,{"$f":"'Atl1'!G2","v":3},null,null,null,null,null,{"$f":"Inf!I6","v":60},null,"Количество участников - ",null,null,{"$f":"'Atl1'!Q2","v":3}]
[null,"1м",3,{"$f":"IF(C14>0,INDEX([1]Atl1!$D$6:$D$165,C14+(C14-1),1),\" \")","v":"ВАСИЛЬЕВ ИВАН"},{"$f":"IF(C14>0,INDEX([1]Atl1!$E$6:$E$165,C14+(C14-1),1),\" \")","v":"УОР-2"},{"$f":"IF(C14>0,INDEX([1]Atl1!$G$6:$G$165,C14+(C14-1),1),\" \")","v":"МС"},{"$f":"IF(C14>0,INDEX([1]Atl1!$H$6:$H$165,C14+(C14-1),1),\" \")","v":"2004-02-02"},{"$f":"IF(C14>0,INDEX([1]Atl1!$I$6:$I$165,C14+(C14-1),1),\" \")","v":"КОМААРОВ,КАЗАКОВ,ВАСИЛЬЕВ"},null,null,null,null,"1м",1,{"$f":"IF(N14>0,INDEX([1]Atl1!$N$6:$N$165,N14+(N14-1),1),\" \")","v":"КРИНИЦЫН НИКИТА"},{"$f":"IF(N14>0,INDEX([1]Atl1!$O$6:$O$165,N14+(N14-1),1),\" \")","v":"СПб-ВИФК"},{"$f":"IF(N14>0,INDEX([1]Atl1!$Q$6:$Q$165,N14+(N14-1),1),\" \")","v":"мс"},{"$f":"IF(N14>0,INDEX([1]Atl1!$R$6:$R$165,N14+(N14-1),1),\" \")","v":"2002-06-27"},{"$f":"IF(N14>0,INDEX([1]Atl1!$S$6:$S$165,N14+(N14-1),1),\" \")","v":"МАКАРОВ,ДАВИДЯН"}]
[]
[null,"2м",1,{"$f":"IF(C16>0,INDEX([1]Atl1!$D$6:$D$165,C16+(C16-1),1),\" \")","v":"КАЧАРЯН ЭРИК"},{"$f":"IF(C16>0,INDEX([1]Atl1!$E$6:$E$165,C16+(C16-1),1),\" \")","v":"СПб-КШВСМ"},{"$f":"IF(C16>0,INDEX([1]Atl1!$G$6:$G$165,C16+(C16-1),1),\" \")","v":"КМС"},{"$f":"IF(C16>0,INDEX([1]Atl1!$H$6:$H$165,C16+(C16-1),1),\" \")","v":"2004-08-24"},{"$f":"IF(C16>0,INDEX([1]Atl1!$I$6:$I$165,C16+(C16-1),1),\" \")","v":"КОМАРОВ АП,КОМАРОВ,ГАБИДУЛИН"},null,null,null,null,"2м",2,{"$f":"IF(N16>0,INDEX([1]Atl1!$N$6:$N$165,N16+(N16-1),1),\" \")","v":"ГЕРАСИМОВ СТАС"},{"$f":"IF(N16>0,INDEX([1]Atl1!$O$6:$O$165,N16+(N16-1),1),\" \")","v":"СПб-КШВСМ"},{"$f":"IF(N16>0,INDEX([1]Atl1!$Q$6:$Q$165,N16+(N16-1),1),\" \")","v":"КМС"},{"$f":"IF(N16>0,INDEX([1]Atl1!$R$6:$R$165,N16+(N16-1),1),\" \")","v":"2002-10-02"},{"$f":"IF(N16>0,INDEX([1]Atl1!$S$6:$S$165,N16+(N16-1),1),\" \")","v":"КОМАРОВ АП.ЦЕЛОУСОВ"}]
[]
[null,"3м",2,{"$f":"IF(C18>0,INDEX([1]Atl1!$D$6:$D$165,C18+(C18-1),1),\" \")","v":"ШАРИПОВ ИГОРЬ"},{"$f":"IF(C18>0,INDEX([1]Atl1!$E$6:$E$165,C18+(C18-1),1),\" \")","v":"СПб-КШВСМ"},{"$f":"IF(C18>0,INDEX([1]Atl1!$G$6:$G$165,C18+(C18-1),1),\" \")","v":"КМС"},{"$f":"IF(C18>0,INDEX([1]Atl1!$H$6:$H$165,C18+(C18-1),1),\" \")","v":"058.03.03"},{"$f":"IF(C18>0,INDEX([1]Atl1!$I$6:$I$165,C18+(C18-1),1),\" \")","v":"КОМАРОВ АП,КОМАРОВ,ГАБИДУЛИН"},null,null,null,null,"3м",3,"ГРИЦ СЕМЕН","СПб-КШВСМ","КМС","2005-07-07","КАЗАВАТОВ,СКАРГИН"]
[]
[null,"3м",0,{"$f":"IF(C20>0,INDEX([1]Atl1!$D$6:$D$165,C20+(C20-1),1),\" \")","v":" "},{"$f":"IF(C20>0,INDEX([1]Atl1!$E$6:$E$165,C20+(C20-1),1),\" \")","v":" "},{"$f":"IF(C20>0,INDEX([1]Atl1!$G$6:$G$165,C20+(C20-1),1),\" \")","v":" "},{"$f":"IF(C20>0,INDEX([1]Atl1!$H$6:$H$165,C20+(C20-1),1),\" \")","v":" "},{"$f":"IF(C20>0,INDEX([1]Atl1!$I$6:$I$165,C20+(C20-1),1),\" \")","v":" "},null,null,null,null,"3м",null,{"$f":"IF(N20>0,INDEX([1]Atl1!$N$6:$N$165,N20+(N20-1),1),\" \")","v":" "},{"$f":"IF(N20>0,INDEX([1]Atl1!$O$6:$O$165,N20+(N20-1),1),\" \")","v":" "},{"$f":"IF(N20>0,INDEX([1]Atl1!$Q$6:$Q$165,N20+(N20-1),1),\" \")","v":" "},{"$f":"IF(N20>0,INDEX([1]Atl1!$R$6:$R$165,N20+(N20-1),1),\" \")","v":" "},{"$f":"IF(N20>0,INDEX([1]Atl1!$S$6:$S$165,N20+(N20-1),1),\" \")","v":" "}]
[]
[null,"5м",null,{"$f":"IF(C22>0,INDEX([1]Atl1!$D$6:$D$165,C22+(C22-1),1),\" \")","v":" "},{"$f":"IF(C22>0,INDEX([1]Atl1!$E$6:$E$165,C22+(C22-1),1),\" \")","v":" "},{"$f":"IF(C22>0,INDEX([1]Atl1!$G$6:$G$165,C22+(C22-1),1),\" \")","v":" "},{"$f":"IF(C22>0,INDEX([1]Atl1!$H$6:$H$165,C22+(C22-1),1),\" \")","v":" "},{"$f":"IF(C22>0,INDEX([1]Atl1!$I$6:$I$165,C22+(C22-1),1),\" \")","v":" "},null,null,null,null,"5м",null,{"$f":"IF(N22>0,INDEX([1]Atl1!$N$6:$N$165,N22+(N22-1),1),\" \")","v":" "},{"$f":"IF(N22>0,INDEX([1]Atl1!$O$6:$O$165,N22+(N22-1),1),\" \")","v":" "},{"$f":"IF(N22>0,INDEX([1]Atl1!$Q$6:$Q$165,N22+(N22-1),1),\" \")","v":" "},{"$f":"IF(N22>0,INDEX([1]Atl1!$R$6:$R$165,N22+(N22-1),1),\" \")","v":" "},{"$f":"IF(N22>0,INDEX([1]Atl1!$S$6:$S$165,N22+(N22-1),1),\" \")","v":" "}]
[]
[null,"5м",null,{"$f":"IF(C24>0,INDEX([1]Atl1!$D$6:$D$165,C24+(C24-1),1),\" \")","v":" "},{"$f":"IF(C24>0,INDEX([1]Atl1!$E$6:$E$165,C24+(C24-1),1),\" \")","v":" "},{"$f":"IF(C24>0,INDEX([1]Atl1!$G$6:$G$165,C24+(C24-1),1),\" \")","v":" "},{"$f":"IF(C24>0,INDEX([1]Atl1!$H$6:$H$165,C24+(C24-1),1),\" \")","v":" "},{"$f":"IF(C24>0,INDEX([1]Atl1!$I$6:$I$165,C24+(C24-1),1),\" \")","v":" "},null,null,null,null,"5м",null,{"$f":"IF(N24>0,INDEX([1]Atl1!$N$6:$N$165,N24+(N24-1),1),\" \")","v":" "},{"$f":"IF(N24>0,INDEX([1]Atl1!$O$6:$O$165,N24+(N24-1),1),\" \")","v":" "},{"$f":"IF(N24>0,INDEX([1]Atl1!$Q$6:$Q$165,N24+(N24-1),1),\" \")","v":" "},{"$f":"IF(N24>0,INDEX([1]Atl1!$R$6:$R$165,N24+(N24-1),1),\" \")","v":" "},{"$f":"IF(N24>0,INDEX([1]Atl1!$S$6:$S$165,N24+(N24-1),1),\" \")","v":" "}]
[]
[null,{"$f":"Inf!I7","v":63},null,"Количество участников - ",null,null,5,null,null,null,null,null,{"$f":"[1]Inf!I8","v":67},null,"Количество участников - ",null,null,3]
[null,"1м",1,{"$f":"IF(C27>0,INDEX([1]Atl1!$X$6:$X$165,C27+(C27-1),1),\" \")","v":"КУРАЕВ МИХАИЛ"},{"$f":"IF(C27>0,INDEX([1]Atl1!$Y$6:$Y$165,C27+(C27-1),1),\" \")","v":"СПб-ВИФК"},{"$f":"IF(C27>0,INDEX([1]Atl1!$AA$6:$AA$165,C27+(C27-1),1),\" \")","v":"КМС"},{"$f":"IF(C27>0,INDEX([1]Atl1!$AB$6:$AB$165,C27+(C27-1),1),\" \")","v":"2004-08-20"},{"$f":"IF(C27>0,INDEX([1]Atl1!$AC$6:$AC$165,C27+(C27-1),1),\" \")","v":"МАКАРОВ,ДАВИДЯН"},null,null,null,null,"1м",2,{"$f":"IF(N27>0,INDEX([1]Atl1!$AH$6:$AH$165,N27+(N27-1),1),\" \")","v":"РУСТАМОВ АКШИН"},{"$f":"IF(N27>0,INDEX([1]Atl1!$AI$6:$AI$165,N27+(N27-1),1),\" \")","v":"УОР-2"},{"$f":"IF(N27>0,INDEX([1]Atl1!$AK$6:$AK$165,N27+(N27-1),1),\" \")","v":"МС"},{"$f":"IF(N27>0,INDEX([1]Atl1!$AL$6:$AL$165,N27+(N27-1),1),\" \")","v":"2003-02-03"},{"$f":"IF(N27>0,INDEX([1]Atl1!$AM$6:$AM$165,N27+(N27-1),1),\" \")","v":"КАЗАКОВ,КОМАРОВ,ШАРАПОВ"}]
[]
[null,"2м",2,{"$f":"IF(C29>0,INDEX([1]Atl1!$X$6:$X$165,C29+(C29-1),1),\" \")","v":"БОГДАНОВ СЕРАФИМ"},{"$f":"IF(C29>0,INDEX([1]Atl1!$Y$6:$Y$165,C29+(C29-1),1),\" \")","v":"ИЖОРЦ"},{"$f":"IF(C29>0,INDEX([1]Atl1!$AA$6:$AA$165,C29+(C29-1),1),\" \")","v":"КМС"},{"$f":"IF(C29>0,INDEX([1]Atl1!$AB$6:$AB$165,C29+(C29-1),1),\" \")","v":"2005Г"},{"$f":"IF(C29>0,INDEX([1]Atl1!$AC$6:$AC$165,C29+(C29-1),1),\" \")","v":"МАХОРТОВ,МЕШКУНОВ"},null,null,null,null,"2м",1,{"$f":"IF(N29>0,INDEX([1]Atl1!$AH$6:$AH$165,N29+(N29-1),1),\" \")","v":"КАУТЕР ГЛЕБ"},{"$f":"IF(N29>0,INDEX([1]Atl1!$AI$6:$AI$165,N29+(N29-1),1),\" \")","v":"СПб-КШВСМ"},{"$f":"IF(N29>0,INDEX([1]Atl1!$AK$6:$AK$165,N29+(N29-1),1),\" \")","v":"КМС"},{"$f":"IF(N29>0,INDEX([1]Atl1!$AL$6:$AL$165,N29+(N29-1),1),\" \")","v":"2003-06-30"},{"$f":"IF(N29>0,INDEX([1]Atl1!$AM$6:$AM$165,N29+(N29-1),1),\" \")","v":"СКАРГИН,НЕРОБЕЕВ Н."}]
[]
[null,"3м",3,"АСЛАЯН АРСЕН","МОСКВА","КМС","2005-08-22","КАППУШЕВ",null,null,null,null,"3м",3,"ПОЛЯКОВ МАКСИМ","МОСКВА","мс","2001-12-20","КАППУШЕВ"]
[]
[null,"4м",5,"СИНГУР АРТЕМ","СПб-НГУ","МС","2001-05-22","ДАВИДЯН Г,А,ДАВИДЯН И,Г",null,null,null,null,"3м",null,{"$f":"IF(N33>0,INDEX([1]Atl1!$AH$6:$AH$165,N33+(N33-1),1),\" \")","v":" "},{"$f":"IF(N33>0,INDEX([1]Atl1!$AI$6:$AI$165,N33+(N33-1),1),\" \")","v":" "},{"$f":"IF(N33>0,INDEX([1]Atl1!$AK$6:$AK$165,N33+(N33-1),1),\" \")","v":" "},{"$f":"IF(N33>0,INDEX([1]Atl1!$AL$6:$AL$165,N33+(N33-1),1),\" \")","v":" "},{"$f":"IF(N33>0,INDEX([1]Atl1!$AM$6:$AM$165,N33+(N33-1),1),\" \")","v":" "}]
[]
[null,"5м",null,{"$f":"IF(C35>0,INDEX([1]Atl1!$X$6:$X$165,C35+(C35-1),1),\" \")","v":" "},{"$f":"IF(C35>0,INDEX([1]Atl1!$Y$6:$Y$165,C35+(C35-1),1),\" \")","v":" "},{"$f":"IF(C35>0,INDEX([1]Atl1!$AA$6:$AA$165,C35+(C35-1),1),\" \")","v":" "},{"$f":"IF(C35>0,INDEX([1]Atl1!$AB$6:$AB$165,C35+(C35-1),1),\" \")","v":" "},{"$f":"IF(C35>0,INDEX([1]Atl1!$AC$6:$AC$165,C35+(C35-1),1),\" \")","v":" "},null,null,null,null,"5м",null,{"$f":"IF(N35>0,INDEX([1]Atl1!$AH$6:$AH$165,N35+(N35-1),1),\" \")","v":" "},{"$f":"IF(N35>0,INDEX([1]Atl1!$AI$6:$AI$165,N35+(N35-1),1),\" \")","v":" "},{"$f":"IF(N35>0,INDEX([1]Atl1!$AK$6:$AK$165,N35+(N35-1),1),\" \")","v":" "},{"$f":"IF(N35>0,INDEX([1]Atl1!$AL$6:$AL$165,N35+(N35-1),1),\" \")","v":" "},{"$f":"IF(N35>0,INDEX([1]Atl1!$AM$6:$AM$165,N35+(N35-1),1),\" \")","v":" "}]
[]
[null,"5м",null,{"$f":"IF(C37>0,INDEX([1]Atl1!$X$6:$X$165,C37+(C37-1),1),\" \")","v":" "},{"$f":"IF(C37>0,INDEX([1]Atl1!$Y$6:$Y$165,C37+(C37-1),1),\" \")","v":" "},{"$f":"IF(C37>0,INDEX([1]Atl1!$AA$6:$AA$165,C37+(C37-1),1),\" \")","v":" "},{"$f":"IF(C37>0,INDEX([1]Atl1!$AB$6:$AB$165,C37+(C37-1),1),\" \")","v":" "},{"$f":"IF(C37>0,INDEX([1]Atl1!$AC$6:$AC$165,C37+(C37-1),1),\" \")","v":" "},null,null,null,null,"5м",null,{"$f":"IF(N37>0,INDEX([1]Atl1!$AH$6:$AH$165,N37+(N37-1),1),\" \")","v":" "},{"$f":"IF(N37>0,INDEX([1]Atl1!$AI$6:$AI$165,N37+(N37-1),1),\" \")","v":" "},{"$f":"IF(N37>0,INDEX([1]Atl1!$AK$6:$AK$165,N37+(N37-1),1),\" \")","v":" "},{"$f":"IF(N37>0,INDEX([1]Atl1!$AL$6:$AL$165,N37+(N37-1),1),\" \")","v":" "},{"$f":"IF(N37>0,INDEX([1]Atl1!$AM$6:$AM$165,N37+(N37-1),1),\" \")","v":" "}]
[]
[null,{"$f":"Inf!I9","v":72},null,"Количество участников - ",null,null,{"$f":"[1]Atl2!G2","v":12},null,null,null,null,null,{"$f":"[1]Inf!I10","v":77},null,"Количество участников - ",null,null,{"$f":"[1]Atl2!Q2","v":5}]
[null,"1м",1,{"$f":"IF(C40>0,INDEX([1]Atl2!$D$6:$D$165,C40+(C40-1),1),\" \")","v":"ИМАДАЕВ МУСЛИМ"},{"$f":"IF(C40>0,INDEX([1]Atl2!$E$6:$E$165,C40+(C40-1),1),\" \")","v":"ТВЕРС.ОБЛ."},{"$f":"IF(C40>0,INDEX([1]Atl2!$G$6:$G$165,C40+(C40-1),1),\" \")","v":"МС"},{"$f":"IF(C40>0,INDEX([1]Atl2!$H$6:$H$165,C40+(C40-1),1),\" \")","v":"2001-05-22"},{"$f":"IF(C40>0,INDEX([1]Atl2!$I$6:$I$165,C40+(C40-1),1),\" \")","v":"ЗАКИРОВ,КУЗИХИН"},null,null,null,null,"1м",2,{"$f":"IF(N40>0,INDEX([1]Atl2!$N$6:$N$165,N40+(N40-1),1),\" \")","v":"БЕКОШВИЛИ ДАВИД"},{"$f":"IF(N40>0,INDEX([1]Atl2!$O$6:$O$165,N40+(N40-1),1),\" \")","v":"МОСКВА"},{"$f":"IF(N40>0,INDEX([1]Atl2!$Q$6:$Q$165,N40+(N40-1),1),\" \")","v":"МС"},{"$f":"IF(N40>0,INDEX([1]Atl2!$R$6:$R$165,N40+(N40-1),1),\" \")","v":"1997-11-01"},{"$f":"IF(N40>0,INDEX([1]Atl2!$S$6:$S$165,N40+(N40-1),1),\" \")","v":"КАППУШЕВ"}]
[]
[null,"2м",12,{"$f":"IF(C42>0,INDEX([1]Atl2!$D$6:$D$165,C42+(C42-1),1),\" \")","v":"ФЕДОРОВ СЕРГЕЙ"},{"$f":"IF(C42>0,INDEX([1]Atl2!$E$6:$E$165,C42+(C42-1),1),\" \")","v":"УОР-2"},{"$f":"IF(C42>0,INDEX([1]Atl2!$G$6:$G$165,C42+(C42-1),1),\" \")","v":"МС"},{"$f":"IF(C42>0,INDEX([1]Atl2!$H$6:$H$165,C42+(C42-1),1),\" \")","v":"2003-02-21"},{"$f":"IF(C42>0,INDEX([1]Atl2!$I$6:$I$165,C42+(C42-1),1),\" \")","v":"КОМАОВ,КАЗАКОВ,БАХТАНОВ"},null,null,null,null,"2м",3,{"$f":"IF(N42>0,INDEX([1]Atl2!$N$6:$N$165,N42+(N42-1),1),\" \")","v":"КНИЖНИКОВ КИРИЛЛ"},{"$f":"IF(N42>0,INDEX([1]Atl2!$O$6:$O$165,N42+(N42-1),1),\" \")","v":"ГЭУ"},{"$f":"IF(N42>0,INDEX([1]Atl2!$Q$6:$Q$165,N42+(N42-1),1),\" \")","v":1},{"$f":"IF(N42>0,INDEX([1]Atl2!$R$6:$R$165,N42+(N42-1),1),\" \")","v":"2005-07-13"},{"$f":"IF(N42>0,INDEX([1]Atl2!$S$6:$S$165,N42+(N42-1),1),\" \")","v":"ДАВИДЯН Г.А,ДАВИДЯН И.Г"}]
[]
[null,"3м",4,{"$f":"IF(C44>0,INDEX([1]Atl2!$D$6:$D$165,C44+(C44-1),1),\" \")","v":"ФАИЗОВ ЭДУАРД"},{"$f":"IF(C44>0,INDEX([1]Atl2!$E$6:$E$165,C44+(C44-1),1),\" \")","v":"СПб-ВИФК"},{"$f":"IF(C44>0,INDEX([1]Atl2!$G$6:$G$165,C44+(C44-1),1),\" \")","v":"КМС"},{"$f":"IF(C44>0,INDEX([1]Atl2!$H$6:$H$165,C44+(C44-1),1),\" \")","v":"2001-01-25"},{"$f":"IF(C44>0,INDEX([1]Atl2!$I$6:$I$165,C44+(C44-1),1),\" \")","v":"МАКАРОВ,ДАВИДЯН"},null,null,null,null,"3м",1,{"$f":"IF(N44>0,INDEX([1]Atl2!$N$6:$N$165,N44+(N44-1),1),\" \")","v":"СОФЬИН ДАНИЛ"},{"$f":"IF(N44>0,INDEX([1]Atl2!$O$6:$O$165,N44+(N44-1),1),\" \")","v":"СПб-ВИФК"},{"$f":"IF(N44>0,INDEX([1]Atl2!$Q$6:$Q$165,N44+(N44-1),1),\" \")","v":"КМС"},{"$f":"IF(N44>0,INDEX([1]Atl2!$R$6:$R$165,N44+(N44-1),1),\" \")","v":"2001-01-23"},{"$f":"IF(N44>0,INDEX([1]Atl2!$S$6:$S$165,N44+(N44-1),1),\" \")","v":"МАКАРОВ,ДАВИДЯН"}]
[]
[null,"3м",7,{"$f":"IF(C46>0,INDEX([1]Atl2!$D$6:$D$165,C46+(C46-1),1),\" \")","v":"ГАБИБОВ АДАМ"},{"$f":"IF(C46>0,INDEX([1]Atl2!$E$6:$E$165,C46+(C46-1),1),\" \")","v":"ГЭУ"},{"$f":"IF(C46>0,INDEX([1]Atl2!$G$6:$G$165,C46+(C46-1),1),\" \")","v":1},{"$f":"IF(C46>0,INDEX([1]Atl2!$H$6:$H$165,C46+(C46-1),1),\" \")","v":"2001-12-04"},{"$f":"IF(C46>0,INDEX([1]Atl2!$I$6:$I$165,C46+(C46-1),1),\" \")","v":"ДАВИДЯН Г.А.,ДАВИДЯН И.Г"},null,null,null,null,"4м",4,{"$f":"IF(N46>0,INDEX([1]Atl2!$N$6:$N$165,N46+(N46-1),1),\" \")","v":"НОСУЛЬ ВЛАДИМИР"},{"$f":"IF(N46>0,INDEX([1]Atl2!$O$6:$O$165,N46+(N46-1),1),\" \")","v":"СПб-КШВСМ"},{"$f":"IF(N46>0,INDEX([1]Atl2!$Q$6:$Q$165,N46+(N46-1),1),\" \")","v":"КМС"},{"$f":"IF(N46>0,INDEX([1]Atl2!$R$6:$R$165,N46+(N46-1),1),\" \")","v":"1998-12-19"},{"$f":"IF(N46>0,INDEX([1]Atl2!$S$6:$S$165,N46+(N46-1),1),\" \")","v":"КАЗАВАТОВ,НЕРОБЕЕВ Ю."}]
[]
[null,"5м",3,{"$f":"IF(C48>0,INDEX([1]Atl2!$D$6:$D$165,C48+(C48-1),1),\" \")","v":"ГАДАБОРШЕВ ЭЛЬБЕРТ"},{"$f":"IF(C48>0,INDEX([1]Atl2!$E$6:$E$165,C48+(C48-1),1),\" \")","v":"ИЖОРЦ"},{"$f":"IF(C48>0,INDEX([1]Atl2!$G$6:$G$165,C48+(C48-1),1),\" \")","v":"КМС"},{"$f":"IF(C48>0,INDEX([1]Atl2!$H$6:$H$165,C48+(C48-1),1),\" \")","v":"2005Г"},{"$f":"IF(C48>0,INDEX([1]Atl2!$I$6:$I$165,C48+(C48-1),1),\" \")","v":"МАХОРТОВ,МЕШКУНОВ"},null,null,null,null,"5м",5,{"$f":"IF(N48>0,INDEX([1]Atl2!$N$6:$N$165,N48+(N48-1),1),\" \")","v":"МЯЧИН ГРИГОРИЙ"},{"$f":"IF(N48>0,INDEX([1]Atl2!$O$6:$O$165,N48+(N48-1),1),\" \")","v":"СПб-КШВСМ"},{"$f":"IF(N48>0,INDEX([1]Atl2!$Q$6:$Q$165,N48+(N48-1),1),\" \")","v":"КМС"},{"$f":"IF(N48>0,INDEX([1]Atl2!$R$6:$R$165,N48+(N48-1),1),\" \")","v":"2004-09-06"},{"$f":"IF(N48>0,INDEX([1]Atl2!$S$6:$S$165,N48+(N48-1),1),\" \")","v":"ИСАКОВ,КИРАКОСЯН"}]
[]
[null,"5м",10,{"$f":"IF(C50>0,INDEX([1]Atl2!$D$6:$D$165,C50+(C50-1),1),\" \")","v":"ДЖУМАЛИЕВ АДАМ"},{"$f":"IF(C50>0,INDEX([1]Atl2!$E$6:$E$165,C50+(C50-1),1),\" \")","v":"ГЭУ"},{"$f":"IF(C50>0,INDEX([1]Atl2!$G$6:$G$165,C50+(C50-1),1),\" \")","v":1},{"$f":"IF(C50>0,INDEX([1]Atl2!$H$6:$H$165,C50+(C50-1),1),\" \")","v":"2000-07-28"},{"$f":"IF(C50>0,INDEX([1]Atl2!$I$6:$I$165,C50+(C50-1),1),\" \")","v":"ДАВИДЯН Г.А,ДАВИДЯН И.Г"},null,null,null,null,"5м",null,{"$f":"IF(N50>0,INDEX([1]Atl2!$N$6:$N$165,N50+(N50-1),1),\" \")","v":" "},{"$f":"IF(N50>0,INDEX([1]Atl2!$O$6:$O$165,N50+(N50-1),1),\" \")","v":" "},{"$f":"IF(N50>0,INDEX([1]Atl2!$Q$6:$Q$165,N50+(N50-1),1),\" \")","v":" "},{"$f":"IF(N50>0,INDEX([1]Atl2!$R$6:$R$165,N50+(N50-1),1),\" \")","v":" "},{"$f":"IF(N50>0,INDEX([1]Atl2!$S$6:$S$165,N50+(N50-1),1),\" \")","v":" "}]
[]
[null,{"$f":"Inf!I11","v":82},null,"Количество участников - ",null,null,{"$f":"[1]Atl2!AA2","v":8},null,null,null,null,null,{"$f":"[1]Inf!I12","v":87},null,"Количество участников - ",null,null,{"$f":"[1]Atl2!AK2","v":5}]
[null,"1м",1,{"$f":"IF(C53>0,INDEX([1]Atl2!$X$6:$X$165,C53+(C53-1),1),\" \")","v":"ДИБИРОВ ЗУБАИР"},{"$f":"IF(C53>0,INDEX([1]Atl2!$Y$6:$Y$165,C53+(C53-1),1),\" \")","v":"СПб-КШВСМ"},{"$f":"IF(C53>0,INDEX([1]Atl2!$AA$6:$AA$165,C53+(C53-1),1),\" \")","v":"мс"},{"$f":"IF(C53>0,INDEX([1]Atl2!$AB$6:$AB$165,C53+(C53-1),1),\" \")","v":"1996-01-03"},{"$f":"IF(C53>0,INDEX([1]Atl2!$AC$6:$AC$165,C53+(C53-1),1),\" \")","v":"ГАБИДУЛИН,КОМАРОВ АП,КОМАРОВ"},null,null,null,null,"1м",1,{"$f":"IF(N53>0,INDEX([1]Atl2!$AH$6:$AH$165,N53+(N53-1),1),\" \")","v":"ЧЕРНЫШЕВ ТИМУР"},{"$f":"IF(N53>0,INDEX([1]Atl2!$AI$6:$AI$165,N53+(N53-1),1),\" \")","v":"УОР-2"},{"$f":"IF(N53>0,INDEX([1]Atl2!$AK$6:$AK$165,N53+(N53-1),1),\" \")","v":"МС"},{"$f":"IF(N53>0,INDEX([1]Atl2!$AL$6:$AL$165,N53+(N53-1),1),\" \")","v":"2004-12-06"},{"$f":"IF(N53>0,INDEX([1]Atl2!$AM$6:$AM$165,N53+(N53-1),1),\" \")","v":"КОМАРОВ,КАЗАКОВ,СВЕКОЛКИН"}]
[]
[null,"2м",6,{"$f":"IF(C55>0,INDEX([1]Atl2!$X$6:$X$165,C55+(C55-1),1),\" \")","v":"КОВАЛЕНКО АЛЕК-ДР"},{"$f":"IF(C55>0,INDEX([1]Atl2!$Y$6:$Y$165,C55+(C55-1),1),\" \")","v":"СПб-КШВСМ"},{"$f":"IF(C55>0,INDEX([1]Atl2!$AA$6:$AA$165,C55+(C55-1),1),\" \")","v":"КМС"},{"$f":"IF(C55>0,INDEX([1]Atl2!$AB$6:$AB$165,C55+(C55-1),1),\" \")","v":"2004-09-23"},{"$f":"IF(C55>0,INDEX([1]Atl2!$AC$6:$AC$165,C55+(C55-1),1),\" \")","v":"ИСАКО,ДАВИДЯН,КОВАЛЕНКО"},null,null,null,null,"2м",3,{"$f":"IF(N55>0,INDEX([1]Atl2!$AH$6:$AH$165,N55+(N55-1),1),\" \")","v":"ГЕРАСИМЕНКО АРТЕМ"},{"$f":"IF(N55>0,INDEX([1]Atl2!$AI$6:$AI$165,N55+(N55-1),1),\" \")","v":"СПб-КШВСМ"},{"$f":"IF(N55>0,INDEX([1]Atl2!$AK$6:$AK$165,N55+(N55-1),1),\" \")","v":"мс"},{"$f":"IF(N55>0,INDEX([1]Atl2!$AL$6:$AL$165,N55+(N55-1),1),\" \")","v":"2000-08-31"},{"$f":"IF(N55>0,INDEX([1]Atl2!$AM$6:$AM$165,N55+(N55-1),1),\" \")","v":36769}]
[]
[null,"3м",4,{"$f":"IF(C57>0,INDEX([1]Atl2!$X$6:$X$165,C57+(C57-1),1),\" \")","v":"ФЕДОРОВ ГРИГОРИЙ"},{"$f":"IF(C57>0,INDEX([1]Atl2!$Y$6:$Y$165,C57+(C57-1),1),\" \")","v":"СПб-КШВСМ"},{"$f":"IF(C57>0,INDEX([1]Atl2!$AA$6:$AA$165,C57+(C57-1),1),\" \")","v":"мс"},{"$f":"IF(C57>0,INDEX([1]Atl2!$AB$6:$AB$165,C57+(C57-1),1),\" \")","v":"1999-07-14"},{"$f":"IF(C57>0,INDEX([1]Atl2!$AC$6:$AC$165,C57+(C57-1),1),\" \")","v":"САФАРЯН,НЕРОБЕЕВ Н."},null,null,null,null,"3м",2,{"$f":"IF(N57>0,INDEX([1]Atl2!$AH$6:$AH$165,N57+(N57-1),1),\" \")","v":"ЕФИМОВ АЛЕК-ДР"},{"$f":"IF(N57>0,INDEX([1]Atl2!$AI$6:$AI$165,N57+(N57-1),1),\" \")","v":"СПб-ВИФК"},{"$f":"IF(N57>0,INDEX([1]Atl2!$AK$6:$AK$165,N57+(N57-1),1),\" \")","v":"КМС"},{"$f":"IF(N57>0,INDEX([1]Atl2!$AL$6:$AL$165,N57+(N57-1),1),\" \")","v":"2001-07-07"},{"$f":"IF(N57>0,INDEX([1]Atl2!$AM$6:$AM$165,N57+(N57-1),1),\" \")","v":"МАКАРОВ,ДАВИДЯН"}]
[]
[null,"3м",8,{"$f":"IF(C59>0,INDEX([1]Atl2!$X$6:$X$165,C59+(C59-1),1),\" \")","v":"ИЛЬЕНКО ИЛЛАРИОН"},{"$f":"IF(C59>0,INDEX([1]Atl2!$Y$6:$Y$165,C59+(C59-1),1),\" \")","v":"СПб-ВИФК"},{"$f":"IF(C59>0,INDEX([1]Atl2!$AA$6:$AA$165,C59+(C59-1),1),\" \")","v":"КМС"},{"$f":"IF(C59>0,INDEX([1]Atl2!$AB$6:$AB$165,C59+(C59-1),1),\" \")","v":"2004-05-18"},{"$f":"IF(C59>0,INDEX([1]Atl2!$AC$6:$AC$165,C59+(C59-1),1),\" \")","v":"МАКАРОВ,ДАВИДЯН"},null,null,null,null,"4м",5,{"$f":"IF(N59>0,INDEX([1]Atl2!$AH$6:$AH$165,N59+(N59-1),1),\" \")","v":"ЛИТВИНЕНКО МАТВЕЦ"},{"$f":"IF(N59>0,INDEX([1]Atl2!$AI$6:$AI$165,N59+(N59-1),1),\" \")","v":"СПб-КШВСМ"},{"$f":"IF(N59>0,INDEX([1]Atl2!$AK$6:$AK$165,N59+(N59-1),1),\" \")","v":"мс"},{"$f":"IF(N59>0,INDEX([1]Atl2!$AL$6:$AL$165,N59+(N59-1),1),\" \")","v":"1999-11-11"},{"$f":"IF(N59>0,INDEX([1]Atl2!$AM$6:$AM$165,N59+(N59-1),1),\" \")","v":"ИСАКОВ,ДАВИДЯН,КОВАЛЕНКО"}]
[]
[null,"5м",2,{"$f":"IF(C61>0,INDEX([1]Atl2!$X$6:$X$165,C61+(C61-1),1),\" \")","v":"ГВИЛИЯ ВАХТАНГ"},{"$f":"IF(C61>0,INDEX([1]Atl2!$Y$6:$Y$165,C61+(C61-1),1),\" \")","v":"СПб-КШВСМ"},{"$f":"IF(C61>0,INDEX([1]Atl2!$AA$6:$AA$165,C61+(C61-1),1),\" \")","v":"КМС"},{"$f":"IF(C61>0,INDEX([1]Atl2!$AB$6:$AB$165,C61+(C61-1),1),\" \")","v":"2002-04-25"},{"$f":"IF(C61>0,INDEX([1]Atl2!$AC$6:$AC$165,C61+(C61-1),1),\" \")","v":"ИСАКОВ,ДАВИДЯН"},null,null,null,null,"5м",4,{"$f":"IF(N61>0,INDEX([1]Atl2!$AH$6:$AH$165,N61+(N61-1),1),\" \")","v":"ГУЩИН ДАНИЛА"},{"$f":"IF(N61>0,INDEX([1]Atl2!$AI$6:$AI$165,N61+(N61-1),1),\" \")","v":"СПб-КШВСМ"},{"$f":"IF(N61>0,INDEX([1]Atl2!$AK$6:$AK$165,N61+(N61-1),1),\" \")","v":"КМС"},{"$f":"IF(N61>0,INDEX([1]Atl2!$AL$6:$AL$165,N61+(N61-1),1),\" \")","v":"2000-03-07"},{"$f":"IF(N61>0,INDEX([1]Atl2!$AM$6:$AM$165,N61+(N61-1),1),\" \")","v":"НЕРОБЕЕВ Н,ГУЩИН О"}]
[]
[null,"5м",5,{"$f":"IF(C63>0,INDEX([1]Atl2!$X$6:$X$165,C63+(C63-1),1),\" \")","v":"КОМАРОВ АРТЕМ"},{"$f":"IF(C63>0,INDEX([1]Atl2!$Y$6:$Y$165,C63+(C63-1),1),\" \")","v":"СПб-КШВСМ"},{"$f":"IF(C63>0,INDEX([1]Atl2!$AA$6:$AA$165,C63+(C63-1),1),\" \")","v":"мс"},{"$f":"IF(C63>0,INDEX([1]Atl2!$AB$6:$AB$165,C63+(C63-1),1),\" \")","v":"2005-07-17"},{"$f":"IF(C63>0,INDEX([1]Atl2!$AC$6:$AC$165,C63+(C63-1),1),\" \")","v":"ГАБИДУЛИН,КОМАРОВ АП,КОМАРОВ"},null,null,null,null,"5м",null,{"$f":"IF(N63>0,INDEX([1]Atl2!$AH$6:$AH$165,N63+(N63-1),1),\" \")","v":" "},{"$f":"IF(N63>0,INDEX([1]Atl2!$AI$6:$AI$165,N63+(N63-1),1),\" \")","v":" "},{"$f":"IF(N63>0,INDEX([1]Atl2!$AK$6:$AK$165,N63+(N63-1),1),\" \")","v":" "},{"$f":"IF(N63>0,INDEX([1]Atl2!$AL$6:$AL$165,N63+(N63-1),1),\" \")","v":" "},{"$f":"IF(N63>0,INDEX([1]Atl2!$AM$6:$AM$165,N63+(N63-1),1),\" \")","v":" "}]
[]
[]
[]
[null,{"$f":"Inf!K5","v":97},null,"Количество участников - ",null,null,{"$f":"[1]Atl3!G2","v":5},null,null,null,null,null,{"$f":"[1]Inf!K6","v":130},null,"Количество участников - ",null,null,{"$f":"[1]Atl3!Q2","v":4}]
[null,"1м",2,{"$f":"IF(C68>0,INDEX([1]Atl3!$D$6:$D$165,C68+(C68-1),1),\" \")","v":"СЕИТОВ АЗАМАТ"},{"$f":"IF(C68>0,INDEX([1]Atl3!$E$6:$E$165,C68+(C68-1),1),\" \")","v":"СЕВАСТОПОЛЬ"},{"$f":"IF(C68>0,INDEX([1]Atl3!$G$6:$G$165,C68+(C68-1),1),\" \")","v":"МС"},{"$f":"IF(C68>0,INDEX([1]Atl3!$H$6:$H$165,C68+(C68-1),1),\" \")","v":"1998-05-10"},{"$f":"IF(C68>0,INDEX([1]Atl3!$I$6:$I$165,C68+(C68-1),1),\" \")","v":"ЛЕВАДНЫЙ,АБДУЛАЕВ"},null,null,null,null,"1м",1,{"$f":"IF(N68>0,INDEX([1]Atl3!$N$6:$N$165,N68+(N68-1),1),\" \")","v":"КАРДАНОВ АМИРАН"},{"$f":"IF(N68>0,INDEX([1]Atl3!$O$6:$O$165,N68+(N68-1),1),\" \")","v":"УОР-2"},{"$f":"IF(N68>0,INDEX([1]Atl3!$Q$6:$Q$165,N68+(N68-1),1),\" \")","v":"КМС"},{"$f":"IF(N68>0,INDEX([1]Atl3!$R$6:$R$165,N68+(N68-1),1),\" \")","v":"2005-01-03"},{"$f":"IF(N68>0,INDEX([1]Atl3!$S$6:$S$165,N68+(N68-1),1),\" \")","v":"ЧУРАЕВ"}]
[]
[null,"2м",3,{"$f":"IF(C70>0,INDEX([1]Atl3!$D$6:$D$165,C70+(C70-1),1),\" \")","v":"СПАСКИН ДМИТРИЙ"},{"$f":"IF(C70>0,INDEX([1]Atl3!$E$6:$E$165,C70+(C70-1),1),\" \")","v":"СПб-ВИФК"},{"$f":"IF(C70>0,INDEX([1]Atl3!$G$6:$G$165,C70+(C70-1),1),\" \")","v":"КМС"},{"$f":"IF(C70>0,INDEX([1]Atl3!$H$6:$H$165,C70+(C70-1),1),\" \")","v":"2002-05-07"},{"$f":"IF(C70>0,INDEX([1]Atl3!$I$6:$I$165,C70+(C70-1),1),\" \")","v":"МАКАРОВ,ДАВИДЯН"},null,null,null,null,"2м",2,{"$f":"IF(N70>0,INDEX([1]Atl3!$N$6:$N$165,N70+(N70-1),1),\" \")","v":"СКОРНЯКОВ АНТОН"},{"$f":"IF(N70>0,INDEX([1]Atl3!$O$6:$O$165,N70+(N70-1),1),\" \")","v":"СПб-ЛОК"},{"$f":"IF(N70>0,INDEX([1]Atl3!$Q$6:$Q$165,N70+(N70-1),1),\" \")","v":"МС"},{"$f":"IF(N70>0,INDEX([1]Atl3!$R$6:$R$165,N70+(N70-1),1),\" \")","v":"1999-07-21"},{"$f":"IF(N70>0,INDEX([1]Atl3!$S$6:$S$165,N70+(N70-1),1),\" \")","v":"ДАВИДЯН Г.А,ДАВИДЯН И.Г,КИРОКАСЯН"}]
[]
[null,"3м",1,{"$f":"IF(C72>0,INDEX([1]Atl3!$D$6:$D$165,C72+(C72-1),1),\" \")","v":"БАТЫРБЕКОВ БАЙ-АСМАН"},{"$f":"IF(C72>0,INDEX([1]Atl3!$E$6:$E$165,C72+(C72-1),1),\" \")","v":"СПб-КШВСМ"},{"$f":"IF(C72>0,INDEX([1]Atl3!$G$6:$G$165,C72+(C72-1),1),\" \")","v":"КМС"},{"$f":"IF(C72>0,INDEX([1]Atl3!$H$6:$H$165,C72+(C72-1),1),\" \")","v":"2004-07-24"},{"$f":"IF(C72>0,INDEX([1]Atl3!$I$6:$I$165,C72+(C72-1),1),\" \")","v":"КОМАРОВ АП,КОМАРОВ,ГАБИДУЛИН"},null,null,null,null,"3м",4,{"$f":"IF(N72>0,INDEX([1]Atl3!$N$6:$N$165,N72+(N72-1),1),\" \")","v":"БРЯЗГИН АНАТОЛИЙ"},{"$f":"IF(N72>0,INDEX([1]Atl3!$O$6:$O$165,N72+(N72-1),1),\" \")","v":"СПб-КШВСМ"},{"$f":"IF(N72>0,INDEX([1]Atl3!$Q$6:$Q$165,N72+(N72-1),1),\" \")","v":"мс"},{"$f":"IF(N72>0,INDEX([1]Atl3!$R$6:$R$165,N72+(N72-1),1),\" \")","v":"1999-07-28"},{"$f":"IF(N72>0,INDEX([1]Atl3!$S$6:$S$165,N72+(N72-1),1),\" \")","v":"КЗАВАТОВ,НЕРОБЕЕВ НЮ,СКАРГИН"}]
[]
[null,"4м",5,{"$f":"IF(C74>0,INDEX([1]Atl3!$D$6:$D$165,C74+(C74-1),1),\" \")","v":"ЧУРКИН БОГДАН"},{"$f":"IF(C74>0,INDEX([1]Atl3!$E$6:$E$165,C74+(C74-1),1),\" \")","v":"СПб-КШВСМ"},{"$f":"IF(C74>0,INDEX([1]Atl3!$G$6:$G$165,C74+(C74-1),1),\" \")","v":"мс"},{"$f":"IF(C74>0,INDEX([1]Atl3!$H$6:$H$165,C74+(C74-1),1),\" \")","v":"1996-02-24"},{"$f":"IF(C74>0,INDEX([1]Atl3!$I$6:$I$165,C74+(C74-1),1),\" \")","v":"КОВАЛЕНКО,ДАВИДЯНШТАБЕНКО"},null,null,null,null,"4М",3,{"$f":"IF(N74>0,INDEX([1]Atl3!$N$6:$N$165,N74+(N74-1),1),\" \")","v":"СЕИТОВ АЗАЗ"},{"$f":"IF(N74>0,INDEX([1]Atl3!$O$6:$O$165,N74+(N74-1),1),\" \")","v":"СЕВАСТОПОЛЬ"},{"$f":"IF(N74>0,INDEX([1]Atl3!$Q$6:$Q$165,N74+(N74-1),1),\" \")","v":"МС"},{"$f":"IF(N74>0,INDEX([1]Atl3!$R$6:$R$165,N74+(N74-1),1),\" \")","v":"1996-05-24"},{"$f":"IF(N74>0,INDEX([1]Atl3!$S$6:$S$165,N74+(N74-1),1),\" \")","v":"ЛЕВАДНЫЙ,АБДУЛАЕВ"}]
[]
[null,"5м",4,{"$f":"IF(C76>0,INDEX([1]Atl3!$D$6:$D$165,C76+(C76-1),1),\" \")","v":"КУНЯШЕВ АЛЕКСЕЙ"},{"$f":"IF(C76>0,INDEX([1]Atl3!$E$6:$E$165,C76+(C76-1),1),\" \")","v":"СПб-КШВСМ"},{"$f":"IF(C76>0,INDEX([1]Atl3!$G$6:$G$165,C76+(C76-1),1),\" \")","v":"мс"},{"$f":"IF(C76>0,INDEX([1]Atl3!$H$6:$H$165,C76+(C76-1),1),\" \")","v":"1997-11-16"},{"$f":"IF(C76>0,INDEX([1]Atl3!$I$6:$I$165,C76+(C76-1),1),\" \")","v":"ДАВИДЯН,КОВАЛЕНКО,ИСАКОВ"},null,null,null,null,"5м",null,{"$f":"IF(N76>0,INDEX([1]Atl3!$N$6:$N$165,N76+(N76-1),1),\" \")","v":" "},{"$f":"IF(N76>0,INDEX([1]Atl3!$O$6:$O$165,N76+(N76-1),1),\" \")","v":" "},{"$f":"IF(N76>0,INDEX([1]Atl3!$Q$6:$Q$165,N76+(N76-1),1),\" \")","v":" "},{"$f":"IF(N76>0,INDEX([1]Atl3!$R$6:$R$165,N76+(N76-1),1),\" \")","v":" "},{"$f":"IF(N76>0,INDEX([1]Atl3!$S$6:$S$165,N76+(N76-1),1),\" \")","v":" "}]
[]
[null,"5м",null,{"$f":"IF(C78>0,INDEX('Atl3'!$D$6:$D$165,C78+(C78-1),1),\" \")","v":" "},{"$f":"IF(C78>0,INDEX('Atl3'!$E$6:$E$165,C78+(C78-1),1),\" \")","v":" "},{"$f":"IF(C78>0,INDEX('Atl3'!$G$6:$G$165,C78+(C78-1),1),\" \")","v":" "},{"$f":"IF(C78>0,INDEX('Atl3'!$H$6:$H$165,C78+(C78-1),1),\" \")","v":" "},{"$f":"IF(C78>0,INDEX('Atl3'!$I$6:$I$165,C78+(C78-1),1),\" \")","v":" "},null,null,null,null,"5м",null,{"$f":"IF(N78>0,INDEX('Atl3'!$N$6:$N$165,N78+(N78-1),1),\" \")","v":" "},{"$f":"IF(N78>0,INDEX('Atl3'!$O$6:$O$165,N78+(N78-1),1),\" \")","v":" "},{"$f":"IF(N78>0,INDEX('Atl3'!$Q$6:$Q$165,N78+(N78-1),1),\" \")","v":" "},{"$f":"IF(N78>0,INDEX('Atl3'!$R$6:$R$165,N78+(N78-1),1),\" \")","v":" "},{"$f":"IF(N78>0,INDEX('Atl3'!$S$6:$S$165,N78+(N78-1),1),\" \")","v":" "}]
[]
[null,{"$f":"Inf!K7","v":0},null,"Количество участников - ",null,null,{"$f":"'Atl3'!AA2","v":0},null,null,null,null,null,{"$f":"Inf!K8","v":0},null,"Количество участников - ",null,null,{"$f":"'Atl3'!AK2","v":0}]
[null,"1м",null,{"$f":"IF(C81>0,INDEX('Atl3'!$X$6:$X$165,C81+(C81-1),1),\" \")","v":" "},{"$f":"IF(C81>0,INDEX('Atl3'!$Y$6:$Y$165,C81+(C81-1),1),\" \")","v":" "},{"$f":"IF(C81>0,INDEX('Atl3'!$AA$6:$AA$165,C81+(C81-1),1),\" \")","v":" "},{"$f":"IF(C81>0,INDEX('Atl3'!$AB$6:$AB$165,C81+(C81-1),1),\" \")","v":" "},{"$f":"IF(C81>0,INDEX('Atl3'!$AC$6:$AC$165,C81+(C81-1),1),\" \")","v":" "},null,null,null,null,"1м",null,{"$f":"IF(N81>0,INDEX('Atl3'!$AH$6:$AH$165,N81+(N81-1),1),\" \")","v":" "},{"$f":"IF(N81>0,INDEX('Atl3'!$AI$6:$AI$165,N81+(N81-1),1),\" \")","v":" "},{"$f":"IF(N81>0,INDEX('Atl3'!$AK$6:$AK$165,N81+(N81-1),1),\" \")","v":" "},{"$f":"IF(N81>0,INDEX('Atl3'!$AL$6:$AL$165,N81+(N81-1),1),\" \")","v":" "},{"$f":"IF(N81>0,INDEX('Atl3'!$AM$6:$AM$165,N81+(N81-1),1),\" \")","v":" "}]
[]
[null,"2м",null,{"$f":"IF(C83>0,INDEX('Atl3'!$X$6:$X$165,C83+(C83-1),1),\" \")","v":" "},{"$f":"IF(C83>0,INDEX('Atl3'!$Y$6:$Y$165,C83+(C83-1),1),\" \")","v":" "},{"$f":"IF(C83>0,INDEX('Atl3'!$AA$6:$AA$165,C83+(C83-1),1),\" \")","v":" "},{"$f":"IF(C83>0,INDEX('Atl3'!$AB$6:$AB$165,C83+(C83-1),1),\" \")","v":" "},{"$f":"IF(C83>0,INDEX('Atl3'!$AC$6:$AC$165,C83+(C83-1),1),\" \")","v":" "},null,null,null,null,"2м",null,{"$f":"IF(N83>0,INDEX('Atl3'!$AH$6:$AH$165,N83+(N83-1),1),\" \")","v":" "},{"$f":"IF(N83>0,INDEX('Atl3'!$AI$6:$AI$165,N83+(N83-1),1),\" \")","v":" "},{"$f":"IF(N83>0,INDEX('Atl3'!$AK$6:$AK$165,N83+(N83-1),1),\" \")","v":" "},{"$f":"IF(N83>0,INDEX('Atl3'!$AL$6:$AL$165,N83+(N83-1),1),\" \")","v":" "},{"$f":"IF(N83>0,INDEX('Atl3'!$AM$6:$AM$165,N83+(N83-1),1),\" \")","v":" "}]
[]
[null,"3м",null,{"$f":"IF(C85>0,INDEX('Atl3'!$X$6:$X$165,C85+(C85-1),1),\" \")","v":" "},{"$f":"IF(C85>0,INDEX('Atl3'!$Y$6:$Y$165,C85+(C85-1),1),\" \")","v":" "},{"$f":"IF(C85>0,INDEX('Atl3'!$AA$6:$AA$165,C85+(C85-1),1),\" \")","v":" "},{"$f":"IF(C85>0,INDEX('Atl3'!$AB$6:$AB$165,C85+(C85-1),1),\" \")","v":" "},{"$f":"IF(C85>0,INDEX('Atl3'!$AC$6:$AC$165,C85+(C85-1),1),\" \")","v":" "},null,null,null,null,"3м",null,{"$f":"IF(N85>0,INDEX('Atl3'!$AH$6:$AH$165,N85+(N85-1),1),\" \")","v":" "},{"$f":"IF(N85>0,INDEX('Atl3'!$AI$6:$AI$165,N85+(N85-1),1),\" \")","v":" "},{"$f":"IF(N85>0,INDEX('Atl3'!$AK$6:$AK$165,N85+(N85-1),1),\" \")","v":" "},{"$f":"IF(N85>0,INDEX('Atl3'!$AL$6:$AL$165,N85+(N85-1),1),\" \")","v":" "},{"$f":"IF(N85>0,INDEX('Atl3'!$AM$6:$AM$165,N85+(N85-1),1),\" \")","v":" "}]
[]
[null,"3м",null,{"$f":"IF(C87>0,INDEX('Atl3'!$X$6:$X$165,C87+(C87-1),1),\" \")","v":" "},{"$f":"IF(C87>0,INDEX('Atl3'!$Y$6:$Y$165,C87+(C87-1),1),\" \")","v":" "},{"$f":"IF(C87>0,INDEX('Atl3'!$AA$6:$AA$165,C87+(C87-1),1),\" \")","v":" "},{"$f":"IF(C87>0,INDEX('Atl3'!$AB$6:$AB$165,C87+(C87-1),1),\" \")","v":" "},{"$f":"IF(C87>0,INDEX('Atl3'!$AC$6:$AC$165,C87+(C87-1),1),\" \")","v":" "},null,null,null,null,"3м",null,{"$f":"IF(N87>0,INDEX('Atl3'!$AH$6:$AH$165,N87+(N87-1),1),\" \")","v":" "},{"$f":"IF(N87>0,INDEX('Atl3'!$AI$6:$AI$165,N87+(N87-1),1),\" \")","v":" "},{"$f":"IF(N87>0,INDEX('Atl3'!$AK$6:$AK$165,N87+(N87-1),1),\" \")","v":" "},{"$f":"IF(N87>0,INDEX('Atl3'!$AL$6:$AL$165,N87+(N87-1),1),\" \")","v":" "},{"$f":"IF(N87>0,INDEX('Atl3'!$AM$6:$AM$165,N87+(N87-1),1),\" \")","v":" "}]
[]
[null,"5м",null,{"$f":"IF(C89>0,INDEX('Atl3'!$X$6:$X$165,C89+(C89-1),1),\" \")","v":" "},{"$f":"IF(C89>0,INDEX('Atl3'!$Y$6:$Y$165,C89+(C89-1),1),\" \")","v":" "},{"$f":"IF(C89>0,INDEX('Atl3'!$AA$6:$AA$165,C89+(C89-1),1),\" \")","v":" "},{"$f":"IF(C89>0,INDEX('Atl3'!$AB$6:$AB$165,C89+(C89-1),1),\" \")","v":" "},{"$f":"IF(C89>0,INDEX('Atl3'!$AC$6:$AC$165,C89+(C89-1),1),\" \")","v":" "},null,null,null,null,"5м",null,{"$f":"IF(N89>0,INDEX('Atl3'!$AH$6:$AH$165,N89+(N89-1),1),\" \")","v":" "},{"$f":"IF(N89>0,INDEX('Atl3'!$AI$6:$AI$165,N89+(N89-1),1),\" \")","v":" "},{"$f":"IF(N89>0,INDEX('Atl3'!$AK$6:$AK$165,N89+(N89-1),1),\" \")","v":" "},{"$f":"IF(N89>0,INDEX('Atl3'!$AL$6:$AL$165,N89+(N89-1),1),\" \")","v":" "},{"$f":"IF(N89>0,INDEX('Atl3'!$AM$6:$AM$165,N89+(N89-1),1),\" \")","v":" "}]
[]
[null,"5м",null,{"$f":"IF(C91>0,INDEX('Atl3'!$X$6:$X$165,C91+(C91-1),1),\" \")","v":" "},{"$f":"IF(C91>0,INDEX('Atl3'!$Y$6:$Y$165,C91+(C91-1),1),\" \")","v":" "},{"$f":"IF(C91>0,INDEX('Atl3'!$AA$6:$AA$165,C91+(C91-1),1),\" \")","v":" "},{"$f":"IF(C91>0,INDEX('Atl3'!$AB$6:$AB$165,C91+(C91-1),1),\" \")","v":" "},{"$f":"IF(C91>0,INDEX('Atl3'!$AC$6:$AC$165,C91+(C91-1),1),\" \")","v":" "},null,null,null,null,"5м",null,{"$f":"IF(N91>0,INDEX('Atl3'!$AH$6:$AH$165,N91+(N91-1),1),\" \")","v":" "},{"$f":"IF(N91>0,INDEX('Atl3'!$AI$6:$AI$165,N91+(N91-1),1),\" \")","v":" "},{"$f":"IF(N91>0,INDEX('Atl3'!$AK$6:$AK$165,N91+(N91-1),1),\" \")","v":" "},{"$f":"IF(N91>0,INDEX('Atl3'!$AL$6:$AL$165,N91+(N91-1),1),\" \")","v":" "},{"$f":"IF(N91>0,INDEX('Atl3'!$AM$6:$AM$165,N91+(N91-1),1),\" \")","v":" "}]
[]
[null,{"$f":"Inf!K9","v":0},null,"Количество участников - ",null,null,{"$f":"'Atl4'!G2","v":0},null,null,null,null,null,{"$f":"Inf!K10","v":0},null,"Количество участников - ",null,null,{"$f":"'Atl4'!Q2","v":0}]
[null,"1м",null,{"$f":"IF(C94>0,INDEX('Atl4'!$D$6:$D$165,C94+(C94-1),1),\" \")","v":" "},{"$f":"IF(C94>0,INDEX('Atl4'!$E$6:$E$165,C94+(C94-1),1),\" \")","v":" "},{"$f":"IF(C94>0,INDEX('Atl4'!$G$6:$G$165,C94+(C94-1),1),\" \")","v":" "},{"$f":"IF(C94>0,INDEX('Atl4'!$H$6:$H$165,C94+(C94-1),1),\" \")","v":" "},{"$f":"IF(C94>0,INDEX('Atl4'!$I$6:$I$165,C94+(C94-1),1),\" \")","v":" "},null,null,null,null,"1м",null,{"$f":"IF(N94>0,INDEX('Atl4'!$N$6:$N$165,N94+(N94-1),1),\" \")","v":" "},{"$f":"IF(N94>0,INDEX('Atl4'!$O$6:$O$165,N94+(N94-1),1),\" \")","v":" "},{"$f":"IF(N94>0,INDEX('Atl4'!$Q$6:$Q$165,N94+(N94-1),1),\" \")","v":" "},{"$f":"IF(N94>0,INDEX('Atl4'!$R$6:$R$165,N94+(N94-1),1),\" \")","v":" "},{"$f":"IF(N94>0,INDEX('Atl4'!$S$6:$S$165,N94+(N94-1),1),\" \")","v":" "}]
[]
[null,"2м",null,{"$f":"IF(C96>0,INDEX('Atl4'!$D$6:$D$165,C96+(C96-1),1),\" \")","v":" "},{"$f":"IF(C96>0,INDEX('Atl4'!$E$6:$E$165,C96+(C96-1),1),\" \")","v":" "},{"$f":"IF(C96>0,INDEX('Atl4'!$G$6:$G$165,C96+(C96-1),1),\" \")","v":" "},{"$f":"IF(C96>0,INDEX('Atl4'!$H$6:$H$165,C96+(C96-1),1),\" \")","v":" "},{"$f":"IF(C96>0,INDEX('Atl4'!$I$6:$I$165,C96+(C96-1),1),\" \")","v":" "},null,null,null,null,"2м",null,{"$f":"IF(N96>0,INDEX('Atl4'!$N$6:$N$165,N96+(N96-1),1),\" \")","v":" "},{"$f":"IF(N96>0,INDEX('Atl4'!$O$6:$O$165,N96+(N96-1),1),\" \")","v":" "},{"$f":"IF(N96>0,INDEX('Atl4'!$Q$6:$Q$165,N96+(N96-1),1),\" \")","v":" "},{"$f":"IF(N96>0,INDEX('Atl4'!$R$6:$R$165,N96+(N96-1),1),\" \")","v":" "},{"$f":"IF(N96>0,INDEX('Atl4'!$S$6:$S$165,N96+(N96-1),1),\" \")","v":" "}]
[]
[null,"3м",null,{"$f":"IF(C98>0,INDEX('Atl4'!$D$6:$D$165,C98+(C98-1),1),\" \")","v":" "},{"$f":"IF(C98>0,INDEX('Atl4'!$E$6:$E$165,C98+(C98-1),1),\" \")","v":" "},{"$f":"IF(C98>0,INDEX('Atl4'!$G$6:$G$165,C98+(C98-1),1),\" \")","v":" "},{"$f":"IF(C98>0,INDEX('Atl4'!$H$6:$H$165,C98+(C98-1),1),\" \")","v":" "},{"$f":"IF(C98>0,INDEX('Atl4'!$I$6:$I$165,C98+(C98-1),1),\" \")","v":" "},null,null,null,null,"3м",null,{"$f":"IF(N98>0,INDEX('Atl4'!$N$6:$N$165,N98+(N98-1),1),\" \")","v":" "},{"$f":"IF(N98>0,INDEX('Atl4'!$O$6:$O$165,N98+(N98-1),1),\" \")","v":" "},{"$f":"IF(N98>0,INDEX('Atl4'!$Q$6:$Q$165,N98+(N98-1),1),\" \")","v":" "},{"$f":"IF(N98>0,INDEX('Atl4'!$R$6:$R$165,N98+(N98-1),1),\" \")","v":" "},{"$f":"IF(N98>0,INDEX('Atl4'!$S$6:$S$165,N98+(N98-1),1),\" \")","v":" "}]
[]
[null,"3м",null,{"$f":"IF(C100>0,INDEX('Atl4'!$D$6:$D$165,C100+(C100-1),1),\" \")","v":" "},{"$f":"IF(C100>0,INDEX('Atl4'!$E$6:$E$165,C100+(C100-1),1),\" \")","v":" "},{"$f":"IF(C100>0,INDEX('Atl4'!$G$6:$G$165,C100+(C100-1),1),\" \")","v":" "},{"$f":"IF(C100>0,INDEX('Atl4'!$H$6:$H$165,C100+(C100-1),1),\" \")","v":" "},{"$f":"IF(C100>0,INDEX('Atl4'!$I$6:$I$165,C100+(C100-1),1),\" \")","v":" "},null,null,null,null,"3м",null,{"$f":"IF(N100>0,INDEX('Atl4'!$N$6:$N$165,N100+(N100-1),1),\" \")","v":" "},{"$f":"IF(N100>0,INDEX('Atl4'!$O$6:$O$165,N100+(N100-1),1),\" \")","v":" "},{"$f":"IF(N100>0,INDEX('Atl4'!$Q$6:$Q$165,N100+(N100-1),1),\" \")","v":" "},{"$f":"IF(N100>0,INDEX('Atl4'!$R$6:$R$165,N100+(N100-1),1),\" \")","v":" "},{"$f":"IF(N100>0,INDEX('Atl4'!$S$6:$S$165,N100+(N100-1),1),\" \")","v":" "}]
[]
[null,"5м",null,{"$f":"IF(C102>0,INDEX('Atl4'!$D$6:$D$165,C102+(C102-1),1),\" \")","v":" "},{"$f":"IF(C102>0,INDEX('Atl4'!$E$6:$E$165,C102+(C102-1),1),\" \")","v":" "},{"$f":"IF(C102>0,INDEX('Atl4'!$G$6:$G$165,C102+(C102-1),1),\" \")","v":" "},{"$f":"IF(C102>0,INDEX('Atl4'!$H$6:$H$165,C102+(C102-1),1),\" \")","v":" "},{"$f":"IF(C102>0,INDEX('Atl4'!$I$6:$I$165,C102+(C102-1),1),\" \")","v":" "},null,null,null,null,"5м",null,{"$f":"IF(N102>0,INDEX('Atl4'!$N$6:$N$165,N102+(N102-1),1),\" \")","v":" "},{"$f":"IF(N102>0,INDEX('Atl4'!$O$6:$O$165,N102+(N102-1),1),\" \")","v":" "},{"$f":"IF(N102>0,INDEX('Atl4'!$Q$6:$Q$165,N102+(N102-1),1),\" \")","v":" "},{"$f":"IF(N102>0,INDEX('Atl4'!$R$6:$R$165,N102+(N102-1),1),\" \")","v":" "},{"$f":"IF(N102>0,INDEX('Atl4'!$S$6:$S$165,N102+(N102-1),1),\" \")","v":" "}]
[]
[null,"5м",null,{"$f":"IF(C104>0,INDEX('Atl4'!$D$6:$D$165,C104+(C104-1),1),\" \")","v":" "},{"$f":"IF(C104>0,INDEX('Atl4'!$E$6:$E$165,C104+(C104-1),1),\" \")","v":" "},{"$f":"IF(C104>0,INDEX('Atl4'!$G$6:$G$165,C104+(C104-1),1),\" \")","v":" "},{"$f":"IF(C104>0,INDEX('Atl4'!$H$6:$H$165,C104+(C104-1),1),\" \")","v":" "},{"$f":"IF(C104>0,INDEX('Atl4'!$I$6:$I$165,C104+(C104-1),1),\" \")","v":" "},null,null,null,null,"5м",null,{"$f":"IF(N104>0,INDEX('Atl4'!$N$6:$N$165,N104+(N104-1),1),\" \")","v":" "},{"$f":"IF(N104>0,INDEX('Atl4'!$O$6:$O$165,N104+(N104-1),1),\" \")","v":" "},{"$f":"IF(N104>0,INDEX('Atl4'!$Q$6:$Q$165,N104+(N104-1),1),\" \")","v":" "},{"$f":"IF(N104>0,INDEX('Atl4'!$R$6:$R$165,N104+(N104-1),1),\" \")","v":" "},{"$f":"IF(N104>0,INDEX('Atl4'!$S$6:$S$165,N104+(N104-1),1),\" \")","v":" "}]
[]
[null,{"$f":"Inf!K11","v":0},null,"Количество участников - ",null,null,{"$f":"'Atl4'!AA2","v":0},null,null,null,null,null,{"$f":"Inf!K12","v":0},null,"Количество участников - ",null,null,{"$f":"'Atl4'!AK2","v":0}]
[null,"1м",null,{"$f":"IF(C107>0,INDEX('Atl4'!$X$6:$X$165,C107+(C107-1),1),\" \")","v":" "},{"$f":"IF(C107>0,INDEX('Atl4'!$Y$6:$Y$165,C107+(C107-1),1),\" \")","v":" "},{"$f":"IF(C107>0,INDEX('Atl4'!$AA$6:$AA$165,C107+(C107-1),1),\" \")","v":" "},{"$f":"IF(C107>0,INDEX('Atl4'!$AB$6:$AB$165,C107+(C107-1),1),\" \")","v":" "},{"$f":"IF(C107>0,INDEX('Atl4'!$AC$6:$AC$165,C107+(C107-1),1),\" \")","v":" "},null,null,null,null,"1м",null,{"$f":"IF(N107>0,INDEX('Atl4'!$AH$6:$AH$165,N107+(N107-1),1),\" \")","v":" "},{"$f":"IF(N107>0,INDEX('Atl4'!$AI$6:$AI$165,N107+(N107-1),1),\" \")","v":" "},{"$f":"IF(N107>0,INDEX('Atl4'!$AK$6:$AK$165,N107+(N107-1),1),\" \")","v":" "},{"$f":"IF(N107>0,INDEX('Atl4'!$AL$6:$AL$165,N107+(N107-1),1),\" \")","v":" "},{"$f":"IF(N107>0,INDEX('Atl4'!$AM$6:$AM$165,N107+(N107-1),1),\" \")","v":" "}]
[]
[null,"2м",null,{"$f":"IF(C109>0,INDEX('Atl4'!$X$6:$X$165,C109+(C109-1),1),\" \")","v":" "},{"$f":"IF(C109>0,INDEX('Atl4'!$Y$6:$Y$165,C109+(C109-1),1),\" \")","v":" "},{"$f":"IF(C109>0,INDEX('Atl4'!$AA$6:$AA$165,C109+(C109-1),1),\" \")","v":" "},{"$f":"IF(C109>0,INDEX('Atl4'!$AB$6:$AB$165,C109+(C109-1),1),\" \")","v":" "},{"$f":"IF(C109>0,INDEX('Atl4'!$AC$6:$AC$165,C109+(C109-1),1),\" \")","v":" "},null,null,null,null,"2м",null,{"$f":"IF(N109>0,INDEX('Atl4'!$AH$6:$AH$165,N109+(N109-1),1),\" \")","v":" "},{"$f":"IF(N109>0,INDEX('Atl4'!$AI$6:$AI$165,N109+(N109-1),1),\" \")","v":" "},{"$f":"IF(N109>0,INDEX('Atl4'!$AK$6:$AK$165,N109+(N109-1),1),\" \")","v":" "},{"$f":"IF(N109>0,INDEX('Atl4'!$AL$6:$AL$165,N109+(N109-1),1),\" \")","v":" "},{"$f":"IF(N109>0,INDEX('Atl4'!$AM$6:$AM$165,N109+(N109-1),1),\" \")","v":" "}]
[]
[null,"3м",null,{"$f":"IF(C111>0,INDEX('Atl4'!$X$6:$X$165,C111+(C111-1),1),\" \")","v":" "},{"$f":"IF(C111>0,INDEX('Atl4'!$Y$6:$Y$165,C111+(C111-1),1),\" \")","v":" "},{"$f":"IF(C111>0,INDEX('Atl4'!$AA$6:$AA$165,C111+(C111-1),1),\" \")","v":" "},{"$f":"IF(C111>0,INDEX('Atl4'!$AB$6:$AB$165,C111+(C111-1),1),\" \")","v":" "},{"$f":"IF(C111>0,INDEX('Atl4'!$AC$6:$AC$165,C111+(C111-1),1),\" \")","v":" "},null,null,null,null,"3м",null,{"$f":"IF(N111>0,INDEX('Atl4'!$AH$6:$AH$165,N111+(N111-1),1),\" \")","v":" "},{"$f":"IF(N111>0,INDEX('Atl4'!$AI$6:$AI$165,N111+(N111-1),1),\" \")","v":" "},{"$f":"IF(N111>0,INDEX('Atl4'!$AK$6:$AK$165,N111+(N111-1),1),\" \")","v":" "},{"$f":"IF(N111>0,INDEX('Atl4'!$AL$6:$AL$165,N111+(N111-1),1),\" \")","v":" "},{"$f":"IF(N111>0,INDEX('Atl4'!$AM$6:$AM$165,N111+(N111-1),1),\" \")","v":" "}]
[]
[null,"3м",null,{"$f":"IF(C113>0,INDEX('Atl4'!$X$6:$X$165,C113+(C113-1),1),\" \")","v":" "},{"$f":"IF(C113>0,INDEX('Atl4'!$Y$6:$Y$165,C113+(C113-1),1),\" \")","v":" "},{"$f":"IF(C113>0,INDEX('Atl4'!$AA$6:$AA$165,C113+(C113-1),1),\" \")","v":" "},{"$f":"IF(C113>0,INDEX('Atl4'!$AB$6:$AB$165,C113+(C113-1),1),\" \")","v":" "},{"$f":"IF(C113>0,INDEX('Atl4'!$AC$6:$AC$165,C113+(C113-1),1),\" \")","v":" "},null,null,null,null,"3м",null,{"$f":"IF(N113>0,INDEX('Atl4'!$AH$6:$AH$165,N113+(N113-1),1),\" \")","v":" "},{"$f":"IF(N113>0,INDEX('Atl4'!$AI$6:$AI$165,N113+(N113-1),1),\" \")","v":" "},{"$f":"IF(N113>0,INDEX('Atl4'!$AK$6:$AK$165,N113+(N113-1),1),\" \")","v":" "},{"$f":"IF(N113>0,INDEX('Atl4'!$AL$6:$AL$165,N113+(N113-1),1),\" \")","v":" "},{"$f":"IF(N113>0,INDEX('Atl4'!$AM$6:$AM$165,N113+(N113-1),1),\" \")","v":" "}]
[]
[null,"5м",null,{"$f":"IF(C115>0,INDEX('Atl4'!$X$6:$X$165,C115+(C115-1),1),\" \")","v":" "},{"$f":"IF(C115>0,INDEX('Atl4'!$Y$6:$Y$165,C115+(C115-1),1),\" \")","v":" "},{"$f":"IF(C115>0,INDEX('Atl4'!$AA$6:$AA$165,C115+(C115-1),1),\" \")","v":" "},{"$f":"IF(C115>0,INDEX('Atl4'!$AB$6:$AB$165,C115+(C115-1),1),\" \")","v":" "},{"$f":"IF(C115>0,INDEX('Atl4'!$AC$6:$AC$165,C115+(C115-1),1),\" \")","v":" "},null,null,null,null,"5м",null,{"$f":"IF(N115>0,INDEX('Atl4'!$AH$6:$AH$165,N115+(N115-1),1),\" \")","v":" "},{"$f":"IF(N115>0,INDEX('Atl4'!$AI$6:$AI$165,N115+(N115-1),1),\" \")","v":" "},{"$f":"IF(N115>0,INDEX('Atl4'!$AK$6:$AK$165,N115+(N115-1),1),\" \")","v":" "},{"$f":"IF(N115>0,INDEX('Atl4'!$AL$6:$AL$165,N115+(N115-1),1),\" \")","v":" "},{"$f":"IF(N115>0,INDEX('Atl4'!$AM$6:$AM$165,N115+(N115-1),1),\" \")","v":" "}]
[]
[null,"5м",null,{"$f":"IF(C117>0,INDEX('Atl4'!$X$6:$X$165,C117+(C117-1),1),\" \")","v":" "},{"$f":"IF(C117>0,INDEX('Atl4'!$Y$6:$Y$165,C117+(C117-1),1),\" \")","v":" "},{"$f":"IF(C117>0,INDEX('Atl4'!$AA$6:$AA$165,C117+(C117-1),1),\" \")","v":" "},{"$f":"IF(C117>0,INDEX('Atl4'!$AB$6:$AB$165,C117+(C117-1),1),\" \")","v":" "},{"$f":"IF(C117>0,INDEX('Atl4'!$AC$6:$AC$165,C117+(C117-1),1),\" \")","v":" "},null,null,null,null,"5м",null,{"$f":"IF(N117>0,INDEX('Atl4'!$AH$6:$AH$165,N117+(N117-1),1),\" \")","v":" "},{"$f":"IF(N117>0,INDEX('Atl4'!$AI$6:$AI$165,N117+(N117-1),1),\" \")","v":" "},{"$f":"IF(N117>0,INDEX('Atl4'!$AK$6:$AK$165,N117+(N117-1),1),\" \")","v":" "},{"$f":"IF(N117>0,INDEX('Atl4'!$AL$6:$AL$165,N117+(N117-1),1),\" \")","v":" "},{"$f":"IF(N117>0,INDEX('Atl4'!$AM$6:$AM$165,N117+(N117-1),1),\" \")","v":" "}]
[]
[]
[null,null,null,"Главный судья соревнований",null,null,null,null,null,null,null,null,null,null,null,{"$f":"Inf!F7","v":"АПОЙКО Р.Н."}]
[null,null,null,null,null,{"$f":"Inf!B8","v":"ССВК-МК"},null,null,null,null,null,null,null,null,null,{"$f":"Inf!F8","v":"Санкт-Петербург"}]
[null,null,null,"Главный секретарь соревнований",null,null,null,null,null,null,null,null,null,null,null,{"$f":"Inf!F10","v":"СОКОЛОВ А.В."}]
[null,null,null,null,null,{"$f":"Inf!B11","v":"ССВК-МК"},null,null,null,null,null,null,null,null,null,{"$f":"Inf!F11","v":"Санкт-Петербург"}]

{"sheet":"Atl1","index":25,"n_rows":164,"n_cols":39,"rows_kept":164,"cut":false,"hidden":true,"merged":[[163,32,164,32],[163,33,164,33],[163,34,164,34],[163,35,164,35],[163,36,164,36],[163,37,164,37],[163,38,164,38],[163,21,164,21],[163,22,164,22],[163,23,164,23],[163,24,164,24],[163,25,164,25],[163,26,164,26],[163,27,164,27],[163,28,164,28],[163,31,164,31],[161,32,162,32],[161,33,162,33],[161,34,162,34],[161,35,162,35],[161,36,162,36],[161,37,162,37],[161,38,162,38],[161,21,162,21],[161,22,162,22],[161,23,162,23],[161,24,162,24],[161,25,162,25],[161,26,162,26],[161,27,162,27],[161,28,162,28],[161,31,162,31],[159,32,160,32],[159,33,160,33],[159,34,160,34],[159,35,160,35],[159,36,160,36],[159,37,160,37],[159,38,160,38],[159,21,160,21],[159,22,160,22],[159,23,160,23],[159,24,160,24],[159,25,160,25],[159,26,160,26],[159,27,160,27],[159,28,160,28],[159,31,160,31],[157,32,158,32],[157,33,158,33],[157,34,158,34],[157,35,158,35],[157,36,158,36],[157,37,158,37],[157,38,158,38],[157,21,158,21],[157,22,158,22],[157,23,158,23],[157,24,158,24],[157,25,158,25],[157,26,158,26],[157,27,158,27],[157,28,158,28],[157,31,158,31],[155,32,156,32],[155,33,156,33],[155,34,156,34],[155,35,156,35],[155,36,156,36],[155,37,156,37],[155,38,156,38],[155,21,156,21],[155,22,156,22],[155,23,156,23],[155,24,156,24],[155,25,156,25],[155,26,156,26],[155,27,156,27],[155,28,156,28],[155,31,156,31],[153,32,154,32],[153,33,154,33],[153,34,154,34],[153,35,154,35],[153,36,154,36],[153,37,154,37],[153,38,154,38],[153,21,154,21],[153,22,154,22],[153,23,154,23],[153,24,154,24],[153,25,154,25],[153,26,154,26],[153,27,154,27],[153,28,154,28],[153,31,154,31],[151,32,152,32],[151,33,152,33],[151,34,152,34],[151,35,152,35],[151,36,152,36],[151,37,152,37],[151,38,152,38],[151,21,152,21],[151,22,152,22],[151,23,152,23],[151,24,152,24],[151,25,152,25],[151,26,152,26],[151,27,152,27],[151,28,152,28],[151,31,152,31],[149,32,150,32],[149,33,150,33],[149,34,150,34],[149,35,150,35],[149,36,150,36],[149,37,150,37],[149,38,150,38],[149,21,150,21],[149,22,150,22],[149,23,150,23],[149,24,150,24],[149,25,150,25],[149,26,150,26],[149,27,150,27],[149,28,150,28],[149,31,150,31],[147,32,148,32],[147,33,148,33],[147,34,148,34],[147,35,148,35],[147,36,148,36],[147,37,148,37],[147,38,148,38],[147,21,148,21],[147,22,148,22],[147,23,148,23],[147,24,148,24],[147,25,148,25],[147,26,148,26],[147,27,148,27],[147,28,148,28],[147,31,148,31],[145,32,146,32],[145,33,146,33],[145,34,146,34],[145,35,146,35],[145,36,146,36],[145,37,146,37],[145,38,146,38],[145,21,146,21],[145,22,146,22],[145,23,146,23],[145,24,146,24],[145,25,146,25],[145,26,146,26],[145,27,146,27],[145,28,146,28],[145,31,146,31],[143,32,144,32],[143,33,144,33],[143,34,144,34],[143,35,144,35],[143,36,144,36],[143,37,144,37],[143,38,144,38],[143,21,144,21],[143,22,144,22],[143,23,144,23],[143,24,144,24],[143,25,144,25],[143,26,144,26],[143,27,144,27],[143,28,144,28],[143,31,144,31],[141,32,142,32],[141,33,142,33],[141,34,142,34],[141,35,142,35],[141,36,142,36],[141,37,142,37],[141,38,142,38],[141,21,142,21],[141,22,142,22],[141,23,142,23],[141,24,142,24],[141,25,142,25],[141,26,142,26],[141,27,142,27],[141,28,142,28],[141,31,142,31],[139,32,140,32],[139,33,140,33],[139,34,140,34],[139,35,140,35],[139,36,140,36],[139,37,140,37],[139,38,140,38],[139,21,140,21],[139,22,140,22],[139,23,140,23],[139,24,140,24],[139,25,140,25],[139,26,140,26],[139,27,140,27],[139,28,140,28],[139,31,140,31],[137,32,138,32],[137,33,138,33],[137,34,138,34],[137,35,138,35],[137,36,138,36],[137,37,138,37],[137,38,138,38],[137,21,138,21],[137,22,138,22],[137,23,138,23],[137,24,138,24],[137,25,138,25],[137,26,138,26],[137,27,138,27],[137,28,138,28],[137,31,138,31],[135,32,136,32],[135,33,136,33],[135,34,136,34],[135,35,136,35],[135,36,136,36],[135,37,136,37],[135,38,136,38],[135,21,136,21],[135,22,136,22],[135,23,136,23],[135,24,136,24],[135,25,136,25],[135,26,136,26],[135,27,136,27],[135,28,136,28],[135,31,136,31],[133,32,134,32],[133,33,134,33],[133,34,134,34],[133,35,134,35],[133,36,134,36],[133,37,134,37],[133,38,134,38],[133,21,134,21],[133,22,134,22],[133,23,134,23],[133,24,134,24],[133,25,134,25],[133,26,134,26],[133,27,134,27],[133,28,134,28],[133,31,134,31],[131,32,132,32],[131,33,132,33],[131,34,132,34],[131,35,132,35],[131,36,132,36],[131,37,132,37],[131,38,132,38],[131,21,132,21],[131,22,132,22],[131,23,132,23],[131,24,132,24],[131,25,132,25],[131,26,132,26],[131,27,132,27],[131,28,132,28],[131,31,132,31],[129,32,130,32],[129,33,130,33],[129,34,130,34],[129,35,130,35],[129,36,130,36],[129,37,130,37],[129,38,130,38],[129,21,130,21],[129,22,130,22],[129,23,130,23],[129,24,130,24],[129,25,130,25],[129,26,130,26],[129,27,130,27],[129,28,130,28],[129,31,130,31],[127,32,128,32],[127,33,128,33],[127,34,128,34],[127,35,128,35],[127,36,128,36],[127,37,128,37],[127,38,128,38],[127,21,128,21],[127,22,128,22],[127,23,128,23],[127,24,128,24],[127,25,128,25],[127,26,128,26],[127,27,128,27],[127,28,128,28],[127,31,128,31],[125,32,126,32],[125,33,126,33],[125,34,126,34],[125,35,126,35],[125,36,126,36],[125,37,126,37],[125,38,126,38],[125,21,126,21],[125,22,126,22],[125,23,126,23],[125,24,126,24],[125,25,126,25],[125,26,126,26],[125,27,126,27],[125,28,126,28],[125,31,126,31],[123,32,124,32],[123,33,124,33],[123,34,124,34],[123,35,124,35],[123,36,124,36],[123,37,124,37],[123,38,124,38],[123,21,124,21],[123,22,124,22],[123,23,124,23],[123,24,124,24],[123,25,124,25],[123,26,124,26],[123,27,124,27],[123,28,124,28],[123,31,124,31],[121,32,122,32],[121,33,122,33],[121,34,122,34],[121,35,122,35],[121,36,122,36],[121,37,122,37],[121,38,122,38],[121,21,122,21],[121,22,122,22],[121,23,122,23],[121,24,122,24],[121,25,122,25],[121,26,122,26],[121,27,122,27],[121,28,122,28],[121,31,122,31],[119,32,120,32],[119,33,120,33],[119,34,120,34],[119,35,120,35],[119,36,120,36],[119,37,120,37],[119,38,120,38],[119,21,120,21],[119,22,120,22],[119,23,120,23],[119,24,120,24],[119,25,120,25],[119,26,120,26],[119,27,120,27],[119,28,120,28],[119,31,120,31],[117,32,118,32],[117,33,118,33],[117,34,118,34],[117,35,118,35],[117,36,118,36],[117,37,118,37],[117,38,118,38],[117,21,118,21],[117,22,118,22],[117,23,118,23],[117,24,118,24],[117,25,118,25],[117,26,118,26],[117,27,118,27],[117,28,118,28],[117,31,118,31],[115,32,116,32],[115,33,116,33],[115,34,116,34],[115,35,116,35],[115,36,116,36],[115,37,116,37],[115,38,116,38],[115,21,116,21],[115,22,116,22],[115,23,116,23],[115,24,116,24],[115,25,116,25],[115,26,116,26],[115,27,116,27],[115,28,116,28],[115,31,116,31],[113,32,114,32],[113,33,114,33],[113,34,114,34],[113,35,114,35],[113,36,114,36],[113,37,114,37],[113,38,114,38],[113,21,114,21],[113,22,114,22],[113,23,114,23],[113,24,114,24],[113,25,114,25],[113,26,114,26],[113,27,114,27],[113,28,114,28],[113,31,114,31],[111,32,112,32],[111,33,112,33],[111,34,112,34],[111,35,112,35],[111,36,112,36],[111,37,112,37],[111,38,112,38],[111,21,112,21],[111,22,112,22],[111,23,112,23],[111,24,112,24],[111,25,112,25],[111,26,112,26],[111,27,112,27],[111,28,112,28],[111,31,112,31],[109,32,110,32],[109,33,110,33],[109,34,110,34],[109,35,110,35],[109,36,110,36],[109,37,110,37],[109,38,110,38],[109,21,110,21],[109,22,110,22],[109,23,110,23],[109,24,110,24],[109,25,110,25],[109,26,110,26],[109,27,110,27],[109,28,110,28],[109,31,110,31],[107,32,108,32],[107,33,108,33],[107,34,108,34],[107,35,108,35],[107,36,108,36],[107,37,108,37],[107,38,108,38],[107,21,108,21],[107,22,108,22],[107,23,108,23],[107,24,108,24],[107,25,108,25],[107,26,108,26],[107,27,108,27],[107,28,108,28],[107,31,108,31],[105,32,106,32],[105,33,106,33],[105,34,106,34],[105,35,106,35],[105,36,106,36],[105,37,106,37],[105,38,106,38],[105,21,106,21],[105,22,106,22],[105,23,106,23],[105,24,106,24],[105,25,106,25],[105,26,106,26],[105,27,106,27],[105,28,106,28],[105,31,106,31],[103,32,104,32],[103,33,104,33],[103,34,104,34],[103,35,104,35],[103,36,104,36],[103,37,104,37],[103,38,104,38],[103,21,104,21],[103,22,104,22],[103,23,104,23],[103,24,104,24],[103,25,104,25],[103,26,104,26],[103,27,104,27],[103,28,104,28],[103,31,104,31],[101,32,102,32],[101,33,102,33],[101,34,102,34],[101,35,102,35],[101,36,102,36],[101,37,102,37],[101,38,102,38],[101,21,102,21],[101,22,102,22],[101,23,102,23],[101,24,102,24],[101,25,102,25],[101,26,102,26],[101,27,102,27],[101,28,102,28],[101,31,102,31],[99,32,100,32],[99,33,100,33],[99,34,100,34],[99,35,100,35],[99,36,100,36],[99,37,100,37],[99,38,100,38],[99,21,100,21],[99,22,100,22],[99,23,100,23],[99,24,100,24],[99,25,100,25],[99,26,100,26],[99,27,100,27],[99,28,100,28],[99,31,100,31],[97,32,98,32],[97,33,98,33],[97,34,98,34],[97,35,98,35],[97,36,98,36],[97,37,98,37],[97,38,98,38],[97,21,98,21],[97,22,98,22],[97,23,98,23],[97,24,98,24],[97,25,98,25],[97,26,98,26],[97,27,98,27],[97,28,98,28],[97,31,98,31],[95,32,96,32],[95,33,96,33],[95,34,96,34],[95,35,96,35],[95,36,96,36],[95,37,96,37],[95,38,96,38],[95,21,96,21],[95,22,96,22],[95,23,96,23],[95,24,96,24],[95,25,96,25],[95,26,96,26],[95,27,96,27],[95,28,96,28],[95,31,96,31],[93,32,94,32],[93,33,94,33],[93,34,94,34],[93,35,94,35],[93,36,94,36],[93,37,94,37],[93,38,94,38],[93,21,94,21],[93,22,94,22],[93,23,94,23],[93,24,94,24],[93,25,94,25],[93,26,94,26],[93,27,94,27],[93,28,94,28],[93,31,94,31],[91,32,92,32],[91,33,92,33],[91,34,92,34],[91,35,92,35],[91,36,92,36],[91,37,92,37],[91,38,92,38],[91,21,92,21],[91,22,92,22],[91,23,92,23],[91,24,92,24],[91,25,92,25],[91,26,92,26],[91,27,92,27],[91,28,92,28],[91,31,92,31],[89,32,90,32],[89,33,90,33],[89,34,90,34],[89,35,90,35],[89,36,90,36],[89,37,90,37],[89,38,90,38],[89,21,90,21],[89,22,90,22],[89,23,90,23],[89,24,90,24],[89,25,90,25],[89,26,90,26],[89,27,90,27],[89,28,90,28],[89,31,90,31],[87,32,88,32],[87,33,88,33],[87,34,88,34],[87,35,88,35],[87,36,88,36],[87,37,88,37],[87,38,88,38],[87,21,88,21],[87,22,88,22],[87,23,88,23],[87,24,88,24],[87,25,88,25],[87,26,88,26],[87,27,88,27],[87,28,88,28],[87,31,88,31],[85,32,86,32],[85,33,86,33],[85,34,86,34],[85,35,86,35],[85,36,86,36],[85,37,86,37],[85,38,86,38],[85,21,86,21],[85,22,86,22],[85,23,86,23],[85,24,86,24],[85,25,86,25],[85,26,86,26],[85,27,86,27],[85,28,86,28],[85,31,86,31],[83,32,84,32],[83,33,84,33],[83,34,84,34],[83,35,84,35],[83,36,84,36],[83,37,84,37],[83,38,84,38],[83,21,84,21],[83,22,84,22],[83,23,84,23],[83,24,84,24],[83,25,84,25],[83,26,84,26],[83,27,84,27],[83,28,84,28],[83,31,84,31],[81,32,82,32],[81,33,82,33],[81,34,82,34],[81,35,82,35],[81,36,82,36],[81,37,82,37],[81,38,82,38],[81,21,82,21],[81,22,82,22],[81,23,82,23],[81,24,82,24],[81,25,82,25],[81,26,82,26],[81,27,82,27],[81,28,82,28],[81,31,82,31],[79,32,80,32],[79,33,80,33],[79,34,80,34],[79,35,80,35],[79,36,80,36],[79,37,80,37],[79,38,80,38],[79,21,80,21],[79,22,80,22],[79,23,80,23],[79,24,80,24],[79,25,80,25],[79,26,80,26],[79,27,80,27],[79,28,80,28],[79,31,80,31],[77,32,78,32],[77,33,78,33],[77,34,78,34],[77,35,78,35],[77,36,78,36],[77,37,78,37],[77,38,78,38],[77,21,78,21],[77,22,78,22],[77,23,78,23],[77,24,78,24],[77,25,78,25],[77,26,78,26],[77,27,78,27],[77,28,78,28],[77,31,78,31],[75,32,76,32],[75,33,76,33],[75,34,76,34],[75,35,76,35],[75,36,76,36],[75,37,76,37],[75,38,76,38],[75,21,76,21],[75,22,76,22],[75,23,76,23],[75,24,76,24],[75,25,76,25],[75,26,76,26],[75,27,76,27],[75,28,76,28],[75,31,76,31],[73,32,74,32],[73,33,74,33],[73,34,74,34],[73,35,74,35],[73,36,74,36],[73,37,74,37],[73,38,74,38],[73,21,74,21],[73,22,74,22],[73,23,74,23],[73,24,74,24],[73,25,74,25],[73,26,74,26],[73,27,74,27],[73,28,74,28],[73,31,74,31],[71,32,72,32],[71,33,72,33],[71,34,72,34],[71,35,72,35],[71,36,72,36],[71,37,72,37],[71,38,72,38],[71,21,72,21],[71,22,72,22],[71,23,72,23],[71,24,72,24],[71,25,72,25],[71,26,72,26],[71,27,72,27],[71,28,72,28],[71,31,72,31],[69,32,70,32],[69,33,70,33],[69,34,70,34],[69,35,70,35],[69,36,70,36],[69,37,70,37],[69,38,70,38],[69,21,70,21],[69,22,70,22],[69,23,70,23],[69,24,70,24],[69,25,70,25],[69,26,70,26],[69,27,70,27],[69,28,70,28],[69,31,70,31],[67,32,68,32],[67,33,68,33],[67,34,68,34],[67,35,68,35],[67,36,68,36],[67,37,68,37],[67,38,68,38],[67,21,68,21],[67,22,68,22],[67,23,68,23],[67,24,68,24],[67,25,68,25],[67,26,68,26],[67,27,68,27],[67,28,68,28],[67,31,68,31],[65,32,66,32],[65,33,66,33],[65,34,66,34],[65,35,66,35],[65,36,66,36],[65,37,66,37],[65,38,66,38],[65,21,66,21],[65,22,66,22],[65,23,66,23],[65,24,66,24],[65,25,66,25],[65,26,66,26],[65,27,66,27],[65,28,66,28],[65,31,66,31],[63,32,64,32],[63,33,64,33],[63,34,64,34],[63,35,64,35],[63,36,64,36],[63,37,64,37],[63,38,64,38],[63,21,64,21],[63,22,64,22],[63,23,64,23],[63,24,64,24],[63,25,64,25],[63,26,64,26],[63,27,64,27],[63,28,64,28],[63,31,64,31],[61,32,62,32],[61,33,62,33],[61,34,62,34],[61,35,62,35],[61,36,62,36],[61,37,62,37],[61,38,62,38],[61,21,62,21],[61,22,62,22],[61,23,62,23],[61,24,62,24],[61,25,62,25],[61,26,62,26],[61,27,62,27],[61,28,62,28],[61,31,62,31],[59,32,60,32],[59,33,60,33],[59,34,60,34],[59,35,60,35],[59,36,60,36],[59,37,60,37],[59,38,60,38],[59,21,60,21],[59,22,60,22],[59,23,60,23],[59,24,60,24],[59,25,60,25],[59,26,60,26],[59,27,60,27],[59,28,60,28],[59,31,60,31],[57,32,58,32],[57,33,58,33],[57,34,58,34],[57,35,58,35],[57,36,58,36],[57,37,58,37],[57,38,58,38],[57,21,58,21],[57,22,58,22],[57,23,58,23],[57,24,58,24],[57,25,58,25],[57,26,58,26],[57,27,58,27],[57,28,58,28],[57,31,58,31],[55,32,56,32],[55,33,56,33],[55,34,56,34],[55,35,56,35],[55,36,56,36],[55,37,56,37],[55,38,56,38],[55,21,56,21],[55,22,56,22],[55,23,56,23],[55,24,56,24],[55,25,56,25],[55,26,56,26],[55,27,56,27],[55,28,56,28],[55,31,56,31],[53,32,54,32],[53,33,54,33],[53,34,54,34],[53,35,54,35],[53,36,54,36],[53,37,54,37],[53,38,54,38],[53,21,54,21],[53,22,54,22],[53,23,54,23],[53,24,54,24],[53,25,54,25],[53,26,54,26],[53,27,54,27],[53,28,54,28],[53,31,54,31],[51,32,52,32],[51,33,52,33],[51,34,52,34],[51,35,52,35],[51,36,52,36],[51,37,52,37],[51,38,52,38],[51,21,52,21],[51,22,52,22],[51,23,52,23],[51,24,52,24],[51,25,52,25],[51,26,52,26],[51,27,52,27],[51,28,52,28],[51,31,52,31],[49,32,50,32],[49,33,50,33],[49,34,50,34],[49,35,50,35],[49,36,50,36],[49,37,50,37],[49,38,50,38],[49,21,50,21],[49,22,50,22],[49,23,50,23],[49,24,50,24],[49,25,50,25],[49,26,50,26],[49,27,50,27],[49,28,50,28],[49,31,50,31],[47,32,48,32],[47,33,48,33],[47,34,48,34],[47,35,48,35],[47,36,48,36],[47,37,48,37],[47,38,48,38],[47,21,48,21],[47,22,48,22],[47,23,48,23],[47,24,48,24],[47,25,48,25],[47,26,48,26],[47,27,48,27],[47,28,48,28],[47,31,48,31],[45,32,46,32],[45,33,46,33],[45,34,46,34],[45,35,46,35],[45,36,46,36],[45,37,46,37],[45,38,46,38],[45,21,46,21],[45,22,46,22],[45,23,46,23],[45,24,46,24],[45,25,46,25],[45,26,46,26],[45,27,46,27],[45,28,46,28],[45,31,46,31],[43,32,44,32],[43,33,44,33],[43,34,44,34],[43,35,44,35],[43,36,44,36],[43,37,44,37],[43,38,44,38],[43,21,44,21],[43,22,44,22],[43,23,44,23],[43,24,44,24],[43,25,44,25],[43,26,44,26],[43,27,44,27],[43,28,44,28],[43,31,44,31],[41,32,42,32],[41,33,42,33],[41,34,42,34],[41,35,42,35],[41,36,42,36],[41,37,42,37],[41,38,42,38],[41,21,42,21],[41,22,42,22],[41,23,42,23],[41,24,42,24],[41,25,42,25],[41,26,42,26],[41,27,42,27],[41,28,42,28],[41,31,42,31],[39,32,40,32],[39,33,40,33],[39,34,40,34],[39,35,40,35],[39,36,40,36],[39,37,40,37],[39,38,40,38],[39,21,40,21]],"merged_total":2576,"flags":["merged_cut"]}
[]
[null,null,null,{"$f":"Inf!I5","v":55},"Количество участников",null,{"$f":"COUNTA(D6:D165)","v":3},null,null,null,null,null,null,{"$f":"Inf!I6","v":60},"Количество участников",null,{"$f":"COUNTA(N6:N165)","v":3},null,null,null,null,null,null,{"$f":"Inf!I7","v":63},"Количество участников",null,{"$f":"COUNTA(X6:X165)","v":6},null,null,null,null,null,null,{"$f":"Inf!I8","v":67},"Количество участников",null,{"$f":"COUNTA(AH6:AH165)","v":0}]
[]
[]
[null,"№ п/п","по жребию","Фамилия, имя участника","Регион","ФСО","Разряд, звание","Дата рождения","Ф.И.О. тренера",null,null,"№ п/п","по жребию","Фамилия, имя участника","Регион","ФСО","Разряд, звание","Дата рождения","Ф.И.О. тренера",null,null,"№ п/п","по жребию","Фамилия, имя участника","Регион","ФСО","Разряд, звание","Дата рождения","Ф.И.О. тренера",null,null,"№ п/п","по жребию","Фамилия, имя участника","Регион","ФСО","Разряд, звание","Дата рождения","Ф.И.О. тренера"]
[null,1,1,null,null,null,null,null,null,null,null,1,1,null,null,null,null,null,null,null,null,1,1,"УЦПВ",null,null,null,null,null,null,null,1,1]
[]
[null,{"$f":"B6+1","v":2},2,null,null,null,null,null,null,null,null,{"$f":"L6+1","v":2},2,null,null,null,null,null,null,null,null,{"$f":"V6+1","v":2},2,"ЧВВАРЯР",null,null,null,null,null,null,null,{"$f":"AF6+1","v":2},2]
[]
[null,{"$f":"B8+1","v":3},3,"АПЛЛ",null,null,null,null,null,null,null,{"$f":"L8+1","v":3},3,"ГРИЦ СЕМЕН","СПб-КШВСМ","СПб-КШВСМ","КМС","2005-07-07","КАЗАВАТОВ,СКАРГИН",null,null,{"$f":"V8+1","v":3},3,"АСЛАНЯН АРСЕН",null,null,null,null,null,null,null,{"$f":"AF8+1","v":3},3]
[]
[null,{"$f":"B10+1","v":4},4,"СИЧ",null,null,null,null,null,null,null,{"$f":"L10+1","v":4},4,"АВПА",null,null,null,null,null,null,null,{"$f":"V10+1","v":4},4,"ВАЧЧА",null,null,null,null,null,null,null,{"$f":"AF10+1","v":4},4]
[]
[null,{"$f":"B12+1","v":5},5,"ПАПЛ",null,null,null,null,null,null,null,{"$f":"L12+1","v":5},5,"ПАВП",null,null,null,null,null,null,null,{"$f":"V12+1","v":5},5,"ЧИСАЧЧА",null,null,null,null,null,null,null,{"$f":"AF12+1","v":5},5]
[]
[null,{"$f":"B14+1","v":6},6,null,null,null,null,null,null,null,null,{"$f":"L14+1","v":6},6,null,null,null,null,null,null,null,null,{"$f":"V14+1","v":6},6,"ЧИСАЧЧА",null,null,null,null,null,null,null,{"$f":"AF14+1","v":6},6]
[]
[null,{"$f":"B16+1","v":7},7,null,null,null,null,null,null,null,null,{"$f":"L16+1","v":7},7,null,null,null,null,null,null,null,null,{"$f":"V16+1","v":7},7,null,null,null,null,null,null,null,null,{"$f":"AF16+1","v":7},7]
[]
[null,{"$f":"B18+1","v":8},8,null,null,null,null,null,null,null,null,{"$f":"L18+1","v":8},8,null,null,null,null,null,null,null,null,{"$f":"V18+1","v":8},8,null,null,null,null,null,null,null,null,{"$f":"AF18+1","v":8},8]
[]
[null,{"$f":"B20+1","v":9},9,null,null,null,null,null,null,null,null,{"$f":"L20+1","v":9},9,null,null,null,null,null,null,null,null,{"$f":"V20+1","v":9},9,null,null,null,null,null,null,null,null,{"$f":"AF20+1","v":9},9]
[]
[null,{"$f":"B22+1","v":10},10,null,null,null,null,null,null,null,null,{"$f":"L22+1","v":10},10,null,null,null,null,null,null,null,null,{"$f":"V22+1","v":10},10,null,null,null,null,null,null,null,null,{"$f":"AF22+1","v":10},10]
[]
[null,{"$f":"B24+1","v":11},11,null,null,null,null,null,null,null,null,{"$f":"L24+1","v":11},11,null,null,null,null,null,null,null,null,{"$f":"V24+1","v":11},11,null,null,null,null,null,null,null,null,{"$f":"AF24+1","v":11},11]
[]
[null,{"$f":"B26+1","v":12},12,null,null,null,null,null,null,null,null,{"$f":"L26+1","v":12},12,null,null,null,null,null,null,null,null,{"$f":"V26+1","v":12},12,null,null,null,null,null,null,null,null,{"$f":"AF26+1","v":12},12]
[]
[null,{"$f":"B28+1","v":13},13,null,null,null,null,null,null,null,null,{"$f":"L28+1","v":13},13,null,null,null,null,null,null,null,null,{"$f":"V28+1","v":13},13,null,null,null,null,null,null,null,null,{"$f":"AF28+1","v":13},13]
[]
[null,{"$f":"B30+1","v":14},14,null,null,null,null,null,null,null,null,{"$f":"L30+1","v":14},14,null,null,null,null,null,null,null,null,{"$f":"V30+1","v":14},14,null,null,null,null,null,null,null,null,{"$f":"AF30+1","v":14},14]
[]
[null,{"$f":"B32+1","v":15},15,null,null,null,null,null,null,null,null,{"$f":"L32+1","v":15},15,null,null,null,null,null,null,null,null,{"$f":"V32+1","v":15},15,null,null,null,null,null,null,null,null,{"$f":"AF32+1","v":15},15]
[]
[null,{"$f":"B34+1","v":16},16,null,null,null,null,null,null,null,null,{"$f":"L34+1","v":16},16,null,null,null,null,null,null,null,null,{"$f":"V34+1","v":16},16,null,null,null,null,null,null,null,null,{"$f":"AF34+1","v":16},16]
[]
[null,{"$f":"B36+1","v":17},17,null,null,null,null,null,null,null,null,{"$f":"L36+1","v":17},17,null,null,null,null,null,null,null,null,{"$f":"V36+1","v":17},17,null,null,null,null,null,null,null,null,{"$f":"AF36+1","v":17},17]
[]
[null,{"$f":"B38+1","v":18},18,null,null,null,null,null,null,null,null,{"$f":"L38+1","v":18},18,null,null,null,null,null,null,null,null,{"$f":"V38+1","v":18},18,null,null,null,null,null,null,null,null,{"$f":"AF38+1","v":18},18]
[]
[null,{"$f":"B40+1","v":19},19,null,null,null,null,null,null,null,null,{"$f":"L40+1","v":19},19,null,null,null,null,null,null,null,null,{"$f":"V40+1","v":19},19,null,null,null,null,null,null,null,null,{"$f":"AF40+1","v":19},19]
[]
[null,{"$f":"B42+1","v":20},20,null,null,null,null,null,null,null,null,{"$f":"L42+1","v":20},20,null,null,null,null,null,null,null,null,{"$f":"V42+1","v":20},20,null,null,null,null,null,null,null,null,{"$f":"AF42+1","v":20},20]
[]
[null,{"$f":"B44+1","v":21},21,null,null,null,null,null,null,null,null,{"$f":"L44+1","v":21},21,null,null,null,null,null,null,null,null,{"$f":"V44+1","v":21},21,null,null,null,null,null,null,null,null,{"$f":"AF44+1","v":21},21]
[]
[null,{"$f":"B46+1","v":22},22,null,null,null,null,null,null,null,null,{"$f":"L46+1","v":22},22,null,null,null,null,null,null,null,null,{"$f":"V46+1","v":22},22,null,null,null,null,null,null,null,null,{"$f":"AF46+1","v":22},22]
[]
[null,{"$f":"B48+1","v":23},23,null,null,null,null,null,null,null,null,{"$f":"L48+1","v":23},23,null,null,null,null,null,null,null,null,{"$f":"V48+1","v":23},23,null,null,null,null,null,null,null,null,{"$f":"AF48+1","v":23},23]
[]
[null,{"$f":"B50+1","v":24},24,null,null,null,null,null,null,null,null,{"$f":"L50+1","v":24},24,null,null,null,null,null,null,null,null,{"$f":"V50+1","v":24},24,null,null,null,null,null,null,null,null,{"$f":"AF50+1","v":24},24]
[]
[null,{"$f":"B52+1","v":25},25,null,null,null,null,null,null,null,null,{"$f":"L52+1","v":25},25,null,null,null,null,null,null,null,null,{"$f":"V52+1","v":25},25,null,null,null,null,null,null,null,null,{"$f":"AF52+1","v":25},25]
[]
[null,{"$f":"B54+1","v":26},26,null,null,null,null,null,null,null,null,{"$f":"L54+1","v":26},26,null,null,null,null,null,null,null,null,{"$f":"V54+1","v":26},26,null,null,null,null,null,null,null,null,{"$f":"AF54+1","v":26},26]
[]
[null,{"$f":"B56+1","v":27},27,null,null,null,null,null,null,null,null,{"$f":"L56+1","v":27},27,null,null,null,null,null,null,null,null,{"$f":"V56+1","v":27},27,null,null,null,null,null,null,null,null,{"$f":"AF56+1","v":27},27]
[]
[null,{"$f":"B58+1","v":28},28,null,null,null,null,null,null,null,null,{"$f":"L58+1","v":28},28,null,null,null,null,null,null,null,null,{"$f":"V58+1","v":28},28,null,null,null,null,null,null,null,null,{"$f":"AF58+1","v":28},28]
[]
[null,{"$f":"B60+1","v":29},29,null,null,null,null,null,null,null,null,{"$f":"L60+1","v":29},29,null,null,null,null,null,null,null,null,{"$f":"V60+1","v":29},29,null,null,null,null,null,null,null,null,{"$f":"AF60+1","v":29},29]
[]
[null,{"$f":"B62+1","v":30},30,null,null,null,null,null,null,null,null,{"$f":"L62+1","v":30},30,null,null,null,null,null,null,null,null,{"$f":"V62+1","v":30},30,null,null,null,null,null,null,null,null,{"$f":"AF62+1","v":30},30]
[]
[null,{"$f":"B64+1","v":31},31,null,null,null,null,null,null,null,null,{"$f":"L64+1","v":31},31,null,null,null,null,null,null,null,null,{"$f":"V64+1","v":31},31,null,null,null,null,null,null,null,null,{"$f":"AF64+1","v":31},31]
[]
[null,{"$f":"B66+1","v":32},32,null,null,null,null,null,null,null,null,{"$f":"L66+1","v":32},32,null,null,null,null,null,null,null,null,{"$f":"V66+1","v":32},32,null,null,null,null,null,null,null,null,{"$f":"AF66+1","v":32},32]
[]
[null,{"$f":"B68+1","v":33},33,null,null,null,null,null,null,null,null,{"$f":"L68+1","v":33},33,null,null,null,null,null,null,null,null,{"$f":"V68+1","v":33},33,null,null,null,null,null,null,null,null,{"$f":"AF68+1","v":33},33]
[]
[null,{"$f":"B70+1","v":34},34,null,null,null,null,null,null,null,null,{"$f":"L70+1","v":34},34,null,null,null,null,null,null,null,null,{"$f":"V70+1","v":34},34,null,null,null,null,null,null,null,null,{"$f":"AF70+1","v":34},34]
[]
[null,{"$f":"B72+1","v":35},35,null,null,null,null,null,null,null,null,{"$f":"L72+1","v":35},35,null,null,null,null,null,null,null,null,{"$f":"V72+1","v":35},35,null,null,null,null,null,null,null,null,{"$f":"AF72+1","v":35},35]
[]
[null,{"$f":"B74+1","v":36},36,null,null,null,null,null,null,null,null,{"$f":"L74+1","v":36},36,null,null,null,null,null,null,null,null,{"$f":"V74+1","v":36},36,null,null,null,null,null,null,null,null,{"$f":"AF74+1","v":36},36]
[]
[null,{"$f":"B76+1","v":37},37,null,null,null,null,null,null,null,null,{"$f":"L76+1","v":37},37,null,null,null,null,null,null,null,null,{"$f":"V76+1","v":37},37,null,null,null,null,null,null,null,null,{"$f":"AF76+1","v":37},37]
[]
[null,{"$f":"B78+1","v":38},38,null,null,null,null,null,null,null,null,{"$f":"L78+1","v":38},38,null,null,null,null,null,null,null,null,{"$f":"V78+1","v":38},38,null,null,null,null,null,null,null,null,{"$f":"AF78+1","v":38},38]
[]
[null,{"$f":"B80+1","v":39},39,null,null,null,null,null,null,null,null,{"$f":"L80+1","v":39},39,null,null,null,null,null,null,null,null,{"$f":"V80+1","v":39},39,null,null,null,null,null,null,null,null,{"$f":"AF80+1","v":39},39]
[]
[null,{"$f":"B82+1","v":40},40,null,null,null,null,null,null,null,null,{"$f":"L82+1","v":40},40,null,null,null,null,null,null,null,null,{"$f":"V82+1","v":40},40,null,null,null,null,null,null,null,null,{"$f":"AF82+1","v":40},40]
[]
[null,{"$f":"B84+1","v":41},41,null,null,null,null,null,null,null,null,{"$f":"L84+1","v":41},41,null,null,null,null,null,null,null,null,{"$f":"V84+1","v":41},41,null,null,null,null,null,null,null,null,{"$f":"AF84+1","v":41},41]
[]
[null,{"$f":"B86+1","v":42},42,null,null,null,null,null,null,null,null,{"$f":"L86+1","v":42},42,null,null,null,null,null,null,null,null,{"$f":"V86+1","v":42},42,null,null,null,null,null,null,null,null,{"$f":"AF86+1","v":42},42]
[]
[null,{"$f":"B88+1","v":43},43,null,null,null,null,null,null,null,null,{"$f":"L88+1","v":43},43,null,null,null,null,null,null,null,null,{"$f":"V88+1","v":43},43,null,null,null,null,null,null,null,null,{"$f":"AF88+1","v":43},43]
[]
[null,{"$f":"B90+1","v":44},44,null,null,null,null,null,null,null,null,{"$f":"L90+1","v":44},44,null,null,null,null,null,null,null,null,{"$f":"V90+1","v":44},44,null,null,null,null,null,null,null,null,{"$f":"AF90+1","v":44},44]
[]
[null,{"$f":"B92+1","v":45},45,null,null,null,null,null,null,null,null,{"$f":"L92+1","v":45},45,null,null,null,null,null,null,null,null,{"$f":"V92+1","v":45},45,null,null,null,null,null,null,null,null,{"$f":"AF92+1","v":45},45]
[]
[null,{"$f":"B94+1","v":46},46,null,null,null,null,null,null,null,null,{"$f":"L94+1","v":46},46,null,null,null,null,null,null,null,null,{"$f":"V94+1","v":46},46,null,null,null,null,null,null,null,null,{"$f":"AF94+1","v":46},46]
[]
[null,{"$f":"B96+1","v":47},47,null,null,null,null,null,null,null,null,{"$f":"L96+1","v":47},47,null,null,null,null,null,null,null,null,{"$f":"V96+1","v":47},47,null,null,null,null,null,null,null,null,{"$f":"AF96+1","v":47},47]
[]
[null,{"$f":"B98+1","v":48},48,null,null,null,null,null,null,null,null,{"$f":"L98+1","v":48},48,null,null,null,null,null,null,null,null,{"$f":"V98+1","v":48},48,null,null,null,null,null,null,null,null,{"$f":"AF98+1","v":48},48]
[]
[null,{"$f":"B100+1","v":49},49,null,null,null,null,null,null,null,null,{"$f":"L100+1","v":49},49,null,null,null,null,null,null,null,null,{"$f":"V100+1","v":49},49,null,null,null,null,null,null,null,null,{"$f":"AF100+1","v":49},49]
[]
[null,{"$f":"B102+1","v":50},50,null,null,null,null,null,null,null,null,{"$f":"L102+1","v":50},50,null,null,null,null,null,null,null,null,{"$f":"V102+1","v":50},50,null,null,null,null,null,null,null,null,{"$f":"AF102+1","v":50},50]
[]
[null,{"$f":"B104+1","v":51},51,null,null,null,null,null,null,null,null,{"$f":"L104+1","v":51},51,null,null,null,null,null,null,null,null,{"$f":"V104+1","v":51},51,null,null,null,null,null,null,null,null,{"$f":"AF104+1","v":51},51]
[]
[null,{"$f":"B106+1","v":52},52,null,null,null,null,null,null,null,null,{"$f":"L106+1","v":52},52,null,null,null,null,null,null,null,null,{"$f":"V106+1","v":52},52,null,null,null,null,null,null,null,null,{"$f":"AF106+1","v":52},52]
[]
[null,{"$f":"B108+1","v":53},53,null,null,null,null,null,null,null,null,{"$f":"L108+1","v":53},53,null,null,null,null,null,null,null,null,{"$f":"V108+1","v":53},53,null,null,null,null,null,null,null,null,{"$f":"AF108+1","v":53},53]
[]
[null,{"$f":"B110+1","v":54},54,null,null,null,null,null,null,null,null,{"$f":"L110+1","v":54},54,null,null,null,null,null,null,null,null,{"$f":"V110+1","v":54},54,null,null,null,null,null,null,null,null,{"$f":"AF110+1","v":54},54]
[]
[null,{"$f":"B112+1","v":55},55,null,null,null,null,null,null,null,null,{"$f":"L112+1","v":55},55,null,null,null,null,null,null,null,null,{"$f":"V112+1","v":55},55,null,null,null,null,null,null,null,null,{"$f":"AF112+1","v":55},55]
[]
[null,{"$f":"B114+1","v":56},56,null,null,null,null,null,null,null,null,{"$f":"L114+1","v":56},56,null,null,null,null,null,null,null,null,{"$f":"V114+1","v":56},56,null,null,null,null,null,null,null,null,{"$f":"AF114+1","v":56},56]
[]
[null,{"$f":"B116+1","v":57},57,null,null,null,null,null,null,null,null,{"$f":"L116+1","v":57},57,null,null,null,null,null,null,null,null,{"$f":"V116+1","v":57},57,null,null,null,null,null,null,null,null,{"$f":"AF116+1","v":57},57]
[]
[null,{"$f":"B118+1","v":58},58,null,null,null,null,null,null,null,null,{"$f":"L118+1","v":58},58,null,null,null,null,null,null,null,null,{"$f":"V118+1","v":58},58,null,null,null,null,null,null,null,null,{"$f":"AF118+1","v":58},58]
[]
[null,{"$f":"B120+1","v":59},59,null,null,null,null,null,null,null,null,{"$f":"L120+1","v":59},59,null,null,null,null,null,null,null,null,{"$f":"V120+1","v":59},59,null,null,null,null,null,null,null,null,{"$f":"AF120+1","v":59},59]
[]
[null,{"$f":"B122+1","v":60},60,null,null,null,null,null,null,null,null,{"$f":"L122+1","v":60},60,null,null,null,null,null,null,null,null,{"$f":"V122+1","v":60},60,null,null,null,null,null,null,null,null,{"$f":"AF122+1","v":60},60]
[]
[null,{"$f":"B124+1","v":61},61,null,null,null,null,null,null,null,null,{"$f":"L124+1","v":61},61,null,null,null,null,null,null,null,null,{"$f":"V124+1","v":61},61,null,null,null,null,null,null,null,null,{"$f":"AF124+1","v":61},61]
[]
[null,{"$f":"B126+1","v":62},62,null,null,null,null,null,null,null,null,{"$f":"L126+1","v":62},62,null,null,null,null,null,null,null,null,{"$f":"V126+1","v":62},62,null,null,null,null,null,null,null,null,{"$f":"AF126+1","v":62},62]
[]
[null,{"$f":"B128+1","v":63},63,null,null,null,null,null,null,null,null,{"$f":"L128+1","v":63},63,null,null,null,null,null,null,null,null,{"$f":"V128+1","v":63},63,null,null,null,null,null,null,null,null,{"$f":"AF128+1","v":63},63]
[]
[null,{"$f":"B130+1","v":64},64,null,null,null,null,null,null,null,null,{"$f":"L130+1","v":64},64,null,null,null,null,null,null,null,null,{"$f":"V130+1","v":64},64,null,null,null,null,null,null,null,null,{"$f":"AF130+1","v":64},64]
[]
[null,{"$f":"B132+1","v":65},65,null,null,null,null,null,null,null,null,{"$f":"L132+1","v":65},65,null,null,null,null,null,null,null,null,{"$f":"V132+1","v":65},65,null,null,null,null,null,null,null,null,{"$f":"AF132+1","v":65},65]
[]
[null,{"$f":"B134+1","v":66},66,null,null,null,null,null,null,null,null,{"$f":"L134+1","v":66},66,null,null,null,null,null,null,null,null,{"$f":"V134+1","v":66},66,null,null,null,null,null,null,null,null,{"$f":"AF134+1","v":66},66]
[]
[null,{"$f":"B136+1","v":67},67,null,null,null,null,null,null,null,null,{"$f":"L136+1","v":67},67,null,null,null,null,null,null,null,null,{"$f":"V136+1","v":67},67,null,null,null,null,null,null,null,null,{"$f":"AF136+1","v":67},67]
[]
[null,{"$f":"B138+1","v":68},68,null,null,null,null,null,null,null,null,{"$f":"L138+1","v":68},68,null,null,null,null,null,null,null,null,{"$f":"V138+1","v":68},68,null,null,null,null,null,null,null,null,{"$f":"AF138+1","v":68},68]
[]
[null,{"$f":"B140+1","v":69},69,null,null,null,null,null,null,null,null,{"$f":"L140+1","v":69},69,null,null,null,null,null,null,null,null,{"$f":"V140+1","v":69},69,null,null,null,null,null,null,null,null,{"$f":"AF140+1","v":69},69]
[]
[null,{"$f":"B142+1","v":70},70,null,null,null,null,null,null,null,null,{"$f":"L142+1","v":70},70,null,null,null,null,null,null,null,null,{"$f":"V142+1","v":70},70,null,null,null,null,null,null,null,null,{"$f":"AF142+1","v":70},70]
[]
[null,{"$f":"B144+1","v":71},71,null,null,null,null,null,null,null,null,{"$f":"L144+1","v":71},71,null,null,null,null,null,null,null,null,{"$f":"V144+1","v":71},71,null,null,null,null,null,null,null,null,{"$f":"AF144+1","v":71},71]
[]
[null,{"$f":"B146+1","v":72},72,null,null,null,null,null,null,null,null,{"$f":"L146+1","v":72},72,null,null,null,null,null,null,null,null,{"$f":"V146+1","v":72},72,null,null,null,null,null,null,null,null,{"$f":"AF146+1","v":72},72]
[]
[null,{"$f":"B148+1","v":73},73,null,null,null,null,null,null,null,null,{"$f":"L148+1","v":73},73,null,null,null,null,null,null,null,null,{"$f":"V148+1","v":73},73,null,null,null,null,null,null,null,null,{"$f":"AF148+1","v":73},73]
[]
[null,{"$f":"B150+1","v":74},74,null,null,null,null,null,null,null,null,{"$f":"L150+1","v":74},74,null,null,null,null,null,null,null,null,{"$f":"V150+1","v":74},74,null,null,null,null,null,null,null,null,{"$f":"AF150+1","v":74},74]
[]
[null,{"$f":"B152+1","v":75},75,null,null,null,null,null,null,null,null,{"$f":"L152+1","v":75},75,null,null,null,null,null,null,null,null,{"$f":"V152+1","v":75},75,null,null,null,null,null,null,null,null,{"$f":"AF152+1","v":75},75]
[]
[null,{"$f":"B154+1","v":76},76,null,null,null,null,null,null,null,null,{"$f":"L154+1","v":76},76,null,null,null,null,null,null,null,null,{"$f":"V154+1","v":76},76,null,null,null,null,null,null,null,null,{"$f":"AF154+1","v":76},76]
[]
[null,{"$f":"B156+1","v":77},77,null,null,null,null,null,null,null,null,{"$f":"L156+1","v":77},77,null,null,null,null,null,null,null,null,{"$f":"V156+1","v":77},77,null,null,null,null,null,null,null,null,{"$f":"AF156+1","v":77},77]
[]
[null,{"$f":"B158+1","v":78},78,null,null,null,null,null,null,null,null,{"$f":"L158+1","v":78},78,null,null,null,null,null,null,null,null,{"$f":"V158+1","v":78},78,null,null,null,null,null,null,null,null,{"$f":"AF158+1","v":78},78]
[]
[null,{"$f":"B160+1","v":79},79,null,null,null,null,null,null,null,null,{"$f":"L160+1","v":79},79,null,null,null,null,null,null,null,null,{"$f":"V160+1","v":79},79,null,null,null,null,null,null,null,null,{"$f":"AF160+1","v":79},79]
[]
[null,80,80,null,null,null,null,null,null,null,null,80,80,null,null,null,null,null,null,null,null,80,80,null,null,null,null,null,null,null,null,80,80]

{"sheet":"Atl2","index":26,"n_rows":164,"n_cols":39,"rows_kept":164,"cut":false,"hidden":true,"merged":[[5,34,6,34],[5,35,6,35],[5,36,6,36],[5,37,6,37],[5,38,6,38],[5,17,6,17],[5,18,6,18],[5,21,6,21],[5,22,6,22],[5,23,6,23],[1,34,2,35],[1,36,2,36],[1,3,2,3],[1,4,2,5],[1,6,2,6],[1,13,2,13],[3,5,3,8],[3,15,3,18],[3,25,3,28],[3,35,3,38],[1,14,2,15],[1,16,2,16],[1,23,2,23],[1,24,2,25],[1,26,2,26],[1,33,2,33],[5,14,6,14],[5,15,6,15],[5,16,6,16],[7,1,8,1],[7,2,8,2],[5,28,6,28],[5,31,6,31],[5,32,6,32],[5,33,6,33],[5,24,6,24],[5,25,6,25],[5,26,6,26],[5,27,6,27],[7,24,8,24],[7,3,8,3],[7,4,8,4],[7,5,8,5],[7,6,8,6],[7,7,8,7],[7,8,8,8],[7,11,8,11],[7,12,8,12],[7,13,8,13],[5,1,6,1],[5,2,6,2],[5,3,6,3],[5,4,6,4],[5,5,6,5],[5,6,6,6],[5,7,6,7],[5,8,6,8],[5,11,6,11],[5,12,6,12],[5,13,6,13],[9,35,10,35],[9,36,10,36],[7,34,8,34],[7,35,8,35],[7,14,8,14],[7,15,8,15],[7,16,8,16],[7,17,8,17],[7,18,8,18],[7,21,8,21],[7,22,8,22],[7,23,8,23],[7,36,8,36],[7,37,8,37],[7,38,8,38],[7,25,8,25],[7,26,8,26],[7,27,8,27],[7,28,8,28],[7,31,8,31],[7,32,8,32],[7,33,8,33],[11,15,12,15],[11,16,12,16],[9,14,10,14],[9,15,10,15],[9,16,10,16],[9,1,10,1],[9,2,10,2],[9,3,10,3],[9,4,10,4],[9,5,10,5],[9,6,10,6],[9,7,10,7],[9,8,10,8],[9,11,10,11],[9,12,10,12],[9,13,10,13],[9,34,10,34],[13,15,14,15],[13,16,14,16],[9,37,10,37],[9,38,10,38],[9,17,10,17],[9,18,10,18],[9,21,10,21],[9,22,10,22],[9,23,10,23],[11,1,12,1],[11,2,12,2],[9,28,10,28],[9,31,10,31],[9,32,10,32],[9,33,10,33],[9,24,10,24],[9,25,10,25],[9,26,10,26],[9,27,10,27],[11,24,12,24],[11,3,12,3],[11,4,12,4],[11,5,12,5],[11,6,12,6],[11,7,12,7],[11,8,12,8],[11,11,12,11],[11,12,12,12],[11,13,12,13],[11,34,12,34],[11,35,12,35],[11,14,12,14],[13,34,14,34],[13,35,14,35],[13,36,14,36],[13,37,14,37],[13,38,14,38],[13,17,14,17],[13,18,14,18],[13,21,14,21],[13,22,14,22],[13,23,14,23],[11,17,12,17],[11,18,12,18],[11,21,12,21],[11,22,12,22],[11,23,12,23],[11,36,12,36],[11,37,12,37],[11,38,12,38],[11,25,12,25],[11,26,12,26],[11,27,12,27],[11,28,12,28],[11,31,12,31],[11,32,12,32],[11,33,12,33],[15,1,16,1],[15,2,16,2],[13,28,14,28],[13,31,14,31],[13,32,14,32],[13,33,14,33],[13,24,14,24],[13,25,14,25],[13,26,14,26],[13,27,14,27],[15,24,16,24],[15,3,16,3],[15,4,16,4],[15,5,16,5],[15,6,16,6],[15,7,16,7],[15,8,16,8],[15,11,16,11],[15,12,16,12],[15,13,16,13],[13,1,14,1],[13,2,14,2],[13,3,14,3],[13,4,14,4],[13,5,14,5],[13,6,14,6],[13,7,14,7],[13,8,14,8],[13,11,14,11],[13,12,14,12],[13,13,14,13],[13,14,14,14],[15,34,16,34],[15,35,16,35],[15,14,16,14],[15,15,16,15],[15,16,16,16],[15,17,16,17],[15,18,16,18],[15,21,16,21],[15,22,16,22],[15,23,16,23],[15,36,16,36],[15,37,16,37],[15,38,16,38],[15,25,16,25],[15,26,16,26],[15,27,16,27],[15,28,16,28],[15,31,16,31],[15,32,16,32],[15,33,16,33],[17,14,18,14],[17,15,18,15],[17,16,18,16],[17,1,18,1],[17,2,18,2],[17,3,18,3],[17,4,18,4],[17,5,18,5],[17,6,18,6],[17,7,18,7],[17,8,18,8],[17,11,18,11],[17,12,18,12],[17,13,18,13],[17,34,18,34],[17,35,18,35],[17,36,18,36],[17,37,18,37],[17,38,18,38],[17,17,18,17],[17,18,18,18],[17,21,18,21],[17,22,18,22],[17,23,18,23],[19,1,20,1],[19,2,20,2],[17,28,18,28],[17,31,18,31],[17,32,18,32],[17,33,18,33],[17,24,18,24],[17,25,18,25],[17,26,18,26],[17,27,18,27],[19,24,20,24],[19,3,20,3],[19,4,20,4],[19,5,20,5],[19,6,20,6],[19,7,20,7],[19,8,20,8],[19,11,20,11],[19,12,20,12],[19,13,20,13],[19,34,20,34],[19,35,20,35],[19,14,20,14],[19,15,20,15],[19,16,20,16],[21,38,22,38],[21,17,22,17],[21,18,22,18],[21,21,22,21],[21,22,22,22],[21,23,22,23],[21,24,22,24],[21,25,22,25],[21,26,22,26],[21,27,22,27],[21,32,22,32],[21,33,22,33],[21,34,22,34],[21,35,22,35],[21,36,22,36],[21,37,22,37],[19,17,20,17],[19,18,20,18],[19,21,20,21],[19,22,20,22],[19,23,20,23],[19,36,20,36],[19,37,20,37],[19,38,20,38],[19,25,20,25],[19,26,20,26],[19,27,20,27],[19,28,20,28],[19,31,20,31],[19,32,20,32],[19,33,20,33],[23,12,24,12],[23,13,24,13],[23,1,24,1],[23,2,24,2],[21,28,22,28],[21,31,22,31],[21,6,22,6],[21,7,22,7],[21,8,22,8],[21,11,22,11],[23,22,24,22],[23,23,24,23],[23,24,24,24],[23,3,24,3],[23,4,24,4],[23,5,24,5],[23,6,24,6],[23,7,24,7],[23,8,24,8],[23,11,24,11],[21,1,22,1],[21,2,22,2],[21,3,22,3],[21,4,22,4],[21,5,22,5],[21,12,22,12],[21,13,22,13],[21,14,22,14],[21,15,22,15],[21,16,22,16],[23,32,24,32],[23,33,24,33],[23,34,24,34],[23,35,24,35],[23,14,24,14],[23,15,24,15],[23,16,24,16],[23,17,24,17],[23,18,24,18],[23,21,24,21],[25,1,26,1],[25,2,26,2],[23,36,24,36],[23,37,24,37],[23,38,24,38],[23,25,24,25],[23,26,24,26],[23,27,24,27],[23,28,24,28],[23,31,24,31],[25,24,26,24],[25,3,26,3],[25,4,26,4],[25,5,26,5],[25,6,26,6],[25,7,26,7],[25,8,26,8],[25,11,26,11],[25,12,26,12],[25,13,26,13],[25,34,26,34],[25,35,26,35],[25,14,26,14],[25,15,26,15],[25,16,26,16],[25,17,26,17],[25,18,26,18],[25,21,26,21],[25,22,26,22],[25,23,26,23],[25,36,26,36],[25,37,26,37],[25,38,26,38],[25,25,26,25],[25,26,26,26],[25,27,26,27],[25,28,26,28],[25,31,26,31],[25,32,26,32],[25,33,26,33],[27,12,28,12],[27,13,28,13],[27,1,28,1],[27,2,28,2],[27,18,28,18],[27,21,28,21],[27,22,28,22],[27,23,28,23],[27,24,28,24],[27,3,28,3],[27,4,28,4],[27,5,28,5],[27,6,28,6],[27,7,28,7],[27,38,28,38],[27,25,28,25],[27,26,28,26],[27,27,28,27],[27,28,28,28],[27,31,28,31],[27,32,28,32],[27,33,28,33],[27,34,28,34],[27,35,28,35],[29,12,30,12],[29,13,30,13],[29,1,30,1],[29,2,30,2],[27,36,28,36],[27,37,28,37],[27,14,28,14],[27,15,28,15],[27,16,28,16],[27,17,28,17],[29,22,30,22],[29,23,30,23],[29,24,30,24],[29,3,30,3],[29,4,30,4],[29,5,30,5],[29,6,30,6],[29,7,30,7],[29,8,30,8],[29,11,30,11],[29,32,30,32],[29,33,30,33],[29,34,30,34],[29,35,30,35],[29,14,30,14],[29,15,30,15],[29,16,30,16],[29,17,30,17],[29,18,30,18],[29,21,30,21],[27,8,28,8],[27,11,28,11],[31,1,32,1],[31,2,32,2],[29,36,30,36],[29,37,30,37],[29,38,30,38],[29,25,30,25],[29,26,30,26],[29,27,30,27],[29,28,30,28],[29,31,30,31],[31,24,32,24],[31,3,32,3],[31,4,32,4],[31,5,32,5],[31,6,32,6],[31,7,32,7],[31,8,32,8],[31,11,32,11],[31,12,32,12],[31,13,32,13],[31,34,32,34],[31,35,32,35],[31,14,32,14],[31,15,32,15],[31,16,32,16],[31,17,32,17],[31,18,32,18],[31,21,32,21],[31,22,32,22],[31,23,32,23],[31,36,32,36],[31,37,32,37],[31,38,32,38],[31,25,32,25],[31,26,32,26],[31,27,32,27],[31,28,32,28],[31,31,32,31],[31,32,32,32],[31,33,32,33],[33,8,34,8],[33,11,34,11],[33,12,34,12],[33,13,34,13],[33,1,34,1],[33,2,34,2],[33,18,34,18],[33,21,34,21],[33,22,34,22],[33,23,34,23],[33,24,34,24],[33,3,34,3],[33,4,34,4],[33,5,34,5],[33,6,34,6],[33,7,34,7],[33,38,34,38],[33,25,34,25],[33,26,34,26],[33,27,34,27],[33,28,34,28],[33,31,34,31],[33,32,34,32],[33,33,34,33],[33,34,34,34],[33,35,34,35],[35,12,36,12],[35,13,36,13],[35,1,36,1],[35,2,36,2],[33,36,34,36],[33,37,34,37],[33,14,34,14],[33,15,34,15],[33,16,34,16],[33,17,34,17],[35,22,36,22],[35,23,36,23],[35,24,36,24],[35,3,36,3],[35,4,36,4],[35,5,36,5],[35,6,36,6],[35,7,36,7],[35,8,36,8],[35,11,36,11],[35,32,36,32],[35,33,36,33],[35,34,36,34],[35,35,36,35],[35,14,36,14],[35,15,36,15],[35,16,36,16],[35,17,36,17],[35,18,36,18],[35,21,36,21],[37,1,38,1],[37,2,38,2],[35,36,36,36],[35,37,36,37],[35,38,36,38],[35,25,36,25],[35,26,36,26],[35,27,36,27],[35,28,36,28],[35,31,36,31],[37,24,38,24],[37,3,38,3],[37,4,38,4],[37,5,38,5],[37,6,38,6],[37,7,38,7],[37,8,38,8],[37,11,38,11],[37,12,38,12],[37,13,38,13],[37,34,38,34],[37,35,38,35],[37,14,38,14],[37,15,38,15],[37,16,38,16],[37,17,38,17],[37,18,38,18],[37,21,38,21],[37,22,38,22],[37,23,38,23],[37,36,38,36],[37,37,38,37],[37,38,38,38],[37,25,38,25],[37,26,38,26],[37,27,38,27],[37,28,38,28],[37,31,38,31],[37,32,38,32],[37,33,38,33],[39,8,40,8],[39,11,40,11],[39,12,40,12],[39,13,40,13],[39,1,40,1],[39,2,40,2],[39,18,40,18],[39,21,40,21],[39,22,40,22],[39,23,40,23],[39,24,40,24],[39,3,40,3],[39,4,40,4],[39,5,40,5],[39,6,40,6],[39,7,40,7],[39,38,40,38],[39,25,40,25],[39,26,40,26],[39,27,40,27],[39,28,40,28],[39,31,40,31],[39,32,40,32],[39,33,40,33],[39,34,40,34],[39,35,40,35],[41,12,42,12],[41,13,42,13],[41,1,42,1],[41,2,42,2],[39,36,40,36],[39,37,40,37],[39,14,40,14],[39,15,40,15],[39,16,40,16],[39,17,40,17],[41,22,42,22],[41,23,42,23],[41,24,42,24],[41,3,42,3],[41,4,42,4],[41,5,42,5],[41,6,42,6],[41,7,42,7],[41,8,42,8],[41,11,42,11],[41,32,42,32],[41,33,42,33],[41,34,42,34],[41,35,42,35],[41,14,42,14],[41,15,42,15],[41,16,42,16],[41,17,42,17],[41,18,42,18],[41,21,42,21],[43,1,44,1],[43,2,44,2],[41,36,42,36],[41,37,42,37],[41,38,42,38],[41,25,42,25],[41,26,42,26],[41,27,42,27],[41,28,42,28],[41,31,42,31],[43,24,44,24],[43,3,44,3],[43,4,44,4],[43,5,44,5],[43,6,44,6],[43,7,44,7],[43,8,44,8],[43,11,44,11],[43,12,44,12],[43,13,44,13],[43,34,44,34],[43,35,44,35],[43,14,44,14],[43,15,44,15],[43,16,44,16],[43,17,44,17],[43,18,44,18],[43,21,44,21],[43,22,44,22],[43,23,44,23],[43,36,44,36],[43,37,44,37],[43,38,44,38],[43,25,44,25],[43,26,44,26],[43,27,44,27],[43,28,44,28],[43,31,44,31],[43,32,44,32],[43,33,44,33],[45,8,46,8],[45,11,46,11],[45,12,46,12],[45,13,46,13],[45,1,46,1],[45,2,46,2],[45,18,46,18],[45,21,46,21],[45,22,46,22],[45,23,46,23],[45,24,46,24],[45,3,46,3],[45,4,46,4],[45,5,46,5],[45,6,46,6],[45,7,46,7],[45,38,46,38],[45,25,46,25],[45,26,46,26],[45,27,46,27],[45,28,46,28],[45,31,46,31],[45,32,46,32],[45,33,46,33],[45,34,46,34],[45,35,46,35],[47,12,48,12],[47,13,48,13],[47,1,48,1],[47,2,48,2],[45,36,46,36],[45,37,46,37],[45,14,46,14],[45,15,46,15],[45,16,46,16],[45,17,46,17],[47,22,48,22],[47,23,48,23],[47,24,48,24],[47,3,48,3],[47,4,48,4],[47,5,48,5],[47,6,48,6],[47,7,48,7],[47,8,48,8],[47,11,48,11],[47,32,48,32],[47,33,48,33],[47,34,48,34],[47,35,48,35],[47,14,48,14],[47,15,48,15],[47,16,48,16],[47,17,48,17],[47,18,48,18],[47,21,48,21],[49,1,50,1],[49,2,50,2],[47,36,48,36],[47,37,48,37],[47,38,48,38],[47,25,48,25],[47,26,48,26],[47,27,48,27],[47,28,48,28],[47,31,48,31],[49,24,50,24],[49,3,50,3],[49,4,50,4],[49,5,50,5],[49,6,50,6],[49,7,50,7],[49,8,50,8],[49,11,50,11],[49,12,50,12],[49,13,50,13],[49,34,50,34],[49,35,50,35],[49,14,50,14],[49,15,50,15],[49,16,50,16],[49,17,50,17],[49,18,50,18],[49,21,50,21],[49,22,50,22],[49,23,50,23],[49,36,50,36],[49,37,50,37],[49,38,50,38],[49,25,50,25],[49,26,50,26],[49,27,50,27],[49,28,50,28],[49,31,50,31],[49,32,50,32],[49,33,50,33],[51,8,52,8],[51,11,52,11],[51,12,52,12],[51,13,52,13],[51,1,52,1],[51,2,52,2],[51,18,52,18],[51,21,52,21],[51,22,52,22],[51,23,52,23],[51,24,52,24],[51,3,52,3],[51,4,52,4],[51,5,52,5],[51,6,52,6],[51,7,52,7],[51,38,52,38],[51,25,52,25],[51,26,52,26],[51,27,52,27],[51,28,52,28],[51,31,52,31],[51,32,52,32],[51,33,52,33],[51,34,52,34],[51,35,52,35],[53,12,54,12],[53,13,54,13],[53,1,54,1],[53,2,54,2],[51,36,52,36],[51,37,52,37],[51,14,52,14],[51,15,52,15],[51,16,52,16],[51,17,52,17],[53,22,54,22],[53,23,54,23],[53,24,54,24],[53,3,54,3],[53,4,54,4],[53,5,54,5],[53,6,54,6],[53,7,54,7],[53,8,54,8],[53,11,54,11],[53,32,54,32],[53,33,54,33],[53,34,54,34],[53,35,54,35],[53,14,54,14],[53,15,54,15],[53,16,54,16],[53,17,54,17],[53,18,54,18],[53,21,54,21],[55,1,56,1],[55,2,56,2],[53,36,54,36],[53,37,54,37],[53,38,54,38],[53,25,54,25],[53,26,54,26],[53,27,54,27],[53,28,54,28],[53,31,54,31],[55,24,56,24],[55,3,56,3],[55,4,56,4],[55,5,56,5],[55,6,56,6],[55,7,56,7],[55,8,56,8],[55,11,56,11],[55,12,56,12],[55,13,56,13],[55,34,56,34],[55,35,56,35],[55,14,56,14],[55,15,56,15],[55,16,56,16],[55,17,56,17],[55,18,56,18],[55,21,56,21],[55,22,56,22],[55,23,56,23],[55,36,56,36],[55,37,56,37],[55,38,56,38],[55,25,56,25],[55,26,56,26],[55,27,56,27],[55,28,56,28],[55,31,56,31],[55,32,56,32],[55,33,56,33],[57,8,58,8],[57,11,58,11],[57,12,58,12],[57,13,58,13],[57,1,58,1],[57,2,58,2],[57,18,58,18],[57,21,58,21],[57,22,58,22],[57,23,58,23],[57,24,58,24],[57,3,58,3],[57,4,58,4],[57,5,58,5],[57,6,58,6],[57,7,58,7],[57,38,58,38],[57,25,58,25],[57,26,58,26],[57,27,58,27],[57,28,58,28],[57,31,58,31],[57,32,58,32],[57,33,58,33],[57,34,58,34],[57,35,58,35],[59,12,60,12],[59,13,60,13],[59,1,60,1],[59,2,60,2],[57,36,58,36],[57,37,58,37],[57,14,58,14],[57,15,58,15],[57,16,58,16],[57,17,58,17],[59,22,60,22],[59,23,60,23],[59,24,60,24],[59,3,60,3],[59,4,60,4],[59,5,60,5],[59,6,60,6],[59,7,60,7],[59,8,60,8],[59,11,60,11],[59,32,60,32],[59,33,60,33],[59,34,60,34],[59,35,60,35],[59,14,60,14],[59,15,60,15],[59,16,60,16],[59,17,60,17],[59,18,60,18],[59,21,60,21],[61,1,62,1],[61,2,62,2],[59,36,60,36],[59,37,60,37],[59,38,60,38],[59,25,60,25],[59,26,60,26],[59,27,60,27],[59,28,60,28],[59,31,60,31],[61,24,62,24],[61,3,62,3],[61,4,62,4],[61,5,62,5],[61,6,62,6],[61,7,62,7],[61,8,62,8],[61,11,62,11],[61,12,62,12],[61,13,62,13],[61,34,62,34],[61,35,62,35],[61,14,62,14],[61,15,62,15],[61,16,62,16],[61,17,62,17],[61,18,62,18],[61,21,62,21],[61,22,62,22],[61,23,62,23],[61,36,62,36],[61,37,62,37],[61,38,62,38],[61,25,62,25],[61,26,62,26],[61,27,62,27],[61,28,62,28],[61,31,62,31],[61,32,62,32],[61,33,62,33],[63,8,64,8],[63,11,64,11],[63,12,64,12],[63,13,64,13],[63,1,64,1],[63,2,64,2],[63,18,64,18],[63,21,64,21],[63,22,64,22],[63,23,64,23],[63,24,64,24],[63,3,64,3],[63,4,64,4],[63,5,64,5],[63,6,64,6],[63,7,64,7],[63,38,64,38],[63,25,64,25],[63,26,64,26],[63,27,64,27],[63,28,64,28],[63,31,64,31],[63,32,64,32],[63,33,64,33],[63,34,64,34],[63,35,64,35],[65,12,66,12],[65,13,66,13],[65,1,66,1],[65,2,66,2],[63,36,64,36],[63,37,64,37],[63,14,64,14],[63,15,64,15],[63,16,64,16],[63,17,64,17],[65,22,66,22],[65,23,66,23],[65,24,66,24],[65,3,66,3],[65,4,66,4],[65,5,66,5],[65,6,66,6],[65,7,66,7],[65,8,66,8],[65,11,66,11],[65,32,66,32],[65,33,66,33],[65,34,66,34],[65,35,66,35],[65,14,66,14],[65,15,66,15],[65,16,66,16],[65,17,66,17],[65,18,66,18],[65,21,66,21]],"merged_total":2576,"flags":["merged_cut"]}
[]
[null,null,null,{"$f":"Inf!I9","v":72},"Количество участников",null,{"$f":"COUNTA(D6:D165)","v":0},null,null,null,null,null,null,{"$f":"Inf!I10","v":77},"Количество участников",null,{"$f":"COUNTA(N6:N165)","v":0},null,null,null,null,null,null,{"$f":"Inf!I11","v":82},"Количество участников",null,{"$f":"COUNTA(X6:X165)","v":0},null,null,null,null,null,null,{"$f":"Inf!I12","v":87},"Количество участников",null,{"$f":"COUNTA(AH6:AH165)","v":0}]
[]
[]
[null,"№ п/п","по жребию","Фамилия, имя участника","Регион","ФСО","Разряд, звание","Дата рождения","Ф.И.О. тренера",null,null,"№ п/п","по жребию","Фамилия, имя участника","Регион","ФСО","Разряд, звание","Дата рождения","Ф.И.О. тренера",null,null,"№ п/п","по жребию","Фамилия, имя участника","Регион","ФСО","Разряд, звание","Дата рождения","Ф.И.О. тренера",null,null,"№ п/п","по жребию","Фамилия, имя участника","Регион","ФСО","Разряд, звание","Дата рождения","Ф.И.О. тренера"]
[null,1,1,null,null,null,null,null,null,null,null,1,1,null,null,null,null,null,null,null,null,1,1,null,null,null,null,null,null,null,null,1,1]
[]
[null,{"$f":"B6+1","v":2},2,null,null,null,null,null,null,null,null,{"$f":"L6+1","v":2},2,null,null,null,null,null,null,null,null,{"$f":"V6+1","v":2},2,null,null,null,null,null,null,null,null,{"$f":"AF6+1","v":2},2]
[]
[null,{"$f":"B8+1","v":3},3,null,null,null,null,null,null,null,null,{"$f":"L8+1","v":3},3,null,null,null,null,null,null,null,null,{"$f":"V8+1","v":3},3,null,null,null,null,null,null,null,null,{"$f":"AF8+1","v":3},3]
[]
[null,{"$f":"B10+1","v":4},4,null,null,null,null,null,null,null,null,{"$f":"L10+1","v":4},4,null,null,null,null,null,null,null,null,{"$f":"V10+1","v":4},4,null,null,null,null,null,null,null,null,{"$f":"AF10+1","v":4},4]
[]
[null,{"$f":"B12+1","v":5},5,null,null,null,null,null,null,null,null,{"$f":"L12+1","v":5},5,null,null,null,null,null,null,null,null,{"$f":"V12+1","v":5},5,null,null,null,null,null,null,null,null,{"$f":"AF12+1","v":5},5]
[]
[null,{"$f":"B14+1","v":6},6,null,null,null,null,null,null,null,null,{"$f":"L14+1","v":6},6,null,null,null,null,null,null,null,null,{"$f":"V14+1","v":6},6,null,null,null,null,null,null,null,null,{"$f":"AF14+1","v":6},6]
[]
[null,{"$f":"B16+1","v":7},7,null,null,null,null,null,null,null,null,{"$f":"L16+1","v":7},7,null,null,null,null,null,null,null,null,{"$f":"V16+1","v":7},7,null,null,null,null,null,null,null,null,{"$f":"AF16+1","v":7},7]
[]
[null,{"$f":"B18+1","v":8},8,null,null,null,null,null,null,null,null,{"$f":"L18+1","v":8},8,null,null,null,null,null,null,null,null,{"$f":"V18+1","v":8},8,null,null,null,null,null,null,null,null,{"$f":"AF18+1","v":8},8]
[]
[null,{"$f":"B20+1","v":9},9,null,null,null,null,null,null,null,null,{"$f":"L20+1","v":9},9,null,null,null,null,null,null,null,null,{"$f":"V20+1","v":9},9,null,null,null,null,null,null,null,null,{"$f":"AF20+1","v":9},9]
[]
[null,{"$f":"B22+1","v":10},10,null,null,null,null,null,null,null,null,{"$f":"L22+1","v":10},10,null,null,null,null,null,null,null,null,{"$f":"V22+1","v":10},10,null,null,null,null,null,null,null,null,{"$f":"AF22+1","v":10},10]
[]
[null,{"$f":"B24+1","v":11},11,null,null,null,null,null,null,null,null,{"$f":"L24+1","v":11},11,null,null,null,null,null,null,null,null,{"$f":"V24+1","v":11},11,null,null,null,null,null,null,null,null,{"$f":"AF24+1","v":11},11]
[]
[null,{"$f":"B26+1","v":12},12,null,null,null,null,null,null,null,null,{"$f":"L26+1","v":12},12,null,null,null,null,null,null,null,null,{"$f":"V26+1","v":12},12,null,null,null,null,null,null,null,null,{"$f":"AF26+1","v":12},12]
[]
[null,{"$f":"B28+1","v":13},13,null,null,null,null,null,null,null,null,{"$f":"L28+1","v":13},13,null,null,null,null,null,null,null,null,{"$f":"V28+1","v":13},13,null,null,null,null,null,null,null,null,{"$f":"AF28+1","v":13},13]
[]
[null,{"$f":"B30+1","v":14},14,null,null,null,null,null,null,null,null,{"$f":"L30+1","v":14},14,null,null,null,null,null,null,null,null,{"$f":"V30+1","v":14},14,null,null,null,null,null,null,null,null,{"$f":"AF30+1","v":14},14]
[]
[null,{"$f":"B32+1","v":15},15,null,null,null,null,null,null,null,null,{"$f":"L32+1","v":15},15,null,null,null,null,null,null,null,null,{"$f":"V32+1","v":15},15,null,null,null,null,null,null,null,null,{"$f":"AF32+1","v":15},15]
[]
[null,{"$f":"B34+1","v":16},16,null,null,null,null,null,null,null,null,{"$f":"L34+1","v":16},16,null,null,null,null,null,null,null,null,{"$f":"V34+1","v":16},16,null,null,null,null,null,null,null,null,{"$f":"AF34+1","v":16},16]
[]
[null,{"$f":"B36+1","v":17},17,null,null,null,null,null,null,null,null,{"$f":"L36+1","v":17},17,null,null,null,null,null,null,null,null,{"$f":"V36+1","v":17},17,null,null,null,null,null,null,null,null,{"$f":"AF36+1","v":17},17]
[]
[null,{"$f":"B38+1","v":18},18,null,null,null,null,null,null,null,null,{"$f":"L38+1","v":18},18,null,null,null,null,null,null,null,null,{"$f":"V38+1","v":18},18,null,null,null,null,null,null,null,null,{"$f":"AF38+1","v":18},18]
[]
[null,{"$f":"B40+1","v":19},19,null,null,null,null,null,null,null,null,{"$f":"L40+1","v":19},19,null,null,null,null,null,null,null,null,{"$f":"V40+1","v":19},19,null,null,null,null,null,null,null,null,{"$f":"AF40+1","v":19},19]
[]
[null,{"$f":"B42+1","v":20},20,null,null,null,null,null,null,null,null,{"$f":"L42+1","v":20},20,null,null,null,null,null,null,null,null,{"$f":"V42+1","v":20},20,null,null,null,null,null,null,null,null,{"$f":"AF42+1","v":20},20]
[]
[null,{"$f":"B44+1","v":21},21,null,null,null,null,null,null,null,null,{"$f":"L44+1","v":21},21,null,null,null,null,null,null,null,null,{"$f":"V44+1","v":21},21,null,null,null,null,null,null,null,null,{"$f":"AF44+1","v":21},21]
[]
[null,{"$f":"B46+1","v":22},22,null,null,null,null,null,null,null,null,{"$f":"L46+1","v":22},22,null,null,null,null,null,null,null,null,{"$f":"V46+1","v":22},22,null,null,null,null,null,null,null,null,{"$f":"AF46+1","v":22},22]
[]
[null,{"$f":"B48+1","v":23},23,null,null,null,null,null,null,null,null,{"$f":"L48+1","v":23},23,null,null,null,null,null,null,null,null,{"$f":"V48+1","v":23},23,null,null,null,null,null,null,null,null,{"$f":"AF48+1","v":23},23]
[]
[null,{"$f":"B50+1","v":24},24,null,null,null,null,null,null,null,null,{"$f":"L50+1","v":24},24,null,null,null,null,null,null,null,null,{"$f":"V50+1","v":24},24,null,null,null,null,null,null,null,null,{"$f":"AF50+1","v":24},24]
[]
[null,{"$f":"B52+1","v":25},25,null,null,null,null,null,null,null,null,{"$f":"L52+1","v":25},25,null,null,null,null,null,null,null,null,{"$f":"V52+1","v":25},25,null,null,null,null,null,null,null,null,{"$f":"AF52+1","v":25},25]
[]
[null,{"$f":"B54+1","v":26},26,null,null,null,null,null,null,null,null,{"$f":"L54+1","v":26},26,null,null,null,null,null,null,null,null,{"$f":"V54+1","v":26},26,null,null,null,null,null,null,null,null,{"$f":"AF54+1","v":26},26]
[]
[null,{"$f":"B56+1","v":27},27,null,null,null,null,null,null,null,null,{"$f":"L56+1","v":27},27,null,null,null,null,null,null,null,null,{"$f":"V56+1","v":27},27,null,null,null,null,null,null,null,null,{"$f":"AF56+1","v":27},27]
[]
[null,{"$f":"B58+1","v":28},28,null,null,null,null,null,null,null,null,{"$f":"L58+1","v":28},28,null,null,null,null,null,null,null,null,{"$f":"V58+1","v":28},28,null,null,null,null,null,null,null,null,{"$f":"AF58+1","v":28},28]
[]
[null,{"$f":"B60+1","v":29},29,null,null,null,null,null,null,null,null,{"$f":"L60+1","v":29},29,null,null,null,null,null,null,null,null,{"$f":"V60+1","v":29},29,null,null,null,null,null,null,null,null,{"$f":"AF60+1","v":29},29]
[]
[null,{"$f":"B62+1","v":30},30,null,null,null,null,null,null,null,null,{"$f":"L62+1","v":30},30,null,null,null,null,null,null,null,null,{"$f":"V62+1","v":30},30,null,null,null,null,null,null,null,null,{"$f":"AF62+1","v":30},30]
[]
[null,{"$f":"B64+1","v":31},31,null,null,null,null,null,null,null,null,{"$f":"L64+1","v":31},31,null,null,null,null,null,null,null,null,{"$f":"V64+1","v":31},31,null,null,null,null,null,null,null,null,{"$f":"AF64+1","v":31},31]
[]
[null,{"$f":"B66+1","v":32},32,null,null,null,null,null,null,null,null,{"$f":"L66+1","v":32},32,null,null,null,null,null,null,null,null,{"$f":"V66+1","v":32},32,null,null,null,null,null,null,null,null,{"$f":"AF66+1","v":32},32]
[]
[null,{"$f":"B68+1","v":33},33,null,null,null,null,null,null,null,null,{"$f":"L68+1","v":33},33,null,null,null,null,null,null,null,null,{"$f":"V68+1","v":33},33,null,null,null,null,null,null,null,null,{"$f":"AF68+1","v":33},33]
[]
[null,{"$f":"B70+1","v":34},34,null,null,null,null,null,null,null,null,{"$f":"L70+1","v":34},34,null,null,null,null,null,null,null,null,{"$f":"V70+1","v":34},34,null,null,null,null,null,null,null,null,{"$f":"AF70+1","v":34},34]
[]
[null,{"$f":"B72+1","v":35},35,null,null,null,null,null,null,null,null,{"$f":"L72+1","v":35},35,null,null,null,null,null,null,null,null,{"$f":"V72+1","v":35},35,null,null,null,null,null,null,null,null,{"$f":"AF72+1","v":35},35]
[]
[null,{"$f":"B74+1","v":36},36,null,null,null,null,null,null,null,null,{"$f":"L74+1","v":36},36,null,null,null,null,null,null,null,null,{"$f":"V74+1","v":36},36,null,null,null,null,null,null,null,null,{"$f":"AF74+1","v":36},36]
[]
[null,{"$f":"B76+1","v":37},37,null,null,null,null,null,null,null,null,{"$f":"L76+1","v":37},37,null,null,null,null,null,null,null,null,{"$f":"V76+1","v":37},37,null,null,null,null,null,null,null,null,{"$f":"AF76+1","v":37},37]
[]
[null,{"$f":"B78+1","v":38},38,null,null,null,null,null,null,null,null,{"$f":"L78+1","v":38},38,null,null,null,null,null,null,null,null,{"$f":"V78+1","v":38},38,null,null,null,null,null,null,null,null,{"$f":"AF78+1","v":38},38]
[]
[null,{"$f":"B80+1","v":39},39,null,null,null,null,null,null,null,null,{"$f":"L80+1","v":39},39,null,null,null,null,null,null,null,null,{"$f":"V80+1","v":39},39,null,null,null,null,null,null,null,null,{"$f":"AF80+1","v":39},39]
[]
[null,{"$f":"B82+1","v":40},40,null,null,null,null,null,null,null,null,{"$f":"L82+1","v":40},40,null,null,null,null,null,null,null,null,{"$f":"V82+1","v":40},40,null,null,null,null,null,null,null,null,{"$f":"AF82+1","v":40},40]
[]
[null,{"$f":"B84+1","v":41},41,null,null,null,null,null,null,null,null,{"$f":"L84+1","v":41},41,null,null,null,null,null,null,null,null,{"$f":"V84+1","v":41},41,null,null,null,null,null,null,null,null,{"$f":"AF84+1","v":41},41]
[]
[null,{"$f":"B86+1","v":42},42,null,null,null,null,null,null,null,null,{"$f":"L86+1","v":42},42,null,null,null,null,null,null,null,null,{"$f":"V86+1","v":42},42,null,null,null,null,null,null,null,null,{"$f":"AF86+1","v":42},42]
[]
[null,{"$f":"B88+1","v":43},43,null,null,null,null,null,null,null,null,{"$f":"L88+1","v":43},43,null,null,null,null,null,null,null,null,{"$f":"V88+1","v":43},43,null,null,null,null,null,null,null,null,{"$f":"AF88+1","v":43},43]
[]
[null,{"$f":"B90+1","v":44},44,null,null,null,null,null,null,null,null,{"$f":"L90+1","v":44},44,null,null,null,null,null,null,null,null,{"$f":"V90+1","v":44},44,null,null,null,null,null,null,null,null,{"$f":"AF90+1","v":44},44]
[]
[null,{"$f":"B92+1","v":45},45,null,null,null,null,null,null,null,null,{"$f":"L92+1","v":45},45,null,null,null,null,null,null,null,null,{"$f":"V92+1","v":45},45,null,null,null,null,null,null,null,null,{"$f":"AF92+1","v":45},45]
[]
[null,{"$f":"B94+1","v":46},46,null,null,null,null,null,null,null,null,{"$f":"L94+1","v":46},46,null,null,null,null,null,null,null,null,{"$f":"V94+1","v":46},46,null,null,null,null,null,null,null,null,{"$f":"AF94+1","v":46},46]
[]
[null,{"$f":"B96+1","v":47},47,null,null,null,null,null,null,null,null,{"$f":"L96+1","v":47},47,null,null,null,null,null,null,null,null,{"$f":"V96+1","v":47},47,null,null,null,null,null,null,null,null,{"$f":"AF96+1","v":47},47]
[]
[null,{"$f":"B98+1","v":48},48,null,null,null,null,null,null,null,null,{"$f":"L98+1","v":48},48,null,null,null,null,null,null,null,null,{"$f":"V98+1","v":48},48,null,null,null,null,null,null,null,null,{"$f":"AF98+1","v":48},48]
[]
[null,{"$f":"B100+1","v":49},49,null,null,null,null,null,null,null,null,{"$f":"L100+1","v":49},49,null,null,null,null,null,null,null,null,{"$f":"V100+1","v":49},49,null,null,null,null,null,null,null,null,{"$f":"AF100+1","v":49},49]
[]
[null,{"$f":"B102+1","v":50},50,null,null,null,null,null,null,null,null,{"$f":"L102+1","v":50},50,null,null,null,null,null,null,null,null,{"$f":"V102+1","v":50},50,null,null,null,null,null,null,null,null,{"$f":"AF102+1","v":50},50]
[]
[null,{"$f":"B104+1","v":51},51,null,null,null,null,null,null,null,null,{"$f":"L104+1","v":51},51,null,null,null,null,null,null,null,null,{"$f":"V104+1","v":51},51,null,null,null,null,null,null,null,null,{"$f":"AF104+1","v":51},51]
[]
[null,{"$f":"B106+1","v":52},52,null,null,null,null,null,null,null,null,{"$f":"L106+1","v":52},52,null,null,null,null,null,null,null,null,{"$f":"V106+1","v":52},52,null,null,null,null,null,null,null,null,{"$f":"AF106+1","v":52},52]
[]
[null,{"$f":"B108+1","v":53},53,null,null,null,null,null,null,null,null,{"$f":"L108+1","v":53},53,null,null,null,null,null,null,null,null,{"$f":"V108+1","v":53},53,null,null,null,null,null,null,null,null,{"$f":"AF108+1","v":53},53]
[]
[null,{"$f":"B110+1","v":54},54,null,null,null,null,null,null,null,null,{"$f":"L110+1","v":54},54,null,null,null,null,null,null,null,null,{"$f":"V110+1","v":54},54,null,null,null,null,null,null,null,null,{"$f":"AF110+1","v":54},54]
[]
[null,{"$f":"B112+1","v":55},55,null,null,null,null,null,null,null,null,{"$f":"L112+1","v":55},55,null,null,null,null,null,null,null,null,{"$f":"V112+1","v":55},55,null,null,null,null,null,null,null,null,{"$f":"AF112+1","v":55},55]
[]
[null,{"$f":"B114+1","v":56},56,null,null,null,null,null,null,null,null,{"$f":"L114+1","v":56},56,null,null,null,null,null,null,null,null,{"$f":"V114+1","v":56},56,null,null,null,null,null,null,null,null,{"$f":"AF114+1","v":56},56]
[]
[null,{"$f":"B116+1","v":57},57,null,null,null,null,null,null,null,null,{"$f":"L116+1","v":57},57,null,null,null,null,null,null,null,null,{"$f":"V116+1","v":57},57,null,null,null,null,null,null,null,null,{"$f":"AF116+1","v":57},57]
[]
[null,{"$f":"B118+1","v":58},58,null,null,null,null,null,null,null,null,{"$f":"L118+1","v":58},58,null,null,null,null,null,null,null,null,{"$f":"V118+1","v":58},58,null,null,null,null,null,null,null,null,{"$f":"AF118+1","v":58},58]
[]
[null,{"$f":"B120+1","v":59},59,null,null,null,null,null,null,null,null,{"$f":"L120+1","v":59},59,null,null,null,null,null,null,null,null,{"$f":"V120+1","v":59},59,null,null,null,null,null,null,null,null,{"$f":"AF120+1","v":59},59]
[]
[null,{"$f":"B122+1","v":60},60,null,null,null,null,null,null,null,null,{"$f":"L122+1","v":60},60,null,null,null,null,null,null,null,null,{"$f":"V122+1","v":60},60,null,null,null,null,null,null,null,null,{"$f":"AF122+1","v":60},60]
[]
[null,{"$f":"B124+1","v":61},61,null,null,null,null,null,null,null,null,{"$f":"L124+1","v":61},61,null,null,null,null,null,null,null,null,{"$f":"V124+1","v":61},61,null,null,null,null,null,null,null,null,{"$f":"AF124+1","v":61},61]
[]
[null,{"$f":"B126+1","v":62},62,null,null,null,null,null,null,null,null,{"$f":"L126+1","v":62},62,null,null,null,null,null,null,null,null,{"$f":"V126+1","v":62},62,null,null,null,null,null,null,null,null,{"$f":"AF126+1","v":62},62]
[]
[null,{"$f":"B128+1","v":63},63,null,null,null,null,null,null,null,null,{"$f":"L128+1","v":63},63,null,null,null,null,null,null,null,null,{"$f":"V128+1","v":63},63,null,null,null,null,null,null,null,null,{"$f":"AF128+1","v":63},63]
[]
[null,{"$f":"B130+1","v":64},64,null,null,null,null,null,null,null,null,{"$f":"L130+1","v":64},64,null,null,null,null,null,null,null,null,{"$f":"V130+1","v":64},64,null,null,null,null,null,null,null,null,{"$f":"AF130+1","v":64},64]
[]
[null,{"$f":"B132+1","v":65},65,null,null,null,null,null,null,null,null,{"$f":"L132+1","v":65},65,null,null,null,null,null,null,null,null,{"$f":"V132+1","v":65},65,null,null,null,null,null,null,null,null,{"$f":"AF132+1","v":65},65]
[]
[null,{"$f":"B134+1","v":66},66,null,null,null,null,null,null,null,null,{"$f":"L134+1","v":66},66,null,null,null,null,null,null,null,null,{"$f":"V134+1","v":66},66,null,null,null,null,null,null,null,null,{"$f":"AF134+1","v":66},66]
[]
[null,{"$f":"B136+1","v":67},67,null,null,null,null,null,null,null,null,{"$f":"L136+1","v":67},67,null,null,null,null,null,null,null,null,{"$f":"V136+1","v":67},67,null,null,null,null,null,null,null,null,{"$f":"AF136+1","v":67},67]
[]
[null,{"$f":"B138+1","v":68},68,null,null,null,null,null,null,null,null,{"$f":"L138+1","v":68},68,null,null,null,null,null,null,null,null,{"$f":"V138+1","v":68},68,null,null,null,null,null,null,null,null,{"$f":"AF138+1","v":68},68]
[]
[null,{"$f":"B140+1","v":69},69,null,null,null,null,null,null,null,null,{"$f":"L140+1","v":69},69,null,null,null,null,null,null,null,null,{"$f":"V140+1","v":69},69,null,null,null,null,null,null,null,null,{"$f":"AF140+1","v":69},69]
[]
[null,{"$f":"B142+1","v":70},70,null,null,null,null,null,null,null,null,{"$f":"L142+1","v":70},70,null,null,null,null,null,null,null,null,{"$f":"V142+1","v":70},70,null,null,null,null,null,null,null,null,{"$f":"AF142+1","v":70},70]
[]
[null,{"$f":"B144+1","v":71},71,null,null,null,null,null,null,null,null,{"$f":"L144+1","v":71},71,null,null,null,null,null,null,null,null,{"$f":"V144+1","v":71},71,null,null,null,null,null,null,null,null,{"$f":"AF144+1","v":71},71]
[]
[null,{"$f":"B146+1","v":72},72,null,null,null,null,null,null,null,null,{"$f":"L146+1","v":72},72,null,null,null,null,null,null,null,null,{"$f":"V146+1","v":72},72,null,null,null,null,null,null,null,null,{"$f":"AF146+1","v":72},72]
[]
[null,{"$f":"B148+1","v":73},73,null,null,null,null,null,null,null,null,{"$f":"L148+1","v":73},73,null,null,null,null,null,null,null,null,{"$f":"V148+1","v":73},73,null,null,null,null,null,null,null,null,{"$f":"AF148+1","v":73},73]
[]
[null,{"$f":"B150+1","v":74},74,null,null,null,null,null,null,null,null,{"$f":"L150+1","v":74},74,null,null,null,null,null,null,null,null,{"$f":"V150+1","v":74},74,null,null,null,null,null,null,null,null,{"$f":"AF150+1","v":74},74]
[]
[null,{"$f":"B152+1","v":75},75,null,null,null,null,null,null,null,null,{"$f":"L152+1","v":75},75,null,null,null,null,null,null,null,null,{"$f":"V152+1","v":75},75,null,null,null,null,null,null,null,null,{"$f":"AF152+1","v":75},75]
[]
[null,{"$f":"B154+1","v":76},76,null,null,null,null,null,null,null,null,{"$f":"L154+1","v":76},76,null,null,null,null,null,null,null,null,{"$f":"V154+1","v":76},76,null,null,null,null,null,null,null,null,{"$f":"AF154+1","v":76},76]
[]
[null,{"$f":"B156+1","v":77},77,null,null,null,null,null,null,null,null,{"$f":"L156+1","v":77},77,null,null,null,null,null,null,null,null,{"$f":"V156+1","v":77},77,null,null,null,null,null,null,null,null,{"$f":"AF156+1","v":77},77]
[]
[null,{"$f":"B158+1","v":78},78,null,null,null,null,null,null,null,null,{"$f":"L158+1","v":78},78,null,null,null,null,null,null,null,null,{"$f":"V158+1","v":78},78,null,null,null,null,null,null,null,null,{"$f":"AF158+1","v":78},78]
[]
[null,{"$f":"B160+1","v":79},79,null,null,null,null,null,null,null,null,{"$f":"L160+1","v":79},79,null,null,null,null,null,null,null,null,{"$f":"V160+1","v":79},79,null,null,null,null,null,null,null,null,{"$f":"AF160+1","v":79},79]
[]
[null,80,80,null,null,null,null,null,null,null,null,80,80,null,null,null,null,null,null,null,null,80,80,null,null,null,null,null,null,null,null,80,80]

{"sheet":"Atl3","index":27,"n_rows":164,"n_cols":39,"rows_kept":164,"cut":false,"hidden":true,"merged":[[163,33,164,33],[163,34,164,34],[163,35,164,35],[163,36,164,36],[163,37,164,37],[163,38,164,38],[163,25,164,25],[163,26,164,26],[163,27,164,27],[163,28,164,28],[163,31,164,31],[163,32,164,32],[163,17,164,17],[163,18,164,18],[163,21,164,21],[163,22,164,22],[163,23,164,23],[163,24,164,24],[163,11,164,11],[163,12,164,12],[163,13,164,13],[163,14,164,14],[163,15,164,15],[163,16,164,16],[161,37,162,37],[161,38,162,38],[163,1,164,1],[163,2,164,2],[163,3,164,3],[163,4,164,4],[163,5,164,5],[163,6,164,6],[163,7,164,7],[163,8,164,8],[161,31,162,31],[161,32,162,32],[161,33,162,33],[161,34,162,34],[161,35,162,35],[161,36,162,36],[161,23,162,23],[161,24,162,24],[161,25,162,25],[161,26,162,26],[161,27,162,27],[161,28,162,28],[161,15,162,15],[161,16,162,16],[161,17,162,17],[161,18,162,18],[161,21,162,21],[161,22,162,22],[161,7,162,7],[161,8,162,8],[161,11,162,11],[161,12,162,12],[161,13,162,13],[161,14,162,14],[161,1,162,1],[161,2,162,2],[161,3,162,3],[161,4,162,4],[161,5,162,5],[161,6,162,6],[159,33,160,33],[159,34,160,34],[159,35,160,35],[159,36,160,36],[159,37,160,37],[159,38,160,38],[159,25,160,25],[159,26,160,26],[159,27,160,27],[159,28,160,28],[159,31,160,31],[159,32,160,32],[159,17,160,17],[159,18,160,18],[159,21,160,21],[159,22,160,22],[159,23,160,23],[159,24,160,24],[159,11,160,11],[159,12,160,12],[159,13,160,13],[159,14,160,14],[159,15,160,15],[159,16,160,16],[157,37,158,37],[157,38,158,38],[159,1,160,1],[159,2,160,2],[159,3,160,3],[159,4,160,4],[159,5,160,5],[159,6,160,6],[159,7,160,7],[159,8,160,8],[157,31,158,31],[157,32,158,32],[157,33,158,33],[157,34,158,34],[157,35,158,35],[157,36,158,36],[157,23,158,23],[157,24,158,24],[157,25,158,25],[157,26,158,26],[157,27,158,27],[157,28,158,28],[157,15,158,15],[157,16,158,16],[157,17,158,17],[157,18,158,18],[157,21,158,21],[157,22,158,22],[157,7,158,7],[157,8,158,8],[157,11,158,11],[157,12,158,12],[157,13,158,13],[157,14,158,14],[157,1,158,1],[157,2,158,2],[157,3,158,3],[157,4,158,4],[157,5,158,5],[157,6,158,6],[155,33,156,33],[155,34,156,34],[155,35,156,35],[155,36,156,36],[155,37,156,37],[155,38,156,38],[155,25,156,25],[155,26,156,26],[155,27,156,27],[155,28,156,28],[155,31,156,31],[155,32,156,32],[155,17,156,17],[155,18,156,18],[155,21,156,21],[155,22,156,22],[155,23,156,23],[155,24,156,24],[155,11,156,11],[155,12,156,12],[155,13,156,13],[155,14,156,14],[155,15,156,15],[155,16,156,16],[153,37,154,37],[153,38,154,38],[155,1,156,1],[155,2,156,2],[155,3,156,3],[155,4,156,4],[155,5,156,5],[155,6,156,6],[155,7,156,7],[155,8,156,8],[153,31,154,31],[153,32,154,32],[153,33,154,33],[153,34,154,34],[153,35,154,35],[153,36,154,36],[153,23,154,23],[153,24,154,24],[153,25,154,25],[153,26,154,26],[153,27,154,27],[153,28,154,28],[153,15,154,15],[153,16,154,16],[153,17,154,17],[153,18,154,18],[153,21,154,21],[153,22,154,22],[153,7,154,7],[153,8,154,8],[153,11,154,11],[153,12,154,12],[153,13,154,13],[153,14,154,14],[153,1,154,1],[153,2,154,2],[153,3,154,3],[153,4,154,4],[153,5,154,5],[153,6,154,6],[151,33,152,33],[151,34,152,34],[151,35,152,35],[151,36,152,36],[151,37,152,37],[151,38,152,38],[151,25,152,25],[151,26,152,26],[151,27,152,27],[151,28,152,28],[151,31,152,31],[151,32,152,32],[151,17,152,17],[151,18,152,18],[151,21,152,21],[151,22,152,22],[151,23,152,23],[151,24,152,24],[151,11,152,11],[151,12,152,12],[151,13,152,13],[151,14,152,14],[151,15,152,15],[151,16,152,16],[149,37,150,37],[149,38,150,38],[151,1,152,1],[151,2,152,2],[151,3,152,3],[151,4,152,4],[151,5,152,5],[151,6,152,6],[151,7,152,7],[151,8,152,8],[149,31,150,31],[149,32,150,32],[149,33,150,33],[149,34,150,34],[149,35,150,35],[149,36,150,36],[149,23,150,23],[149,24,150,24],[149,25,150,25],[149,26,150,26],[149,27,150,27],[149,28,150,28],[149,15,150,15],[149,16,150,16],[149,17,150,17],[149,18,150,18],[149,21,150,21],[149,22,150,22],[149,7,150,7],[149,8,150,8],[149,11,150,11],[149,12,150,12],[149,13,150,13],[149,14,150,14],[149,1,150,1],[149,2,150,2],[149,3,150,3],[149,4,150,4],[149,5,150,5],[149,6,150,6],[147,33,148,33],[147,34,148,34],[147,35,148,35],[147,36,148,36],[147,37,148,37],[147,38,148,38],[147,25,148,25],[147,26,148,26],[147,27,148,27],[147,28,148,28],[147,31,148,31],[147,32,148,32],[147,17,148,17],[147,18,148,18],[147,21,148,21],[147,22,148,22],[147,23,148,23],[147,24,148,24],[147,11,148,11],[147,12,148,12],[147,13,148,13],[147,14,148,14],[147,15,148,15],[147,16,148,16],[145,37,146,37],[145,38,146,38],[147,1,148,1],[147,2,148,2],[147,3,148,3],[147,4,148,4],[147,5,148,5],[147,6,148,6],[147,7,148,7],[147,8,148,8],[145,31,146,31],[145,32,146,32],[145,33,146,33],[145,34,146,34],[145,35,146,35],[145,36,146,36],[145,23,146,23],[145,24,146,24],[145,25,146,25],[145,26,146,26],[145,27,146,27],[145,28,146,28],[145,15,146,15],[145,16,146,16],[145,17,146,17],[145,18,146,18],[145,21,146,21],[145,22,146,22],[145,7,146,7],[145,8,146,8],[145,11,146,11],[145,12,146,12],[145,13,146,13],[145,14,146,14],[145,1,146,1],[145,2,146,2],[145,3,146,3],[145,4,146,4],[145,5,146,5],[145,6,146,6],[143,33,144,33],[143,34,144,34],[143,35,144,35],[143,36,144,36],[143,37,144,37],[143,38,144,38],[143,25,144,25],[143,26,144,26],[143,27,144,27],[143,28,144,28],[143,31,144,31],[143,32,144,32],[143,17,144,17],[143,18,144,18],[143,21,144,21],[143,22,144,22],[143,23,144,23],[143,24,144,24],[143,11,144,11],[143,12,144,12],[143,13,144,13],[143,14,144,14],[143,15,144,15],[143,16,144,16],[141,37,142,37],[141,38,142,38],[143,1,144,1],[143,2,144,2],[143,3,144,3],[143,4,144,4],[143,5,144,5],[143,6,144,6],[143,7,144,7],[143,8,144,8],[141,31,142,31],[141,32,142,32],[141,33,142,33],[141,34,142,34],[141,35,142,35],[141,36,142,36],[141,23,142,23],[141,24,142,24],[141,25,142,25],[141,26,142,26],[141,27,142,27],[141,28,142,28],[141,15,142,15],[141,16,142,16],[141,17,142,17],[141,18,142,18],[141,21,142,21],[141,22,142,22],[141,7,142,7],[141,8,142,8],[141,11,142,11],[141,12,142,12],[141,13,142,13],[141,14,142,14],[141,1,142,1],[141,2,142,2],[141,3,142,3],[141,4,142,4],[141,5,142,5],[141,6,142,6],[139,33,140,33],[139,34,140,34],[139,35,140,35],[139,36,140,36],[139,37,140,37],[139,38,140,38],[139,25,140,25],[139,26,140,26],[139,27,140,27],[139,28,140,28],[139,31,140,31],[139,32,140,32],[139,17,140,17],[139,18,140,18],[139,21,140,21],[139,22,140,22],[139,23,140,23],[139,24,140,24],[139,11,140,11],[139,12,140,12],[139,13,140,13],[139,14,140,14],[139,15,140,15],[139,16,140,16],[137,37,138,37],[137,38,138,38],[139,1,140,1],[139,2,140,2],[139,3,140,3],[139,4,140,4],[139,5,140,5],[139,6,140,6],[139,7,140,7],[139,8,140,8],[137,31,138,31],[137,32,138,32],[137,33,138,33],[137,34,138,34],[137,35,138,35],[137,36,138,36],[137,23,138,23],[137,24,138,24],[137,25,138,25],[137,26,138,26],[137,27,138,27],[137,28,138,28],[137,15,138,15],[137,16,138,16],[137,17,138,17],[137,18,138,18],[137,21,138,21],[137,22,138,22],[137,7,138,7],[137,8,138,8],[137,11,138,11],[137,12,138,12],[137,13,138,13],[137,14,138,14],[137,1,138,1],[137,2,138,2],[137,3,138,3],[137,4,138,4],[137,5,138,5],[137,6,138,6],[135,33,136,33],[135,34,136,34],[135,35,136,35],[135,36,136,36],[135,37,136,37],[135,38,136,38],[135,25,136,25],[135,26,136,26],[135,27,136,27],[135,28,136,28],[135,31,136,31],[135,32,136,32],[135,17,136,17],[135,18,136,18],[135,21,136,21],[135,22,136,22],[135,23,136,23],[135,24,136,24],[135,11,136,11],[135,12,136,12],[135,13,136,13],[135,14,136,14],[135,15,136,15],[135,16,136,16],[133,37,134,37],[133,38,134,38],[135,1,136,1],[135,2,136,2],[135,3,136,3],[135,4,136,4],[135,5,136,5],[135,6,136,6],[135,7,136,7],[135,8,136,8],[133,31,134,31],[133,32,134,32],[133,33,134,33],[133,34,134,34],[133,35,134,35],[133,36,134,36],[133,23,134,23],[133,24,134,24],[133,25,134,25],[133,26,134,26],[133,27,134,27],[133,28,134,28],[133,15,134,15],[133,16,134,16],[133,17,134,17],[133,18,134,18],[133,21,134,21],[133,22,134,22],[133,7,134,7],[133,8,134,8],[133,11,134,11],[133,12,134,12],[133,13,134,13],[133,14,134,14],[133,1,134,1],[133,2,134,2],[133,3,134,3],[133,4,134,4],[133,5,134,5],[133,6,134,6],[131,33,132,33],[131,34,132,34],[131,35,132,35],[131,36,132,36],[131,37,132,37],[131,38,132,38],[131,25,132,25],[131,26,132,26],[131,27,132,27],[131,28,132,28],[131,31,132,31],[131,32,132,32],[131,17,132,17],[131,18,132,18],[131,21,132,21],[131,22,132,22],[131,23,132,23],[131,24,132,24],[131,11,132,11],[131,12,132,12],[131,13,132,13],[131,14,132,14],[131,15,132,15],[131,16,132,16],[129,37,130,37],[129,38,130,38],[131,1,132,1],[131,2,132,2],[131,3,132,3],[131,4,132,4],[131,5,132,5],[131,6,132,6],[131,7,132,7],[131,8,132,8],[129,31,130,31],[129,32,130,32],[129,33,130,33],[129,34,130,34],[129,35,130,35],[129,36,130,36],[129,23,130,23],[129,24,130,24],[129,25,130,25],[129,26,130,26],[129,27,130,27],[129,28,130,28],[129,15,130,15],[129,16,130,16],[129,17,130,17],[129,18,130,18],[129,21,130,21],[129,22,130,22],[129,7,130,7],[129,8,130,8],[129,11,130,11],[129,12,130,12],[129,13,130,13],[129,14,130,14],[129,1,130,1],[129,2,130,2],[129,3,130,3],[129,4,130,4],[129,5,130,5],[129,6,130,6],[127,33,128,33],[127,34,128,34],[127,35,128,35],[127,36,128,36],[127,37,128,37],[127,38,128,38],[127,25,128,25],[127,26,128,26],[127,27,128,27],[127,28,128,28],[127,31,128,31],[127,32,128,32],[127,17,128,17],[127,18,128,18],[127,21,128,21],[127,22,128,22],[127,23,128,23],[127,24,128,24],[127,11,128,11],[127,12,128,12],[127,13,128,13],[127,14,128,14],[127,15,128,15],[127,16,128,16],[125,37,126,37],[125,38,126,38],[127,1,128,1],[127,2,128,2],[127,3,128,3],[127,4,128,4],[127,5,128,5],[127,6,128,6],[127,7,128,7],[127,8,128,8],[125,31,126,31],[125,32,126,32],[125,33,126,33],[125,34,126,34],[125,35,126,35],[125,36,126,36],[125,23,126,23],[125,24,126,24],[125,25,126,25],[125,26,126,26],[125,27,126,27],[125,28,126,28],[125,15,126,15],[125,16,126,16],[125,17,126,17],[125,18,126,18],[125,21,126,21],[125,22,126,22],[125,7,126,7],[125,8,126,8],[125,11,126,11],[125,12,126,12],[125,13,126,13],[125,14,126,14],[125,1,126,1],[125,2,126,2],[125,3,126,3],[125,4,126,4],[125,5,126,5],[125,6,126,6],[123,33,124,33],[123,34,124,34],[123,35,124,35],[123,36,124,36],[123,37,124,37],[123,38,124,38],[123,25,124,25],[123,26,124,26],[123,27,124,27],[123,28,124,28],[123,31,124,31],[123,32,124,32],[123,17,124,17],[123,18,124,18],[123,21,124,21],[123,22,124,22],[123,23,124,23],[123,24,124,24],[123,11,124,11],[123,12,124,12],[123,13,124,13],[123,14,124,14],[123,15,124,15],[123,16,124,16],[121,37,122,37],[121,38,122,38],[123,1,124,1],[123,2,124,2],[123,3,124,3],[123,4,124,4],[123,5,124,5],[123,6,124,6],[123,7,124,7],[123,8,124,8],[121,31,122,31],[121,32,122,32],[121,33,122,33],[121,34,122,34],[121,35,122,35],[121,36,122,36],[121,23,122,23],[121,24,122,24],[121,25,122,25],[121,26,122,26],[121,27,122,27],[121,28,122,28],[121,15,122,15],[121,16,122,16],[121,17,122,17],[121,18,122,18],[121,21,122,21],[121,22,122,22],[121,7,122,7],[121,8,122,8],[121,11,122,11],[121,12,122,12],[121,13,122,13],[121,14,122,14],[121,1,122,1],[121,2,122,2],[121,3,122,3],[121,4,122,4],[121,5,122,5],[121,6,122,6],[119,33,120,33],[119,34,120,34],[119,35,120,35],[119,36,120,36],[119,37,120,37],[119,38,120,38],[119,25,120,25],[119,26,120,26],[119,27,120,27],[119,28,120,28],[119,31,120,31],[119,32,120,32],[119,17,120,17],[119,18,120,18],[119,21,120,21],[119,22,120,22],[119,23,120,23],[119,24,120,24],[119,11,120,11],[119,12,120,12],[119,13,120,13],[119,14,120,14],[119,15,120,15],[119,16,120,16],[117,37,118,37],[117,38,118,38],[119,1,120,1],[119,2,120,2],[119,3,120,3],[119,4,120,4],[119,5,120,5],[119,6,120,6],[119,7,120,7],[119,8,120,8],[117,31,118,31],[117,32,118,32],[117,33,118,33],[117,34,118,34],[117,35,118,35],[117,36,118,36],[117,23,118,23],[117,24,118,24],[117,25,118,25],[117,26,118,26],[117,27,118,27],[117,28,118,28],[117,15,118,15],[117,16,118,16],[117,17,118,17],[117,18,118,18],[117,21,118,21],[117,22,118,22],[117,7,118,7],[117,8,118,8],[117,11,118,11],[117,12,118,12],[117,13,118,13],[117,14,118,14],[117,1,118,1],[117,2,118,2],[117,3,118,3],[117,4,118,4],[117,5,118,5],[117,6,118,6],[115,33,116,33],[115,34,116,34],[115,35,116,35],[115,36,116,36],[115,37,116,37],[115,38,116,38],[115,25,116,25],[115,26,116,26],[115,27,116,27],[115,28,116,28],[115,31,116,31],[115,32,116,32],[115,17,116,17],[115,18,116,18],[115,21,116,21],[115,22,116,22],[115,23,116,23],[115,24,116,24],[115,11,116,11],[115,12,116,12],[115,13,116,13],[115,14,116,14],[115,15,116,15],[115,16,116,16],[113,37,114,37],[113,38,114,38],[115,1,116,1],[115,2,116,2],[115,3,116,3],[115,4,116,4],[115,5,116,5],[115,6,116,6],[115,7,116,7],[115,8,116,8],[113,31,114,31],[113,32,114,32],[113,33,114,33],[113,34,114,34],[113,35,114,35],[113,36,114,36],[113,23,114,23],[113,24,114,24],[113,25,114,25],[113,26,114,26],[113,27,114,27],[113,28,114,28],[113,15,114,15],[113,16,114,16],[113,17,114,17],[113,18,114,18],[113,21,114,21],[113,22,114,22],[113,7,114,7],[113,8,114,8],[113,11,114,11],[113,12,114,12],[113,13,114,13],[113,14,114,14],[113,1,114,1],[113,2,114,2],[113,3,114,3],[113,4,114,4],[113,5,114,5],[113,6,114,6],[111,33,112,33],[111,34,112,34],[111,35,112,35],[111,36,112,36],[111,37,112,37],[111,38,112,38],[111,25,112,25],[111,26,112,26],[111,27,112,27],[111,28,112,28],[111,31,112,31],[111,32,112,32],[111,17,112,17],[111,18,112,18],[111,21,112,21],[111,22,112,22],[111,23,112,23],[111,24,112,24],[111,11,112,11],[111,12,112,12],[111,13,112,13],[111,14,112,14],[111,15,112,15],[111,16,112,16],[109,37,110,37],[109,38,110,38],[111,1,112,1],[111,2,112,2],[111,3,112,3],[111,4,112,4],[111,5,112,5],[111,6,112,6],[111,7,112,7],[111,8,112,8],[109,31,110,31],[109,32,110,32],[109,33,110,33],[109,34,110,34],[109,35,110,35],[109,36,110,36],[109,23,110,23],[109,24,110,24],[109,25,110,25],[109,26,110,26],[109,27,110,27],[109,28,110,28],[109,15,110,15],[109,16,110,16],[109,17,110,17],[109,18,110,18],[109,21,110,21],[109,22,110,22],[109,7,110,7],[109,8,110,8],[109,11,110,11],[109,12,110,12],[109,13,110,13],[109,14,110,14],[109,1,110,1],[109,2,110,2],[109,3,110,3],[109,4,110,4],[109,5,110,5],[109,6,110,6],[107,33,108,33],[107,34,108,34],[107,35,108,35],[107,36,108,36],[107,37,108,37],[107,38,108,38],[107,25,108,25],[107,26,108,26],[107,27,108,27],[107,28,108,28],[107,31,108,31],[107,32,108,32],[107,17,108,17],[107,18,108,18],[107,21,108,21],[107,22,108,22],[107,23,108,23],[107,24,108,24],[107,11,108,11],[107,12,108,12],[107,13,108,13],[107,14,108,14],[107,15,108,15],[107,16,108,16],[105,37,106,37],[105,38,106,38],[107,1,108,1],[107,2,108,2],[107,3,108,3],[107,4,108,4],[107,5,108,5],[107,6,108,6],[107,7,108,7],[107,8,108,8],[105,31,106,31],[105,32,106,32],[105,33,106,33],[105,34,106,34],[105,35,106,35],[105,36,106,36],[105,23,106,23],[105,24,106,24],[105,25,106,25],[105,26,106,26],[105,27,106,27],[105,28,106,28],[105,15,106,15],[105,16,106,16],[105,17,106,17],[105,18,106,18],[105,21,106,21],[105,22,106,22],[105,7,106,7],[105,8,106,8],[105,11,106,11],[105,12,106,12],[105,13,106,13],[105,14,106,14],[105,1,106,1],[105,2,106,2],[105,3,106,3],[105,4,106,4],[105,5,106,5],[105,6,106,6],[103,33,104,33],[103,34,104,34],[103,35,104,35],[103,36,104,36],[103,37,104,37],[103,38,104,38],[103,25,104,25],[103,26,104,26],[103,27,104,27],[103,28,104,28],[103,31,104,31],[103,32,104,32],[103,17,104,17],[103,18,104,18],[103,21,104,21],[103,22,104,22],[103,23,104,23],[103,24,104,24],[103,11,104,11],[103,12,104,12],[103,13,104,13],[103,14,104,14],[103,15,104,15],[103,16,104,16],[101,37,102,37],[101,38,102,38],[103,1,104,1],[103,2,104,2],[103,3,104,3],[103,4,104,4],[103,5,104,5],[103,6,104,6],[103,7,104,7],[103,8,104,8],[101,31,102,31],[101,32,102,32],[101,33,102,33],[101,34,102,34],[101,35,102,35],[101,36,102,36]],"merged_total":2576,"flags":["merged_cut"]}
[]
[null,null,null,{"$f":"Inf!K5","v":97},"Количество участников",null,{"$f":"COUNTA(D6:D165)","v":0},null,null,null,null,null,null,{"$f":"Inf!K6","v":130},"Количество участников",null,{"$f":"COUNTA(N6:N165)","v":0},null,null,null,null,null,null,{"$f":"Inf!K7","v":0},"Количество участников",null,{"$f":"COUNTA(X6:X165)","v":0},null,null,null,null,null,null,{"$f":"Inf!K8","v":0},"Количество участников",null,{"$f":"COUNTA(AH6:AH165)","v":0}]
[]
[]
[null,"№ п/п","по жребию","Фамилия, имя участника","Регион","ФСО","Разряд, звание","Дата рождения","Ф.И.О. тренера",null,null,"№ п/п","по жребию","Фамилия, имя участника","Регион","ФСО","Разряд, звание","Дата рождения","Ф.И.О. тренера",null,null,"№ п/п","по жребию","Фамилия, имя участника","Регион","ФСО","Разряд, звание","Дата рождения","Ф.И.О. тренера",null,null,"№ п/п","по жребию","Фамилия, имя участника","Регион","ФСО","Разряд, звание","Дата рождения","Ф.И.О. тренера"]
[null,1,1,null,null,null,null,null,null,null,null,1,1,null,null,null,null,null,null,null,null,1,1,null,null,null,null,null,null,null,null,1,1]
[]
[null,{"$f":"B6+1","v":2},2,null,null,null,null,null,null,null,null,{"$f":"L6+1","v":2},2,null,null,null,null,null,null,null,null,{"$f":"V6+1","v":2},2,null,null,null,null,null,null,null,null,{"$f":"AF6+1","v":2},2]
[]
[null,{"$f":"B8+1","v":3},3,null,null,null,null,null,null,null,null,{"$f":"L8+1","v":3},3,null,null,null,null,null,null,null,null,{"$f":"V8+1","v":3},3,null,null,null,null,null,null,null,null,{"$f":"AF8+1","v":3},3]
[]
[null,{"$f":"B10+1","v":4},4,null,null,null,null,null,null,null,null,{"$f":"L10+1","v":4},4,null,null,null,null,null,null,null,null,{"$f":"V10+1","v":4},4,null,null,null,null,null,null,null,null,{"$f":"AF10+1","v":4},4]
[]
[null,{"$f":"B12+1","v":5},5,null,null,null,null,null,null,null,null,{"$f":"L12+1","v":5},5,null,null,null,null,null,null,null,null,{"$f":"V12+1","v":5},5,null,null,null,null,null,null,null,null,{"$f":"AF12+1","v":5},5]
[]
[null,{"$f":"B14+1","v":6},6,null,null,null,null,null,null,null,null,{"$f":"L14+1","v":6},6,null,null,null,null,null,null,null,null,{"$f":"V14+1","v":6},6,null,null,null,null,null,null,null,null,{"$f":"AF14+1","v":6},6]
[]
[null,{"$f":"B16+1","v":7},7,null,null,null,null,null,null,null,null,{"$f":"L16+1","v":7},7,null,null,null,null,null,null,null,null,{"$f":"V16+1","v":7},7,null,null,null,null,null,null,null,null,{"$f":"AF16+1","v":7},7]
[]
[null,{"$f":"B18+1","v":8},8,null,null,null,null,null,null,null,null,{"$f":"L18+1","v":8},8,null,null,null,null,null,null,null,null,{"$f":"V18+1","v":8},8,null,null,null,null,null,null,null,null,{"$f":"AF18+1","v":8},8]
[]
[null,{"$f":"B20+1","v":9},9,null,null,null,null,null,null,null,null,{"$f":"L20+1","v":9},9,null,null,null,null,null,null,null,null,{"$f":"V20+1","v":9},9,null,null,null,null,null,null,null,null,{"$f":"AF20+1","v":9},9]
[]
[null,{"$f":"B22+1","v":10},10,null,null,null,null,null,null,null,null,{"$f":"L22+1","v":10},10,null,null,null,null,null,null,null,null,{"$f":"V22+1","v":10},10,null,null,null,null,null,null,null,null,{"$f":"AF22+1","v":10},10]
[]
[null,{"$f":"B24+1","v":11},11,null,null,null,null,null,null,null,null,{"$f":"L24+1","v":11},11,null,null,null,null,null,null,null,null,{"$f":"V24+1","v":11},11,null,null,null,null,null,null,null,null,{"$f":"AF24+1","v":11},11]
[]
[null,{"$f":"B26+1","v":12},12,null,null,null,null,null,null,null,null,{"$f":"L26+1","v":12},12,null,null,null,null,null,null,null,null,{"$f":"V26+1","v":12},12,null,null,null,null,null,null,null,null,{"$f":"AF26+1","v":12},12]
[]
[null,{"$f":"B28+1","v":13},13,null,null,null,null,null,null,null,null,{"$f":"L28+1","v":13},13,null,null,null,null,null,null,null,null,{"$f":"V28+1","v":13},13,null,null,null,null,null,null,null,null,{"$f":"AF28+1","v":13},13]
[]
[null,{"$f":"B30+1","v":14},14,null,null,null,null,null,null,null,null,{"$f":"L30+1","v":14},14,null,null,null,null,null,null,null,null,{"$f":"V30+1","v":14},14,null,null,null,null,null,null,null,null,{"$f":"AF30+1","v":14},14]
[]
[null,{"$f":"B32+1","v":15},15,null,null,null,null,null,null,null,null,{"$f":"L32+1","v":15},15,null,null,null,null,null,null,null,null,{"$f":"V32+1","v":15},15,null,null,null,null,null,null,null,null,{"$f":"AF32+1","v":15},15]
[]
[null,{"$f":"B34+1","v":16},16,null,null,null,null,null,null,null,null,{"$f":"L34+1","v":16},16,null,null,null,null,null,null,null,null,{"$f":"V34+1","v":16},16,null,null,null,null,null,null,null,null,{"$f":"AF34+1","v":16},16]
[]
[null,{"$f":"B36+1","v":17},17,null,null,null,null,null,null,null,null,{"$f":"L36+1","v":17},17,null,null,null,null,null,null,null,null,{"$f":"V36+1","v":17},17,null,null,null,null,null,null,null,null,{"$f":"AF36+1","v":17},17]
[]
[null,{"$f":"B38+1","v":18},18,null,null,null,null,null,null,null,null,{"$f":"L38+1","v":18},18,null,null,null,null,null,null,null,null,{"$f":"V38+1","v":18},18,null,null,null,null,null,null,null,null,{"$f":"AF38+1","v":18},18]
[]
[null,{"$f":"B40+1","v":19},19,null,null,null,null,null,null,null,null,{"$f":"L40+1","v":19},19,null,null,null,null,null,null,null,null,{"$f":"V40+1","v":19},19,null,null,null,null,null,null,null,null,{"$f":"AF40+1","v":19},19]
[]
[null,{"$f":"B42+1","v":20},20,null,null,null,null,null,null,null,null,{"$f":"L42+1","v":20},20,null,null,null,null,null,null,null,null,{"$f":"V42+1","v":20},20,null,null,null,null,null,null,null,null,{"$f":"AF42+1","v":20},20]
[]
[null,{"$f":"B44+1","v":21},21,null,null,null,null,null,null,null,null,{"$f":"L44+1","v":21},21,null,null,null,null,null,null,null,null,{"$f":"V44+1","v":21},21,null,null,null,null,null,null,null,null,{"$f":"AF44+1","v":21},21]
[]
[null,{"$f":"B46+1","v":22},22,null,null,null,null,null,null,null,null,{"$f":"L46+1","v":22},22,null,null,null,null,null,null,null,null,{"$f":"V46+1","v":22},22,null,null,null,null,null,null,null,null,{"$f":"AF46+1","v":22},22]
[]
[null,{"$f":"B48+1","v":23},23,null,null,null,null,null,null,null,null,{"$f":"L48+1","v":23},23,null,null,null,null,null,null,null,null,{"$f":"V48+1","v":23},23,null,null,null,null,null,null,null,null,{"$f":"AF48+1","v":23},23]
[]
[null,{"$f":"B50+1","v":24},24,null,null,null,null,null,null,null,null,{"$f":"L50+1","v":24},24,null,null,null,null,null,null,null,null,{"$f":"V50+1","v":24},24,null,null,null,null,null,null,null,null,{"$f":"AF50+1","v":24},24]
[]
[null,{"$f":"B52+1","v":25},25,null,null,null,null,null,null,null,null,{"$f":"L52+1","v":25},25,null,null,null,null,null,null,null,null,{"$f":"V52+1","v":25},25,null,null,null,null,null,null,null,null,{"$f":"AF52+1","v":25},25]
[]
[null,{"$f":"B54+1","v":26},26,null,null,null,null,null,null,null,null,{"$f":"L54+1","v":26},26,null,null,null,null,null,null,null,null,{"$f":"V54+1","v":26},26,null,null,null,null,null,null,null,null,{"$f":"AF54+1","v":26},26]
[]
[null,{"$f":"B56+1","v":27},27,null,null,null,null,null,null,null,null,{"$f":"L56+1","v":27},27,null,null,null,null,null,null,null,null,{"$f":"V56+1","v":27},27,null,null,null,null,null,null,null,null,{"$f":"AF56+1","v":27},27]
[]
[null,{"$f":"B58+1","v":28},28,null,null,null,null,null,null,null,null,{"$f":"L58+1","v":28},28,null,null,null,null,null,null,null,null,{"$f":"V58+1","v":28},28,null,null,null,null,null,null,null,null,{"$f":"AF58+1","v":28},28]
[]
[null,{"$f":"B60+1","v":29},29,null,null,null,null,null,null,null,null,{"$f":"L60+1","v":29},29,null,null,null,null,null,null,null,null,{"$f":"V60+1","v":29},29,null,null,null,null,null,null,null,null,{"$f":"AF60+1","v":29},29]
[]
[null,{"$f":"B62+1","v":30},30,null,null,null,null,null,null,null,null,{"$f":"L62+1","v":30},30,null,null,null,null,null,null,null,null,{"$f":"V62+1","v":30},30,null,null,null,null,null,null,null,null,{"$f":"AF62+1","v":30},30]
[]
[null,{"$f":"B64+1","v":31},31,null,null,null,null,null,null,null,null,{"$f":"L64+1","v":31},31,null,null,null,null,null,null,null,null,{"$f":"V64+1","v":31},31,null,null,null,null,null,null,null,null,{"$f":"AF64+1","v":31},31]
[]
[null,{"$f":"B66+1","v":32},32,null,null,null,null,null,null,null,null,{"$f":"L66+1","v":32},32,null,null,null,null,null,null,null,null,{"$f":"V66+1","v":32},32,null,null,null,null,null,null,null,null,{"$f":"AF66+1","v":32},32]
[]
[null,{"$f":"B68+1","v":33},33,null,null,null,null,null,null,null,null,{"$f":"L68+1","v":33},33,null,null,null,null,null,null,null,null,{"$f":"V68+1","v":33},33,null,null,null,null,null,null,null,null,{"$f":"AF68+1","v":33},33]
[]
[null,{"$f":"B70+1","v":34},34,null,null,null,null,null,null,null,null,{"$f":"L70+1","v":34},34,null,null,null,null,null,null,null,null,{"$f":"V70+1","v":34},34,null,null,null,null,null,null,null,null,{"$f":"AF70+1","v":34},34]
[]
[null,{"$f":"B72+1","v":35},35,null,null,null,null,null,null,null,null,{"$f":"L72+1","v":35},35,null,null,null,null,null,null,null,null,{"$f":"V72+1","v":35},35,null,null,null,null,null,null,null,null,{"$f":"AF72+1","v":35},35]
[]
[null,{"$f":"B74+1","v":36},36,null,null,null,null,null,null,null,null,{"$f":"L74+1","v":36},36,null,null,null,null,null,null,null,null,{"$f":"V74+1","v":36},36,null,null,null,null,null,null,null,null,{"$f":"AF74+1","v":36},36]
[]
[null,{"$f":"B76+1","v":37},37,null,null,null,null,null,null,null,null,{"$f":"L76+1","v":37},37,null,null,null,null,null,null,null,null,{"$f":"V76+1","v":37},37,null,null,null,null,null,null,null,null,{"$f":"AF76+1","v":37},37]
[]
[null,{"$f":"B78+1","v":38},38,null,null,null,null,null,null,null,null,{"$f":"L78+1","v":38},38,null,null,null,null,null,null,null,null,{"$f":"V78+1","v":38},38,null,null,null,null,null,null,null,null,{"$f":"AF78+1","v":38},38]
[]
[null,{"$f":"B80+1","v":39},39,null,null,null,null,null,null,null,null,{"$f":"L80+1","v":39},39,null,null,null,null,null,null,null,null,{"$f":"V80+1","v":39},39,null,null,null,null,null,null,null,null,{"$f":"AF80+1","v":39},39]
[]
[null,{"$f":"B82+1","v":40},40,null,null,null,null,null,null,null,null,{"$f":"L82+1","v":40},40,null,null,null,null,null,null,null,null,{"$f":"V82+1","v":40},40,null,null,null,null,null,null,null,null,{"$f":"AF82+1","v":40},40]
[]
[null,{"$f":"B84+1","v":41},41,null,null,null,null,null,null,null,null,{"$f":"L84+1","v":41},41,null,null,null,null,null,null,null,null,{"$f":"V84+1","v":41},41,null,null,null,null,null,null,null,null,{"$f":"AF84+1","v":41},41]
[]
[null,{"$f":"B86+1","v":42},42,null,null,null,null,null,null,null,null,{"$f":"L86+1","v":42},42,null,null,null,null,null,null,null,null,{"$f":"V86+1","v":42},42,null,null,null,null,null,null,null,null,{"$f":"AF86+1","v":42},42]
[]
[null,{"$f":"B88+1","v":43},43,null,null,null,null,null,null,null,null,{"$f":"L88+1","v":43},43,null,null,null,null,null,null,null,null,{"$f":"V88+1","v":43},43,null,null,null,null,null,null,null,null,{"$f":"AF88+1","v":43},43]
[]
[null,{"$f":"B90+1","v":44},44,null,null,null,null,null,null,null,null,{"$f":"L90+1","v":44},44,null,null,null,null,null,null,null,null,{"$f":"V90+1","v":44},44,null,null,null,null,null,null,null,null,{"$f":"AF90+1","v":44},44]
[]
[null,{"$f":"B92+1","v":45},45,null,null,null,null,null,null,null,null,{"$f":"L92+1","v":45},45,null,null,null,null,null,null,null,null,{"$f":"V92+1","v":45},45,null,null,null,null,null,null,null,null,{"$f":"AF92+1","v":45},45]
[]
[null,{"$f":"B94+1","v":46},46,null,null,null,null,null,null,null,null,{"$f":"L94+1","v":46},46,null,null,null,null,null,null,null,null,{"$f":"V94+1","v":46},46,null,null,null,null,null,null,null,null,{"$f":"AF94+1","v":46},46]
[]
[null,{"$f":"B96+1","v":47},47,null,null,null,null,null,null,null,null,{"$f":"L96+1","v":47},47,null,null,null,null,null,null,null,null,{"$f":"V96+1","v":47},47,null,null,null,null,null,null,null,null,{"$f":"AF96+1","v":47},47]
[]
[null,{"$f":"B98+1","v":48},48,null,null,null,null,null,null,null,null,{"$f":"L98+1","v":48},48,null,null,null,null,null,null,null,null,{"$f":"V98+1","v":48},48,null,null,null,null,null,null,null,null,{"$f":"AF98+1","v":48},48]
[]
[null,{"$f":"B100+1","v":49},49,null,null,null,null,null,null,null,null,{"$f":"L100+1","v":49},49,null,null,null,null,null,null,null,null,{"$f":"V100+1","v":49},49,null,null,null,null,null,null,null,null,{"$f":"AF100+1","v":49},49]
[]
[null,{"$f":"B102+1","v":50},50,null,null,null,null,null,null,null,null,{"$f":"L102+1","v":50},50,null,null,null,null,null,null,null,null,{"$f":"V102+1","v":50},50,null,null,null,null,null,null,null,null,{"$f":"AF102+1","v":50},50]
[]
[null,{"$f":"B104+1","v":51},51,null,null,null,null,null,null,null,null,{"$f":"L104+1","v":51},51,null,null,null,null,null,null,null,null,{"$f":"V104+1","v":51},51,null,null,null,null,null,null,null,null,{"$f":"AF104+1","v":51},51]
[]
[null,{"$f":"B106+1","v":52},52,null,null,null,null,null,null,null,null,{"$f":"L106+1","v":52},52,null,null,null,null,null,null,null,null,{"$f":"V106+1","v":52},52,null,null,null,null,null,null,null,null,{"$f":"AF106+1","v":52},52]
[]
[null,{"$f":"B108+1","v":53},53,null,null,null,null,null,null,null,null,{"$f":"L108+1","v":53},53,null,null,null,null,null,null,null,null,{"$f":"V108+1","v":53},53,null,null,null,null,null,null,null,null,{"$f":"AF108+1","v":53},53]
[]
[null,{"$f":"B110+1","v":54},54,null,null,null,null,null,null,null,null,{"$f":"L110+1","v":54},54,null,null,null,null,null,null,null,null,{"$f":"V110+1","v":54},54,null,null,null,null,null,null,null,null,{"$f":"AF110+1","v":54},54]
[]
[null,{"$f":"B112+1","v":55},55,null,null,null,null,null,null,null,null,{"$f":"L112+1","v":55},55,null,null,null,null,null,null,null,null,{"$f":"V112+1","v":55},55,null,null,null,null,null,null,null,null,{"$f":"AF112+1","v":55},55]
[]
[null,{"$f":"B114+1","v":56},56,null,null,null,null,null,null,null,null,{"$f":"L114+1","v":56},56,null,null,null,null,null,null,null,null,{"$f":"V114+1","v":56},56,null,null,null,null,null,null,null,null,{"$f":"AF114+1","v":56},56]
[]
[null,{"$f":"B116+1","v":57},57,null,null,null,null,null,null,null,null,{"$f":"L116+1","v":57},57,null,null,null,null,null,null,null,null,{"$f":"V116+1","v":57},57,null,null,null,null,null,null,null,null,{"$f":"AF116+1","v":57},57]
[]
[null,{"$f":"B118+1","v":58},58,null,null,null,null,null,null,null,null,{"$f":"L118+1","v":58},58,null,null,null,null,null,null,null,null,{"$f":"V118+1","v":58},58,null,null,null,null,null,null,null,null,{"$f":"AF118+1","v":58},58]
[]
[null,{"$f":"B120+1","v":59},59,null,null,null,null,null,null,null,null,{"$f":"L120+1","v":59},59,null,null,null,null,null,null,null,null,{"$f":"V120+1","v":59},59,null,null,null,null,null,null,null,null,{"$f":"AF120+1","v":59},59]
[]
[null,{"$f":"B122+1","v":60},60,null,null,null,null,null,null,null,null,{"$f":"L122+1","v":60},60,null,null,null,null,null,null,null,null,{"$f":"V122+1","v":60},60,null,null,null,null,null,null,null,null,{"$f":"AF122+1","v":60},60]
[]
[null,{"$f":"B124+1","v":61},61,null,null,null,null,null,null,null,null,{"$f":"L124+1","v":61},61,null,null,null,null,null,null,null,null,{"$f":"V124+1","v":61},61,null,null,null,null,null,null,null,null,{"$f":"AF124+1","v":61},61]
[]
[null,{"$f":"B126+1","v":62},62,null,null,null,null,null,null,null,null,{"$f":"L126+1","v":62},62,null,null,null,null,null,null,null,null,{"$f":"V126+1","v":62},62,null,null,null,null,null,null,null,null,{"$f":"AF126+1","v":62},62]
[]
[null,{"$f":"B128+1","v":63},63,null,null,null,null,null,null,null,null,{"$f":"L128+1","v":63},63,null,null,null,null,null,null,null,null,{"$f":"V128+1","v":63},63,null,null,null,null,null,null,null,null,{"$f":"AF128+1","v":63},63]
[]
[null,{"$f":"B130+1","v":64},64,null,null,null,null,null,null,null,null,{"$f":"L130+1","v":64},64,null,null,null,null,null,null,null,null,{"$f":"V130+1","v":64},64,null,null,null,null,null,null,null,null,{"$f":"AF130+1","v":64},64]
[]
[null,{"$f":"B132+1","v":65},65,null,null,null,null,null,null,null,null,{"$f":"L132+1","v":65},65,null,null,null,null,null,null,null,null,{"$f":"V132+1","v":65},65,null,null,null,null,null,null,null,null,{"$f":"AF132+1","v":65},65]
[]
[null,{"$f":"B134+1","v":66},66,null,null,null,null,null,null,null,null,{"$f":"L134+1","v":66},66,null,null,null,null,null,null,null,null,{"$f":"V134+1","v":66},66,null,null,null,null,null,null,null,null,{"$f":"AF134+1","v":66},66]
[]
[null,{"$f":"B136+1","v":67},67,null,null,null,null,null,null,null,null,{"$f":"L136+1","v":67},67,null,null,null,null,null,null,null,null,{"$f":"V136+1","v":67},67,null,null,null,null,null,null,null,null,{"$f":"AF136+1","v":67},67]
[]
[null,{"$f":"B138+1","v":68},68,null,null,null,null,null,null,null,null,{"$f":"L138+1","v":68},68,null,null,null,null,null,null,null,null,{"$f":"V138+1","v":68},68,null,null,null,null,null,null,null,null,{"$f":"AF138+1","v":68},68]
[]
[null,{"$f":"B140+1","v":69},69,null,null,null,null,null,null,null,null,{"$f":"L140+1","v":69},69,null,null,null,null,null,null,null,null,{"$f":"V140+1","v":69},69,null,null,null,null,null,null,null,null,{"$f":"AF140+1","v":69},69]
[]
[null,{"$f":"B142+1","v":70},70,null,null,null,null,null,null,null,null,{"$f":"L142+1","v":70},70,null,null,null,null,null,null,null,null,{"$f":"V142+1","v":70},70,null,null,null,null,null,null,null,null,{"$f":"AF142+1","v":70},70]
[]
[null,{"$f":"B144+1","v":71},71,null,null,null,null,null,null,null,null,{"$f":"L144+1","v":71},71,null,null,null,null,null,null,null,null,{"$f":"V144+1","v":71},71,null,null,null,null,null,null,null,null,{"$f":"AF144+1","v":71},71]
[]
[null,{"$f":"B146+1","v":72},72,null,null,null,null,null,null,null,null,{"$f":"L146+1","v":72},72,null,null,null,null,null,null,null,null,{"$f":"V146+1","v":72},72,null,null,null,null,null,null,null,null,{"$f":"AF146+1","v":72},72]
[]
[null,{"$f":"B148+1","v":73},73,null,null,null,null,null,null,null,null,{"$f":"L148+1","v":73},73,null,null,null,null,null,null,null,null,{"$f":"V148+1","v":73},73,null,null,null,null,null,null,null,null,{"$f":"AF148+1","v":73},73]
[]
[null,{"$f":"B150+1","v":74},74,null,null,null,null,null,null,null,null,{"$f":"L150+1","v":74},74,null,null,null,null,null,null,null,null,{"$f":"V150+1","v":74},74,null,null,null,null,null,null,null,null,{"$f":"AF150+1","v":74},74]
[]
[null,{"$f":"B152+1","v":75},75,null,null,null,null,null,null,null,null,{"$f":"L152+1","v":75},75,null,null,null,null,null,null,null,null,{"$f":"V152+1","v":75},75,null,null,null,null,null,null,null,null,{"$f":"AF152+1","v":75},75]
[]
[null,{"$f":"B154+1","v":76},76,null,null,null,null,null,null,null,null,{"$f":"L154+1","v":76},76,null,null,null,null,null,null,null,null,{"$f":"V154+1","v":76},76,null,null,null,null,null,null,null,null,{"$f":"AF154+1","v":76},76]
[]
[null,{"$f":"B156+1","v":77},77,null,null,null,null,null,null,null,null,{"$f":"L156+1","v":77},77,null,null,null,null,null,null,null,null,{"$f":"V156+1","v":77},77,null,null,null,null,null,null,null,null,{"$f":"AF156+1","v":77},77]
[]
[null,{"$f":"B158+1","v":78},78,null,null,null,null,null,null,null,null,{"$f":"L158+1","v":78},78,null,null,null,null,null,null,null,null,{"$f":"V158+1","v":78},78,null,null,null,null,null,null,null,null,{"$f":"AF158+1","v":78},78]
[]
[null,{"$f":"B160+1","v":79},79,null,null,null,null,null,null,null,null,{"$f":"L160+1","v":79},79,null,null,null,null,null,null,null,null,{"$f":"V160+1","v":79},79,null,null,null,null,null,null,null,null,{"$f":"AF160+1","v":79},79]
[]
[null,80,80,null,null,null,null,null,null,null,null,80,80,null,null,null,null,null,null,null,null,80,80,null,null,null,null,null,null,null,null,80,80]

{"sheet":"Atl4","index":28,"n_rows":164,"n_cols":39,"rows_kept":164,"cut":false,"hidden":true,"merged":[[163,33,164,33],[163,34,164,34],[163,35,164,35],[163,36,164,36],[163,37,164,37],[163,38,164,38],[163,25,164,25],[163,26,164,26],[163,27,164,27],[163,28,164,28],[163,31,164,31],[163,32,164,32],[163,17,164,17],[163,18,164,18],[163,21,164,21],[163,22,164,22],[163,23,164,23],[163,24,164,24],[163,11,164,11],[163,12,164,12],[163,13,164,13],[163,14,164,14],[163,15,164,15],[163,16,164,16],[161,37,162,37],[161,38,162,38],[163,1,164,1],[163,2,164,2],[163,3,164,3],[163,4,164,4],[163,5,164,5],[163,6,164,6],[163,7,164,7],[163,8,164,8],[161,31,162,31],[161,32,162,32],[161,33,162,33],[161,34,162,34],[161,35,162,35],[161,36,162,36],[161,23,162,23],[161,24,162,24],[161,25,162,25],[161,26,162,26],[161,27,162,27],[161,28,162,28],[161,15,162,15],[161,16,162,16],[161,17,162,17],[161,18,162,18],[161,21,162,21],[161,22,162,22],[161,7,162,7],[161,8,162,8],[161,11,162,11],[161,12,162,12],[161,13,162,13],[161,14,162,14],[161,1,162,1],[161,2,162,2],[161,3,162,3],[161,4,162,4],[161,5,162,5],[161,6,162,6],[159,33,160,33],[159,34,160,34],[159,35,160,35],[159,36,160,36],[159,37,160,37],[159,38,160,38],[159,25,160,25],[159,26,160,26],[159,27,160,27],[159,28,160,28],[159,31,160,31],[159,32,160,32],[159,17,160,17],[159,18,160,18],[159,21,160,21],[159,22,160,22],[159,23,160,23],[159,24,160,24],[159,11,160,11],[159,12,160,12],[159,13,160,13],[159,14,160,14],[159,15,160,15],[159,16,160,16],[157,37,158,37],[157,38,158,38],[159,1,160,1],[159,2,160,2],[159,3,160,3],[159,4,160,4],[159,5,160,5],[159,6,160,6],[159,7,160,7],[159,8,160,8],[157,31,158,31],[157,32,158,32],[157,33,158,33],[157,34,158,34],[157,35,158,35],[157,36,158,36],[157,23,158,23],[157,24,158,24],[157,25,158,25],[157,26,158,26],[157,27,158,27],[157,28,158,28],[157,15,158,15],[157,16,158,16],[157,17,158,17],[157,18,158,18],[157,21,158,21],[157,22,158,22],[157,7,158,7],[157,8,158,8],[157,11,158,11],[157,12,158,12],[157,13,158,13],[157,14,158,14],[157,1,158,1],[157,2,158,2],[157,3,158,3],[157,4,158,4],[157,5,158,5],[157,6,158,6],[155,33,156,33],[155,34,156,34],[155,35,156,35],[155,36,156,36],[155,37,156,37],[155,38,156,38],[155,25,156,25],[155,26,156,26],[155,27,156,27],[155,28,156,28],[155,31,156,31],[155,32,156,32],[155,17,156,17],[155,18,156,18],[155,21,156,21],[155,22,156,22],[155,23,156,23],[155,24,156,24],[155,11,156,11],[155,12,156,12],[155,13,156,13],[155,14,156,14],[155,15,156,15],[155,16,156,16],[153,37,154,37],[153,38,154,38],[155,1,156,1],[155,2,156,2],[155,3,156,3],[155,4,156,4],[155,5,156,5],[155,6,156,6],[155,7,156,7],[155,8,156,8],[153,31,154,31],[153,32,154,32],[153,33,154,33],[153,34,154,34],[153,35,154,35],[153,36,154,36],[153,23,154,23],[153,24,154,24],[153,25,154,25],[153,26,154,26],[153,27,154,27],[153,28,154,28],[153,15,154,15],[153,16,154,16],[153,17,154,17],[153,18,154,18],[153,21,154,21],[153,22,154,22],[153,7,154,7],[153,8,154,8],[153,11,154,11],[153,12,154,12],[153,13,154,13],[153,14,154,14],[153,1,154,1],[153,2,154,2],[153,3,154,3],[153,4,154,4],[153,5,154,5],[153,6,154,6],[151,33,152,33],[151,34,152,34],[151,35,152,35],[151,36,152,36],[151,37,152,37],[151,38,152,38],[151,25,152,25],[151,26,152,26],[151,27,152,27],[151,28,152,28],[151,31,152,31],[151,32,152,32],[151,17,152,17],[151,18,152,18],[151,21,152,21],[151,22,152,22],[151,23,152,23],[151,24,152,24],[151,11,152,11],[151,12,152,12],[151,13,152,13],[151,14,152,14],[151,15,152,15],[151,16,152,16],[149,37,150,37],[149,38,150,38],[151,1,152,1],[151,2,152,2],[151,3,152,3],[151,4,152,4],[151,5,152,5],[151,6,152,6],[151,7,152,7],[151,8,152,8],[149,31,150,31],[149,32,150,32],[149,33,150,33],[149,34,150,34],[149,35,150,35],[149,36,150,36],[149,23,150,23],[149,24,150,24],[149,25,150,25],[149,26,150,26],[149,27,150,27],[149,28,150,28],[149,15,150,15],[149,16,150,16],[149,17,150,17],[149,18,150,18],[149,21,150,21],[149,22,150,22],[149,7,150,7],[149,8,150,8],[149,11,150,11],[149,12,150,12],[149,13,150,13],[149,14,150,14],[149,1,150,1],[149,2,150,2],[149,3,150,3],[149,4,150,4],[149,5,150,5],[149,6,150,6],[147,33,148,33],[147,34,148,34],[147,35,148,35],[147,36,148,36],[147,37,148,37],[147,38,148,38],[147,25,148,25],[147,26,148,26],[147,27,148,27],[147,28,148,28],[147,31,148,31],[147,32,148,32],[147,17,148,17],[147,18,148,18],[147,21,148,21],[147,22,148,22],[147,23,148,23],[147,24,148,24],[147,11,148,11],[147,12,148,12],[147,13,148,13],[147,14,148,14],[147,15,148,15],[147,16,148,16],[145,37,146,37],[145,38,146,38],[147,1,148,1],[147,2,148,2],[147,3,148,3],[147,4,148,4],[147,5,148,5],[147,6,148,6],[147,7,148,7],[147,8,148,8],[145,31,146,31],[145,32,146,32],[145,33,146,33],[145,34,146,34],[145,35,146,35],[145,36,146,36],[145,23,146,23],[145,24,146,24],[145,25,146,25],[145,26,146,26],[145,27,146,27],[145,28,146,28],[145,15,146,15],[145,16,146,16],[145,17,146,17],[145,18,146,18],[145,21,146,21],[145,22,146,22],[145,7,146,7],[145,8,146,8],[145,11,146,11],[145,12,146,12],[145,13,146,13],[145,14,146,14],[145,1,146,1],[145,2,146,2],[145,3,146,3],[145,4,146,4],[145,5,146,5],[145,6,146,6],[143,33,144,33],[143,34,144,34],[143,35,144,35],[143,36,144,36],[143,37,144,37],[143,38,144,38],[143,25,144,25],[143,26,144,26],[143,27,144,27],[143,28,144,28],[143,31,144,31],[143,32,144,32],[143,17,144,17],[143,18,144,18],[143,21,144,21],[143,22,144,22],[143,23,144,23],[143,24,144,24],[143,11,144,11],[143,12,144,12],[143,13,144,13],[143,14,144,14],[143,15,144,15],[143,16,144,16],[141,37,142,37],[141,38,142,38],[143,1,144,1],[143,2,144,2],[143,3,144,3],[143,4,144,4],[143,5,144,5],[143,6,144,6],[143,7,144,7],[143,8,144,8],[141,31,142,31],[141,32,142,32],[141,33,142,33],[141,34,142,34],[141,35,142,35],[141,36,142,36],[141,23,142,23],[141,24,142,24],[141,25,142,25],[141,26,142,26],[141,27,142,27],[141,28,142,28],[141,15,142,15],[141,16,142,16],[141,17,142,17],[141,18,142,18],[141,21,142,21],[141,22,142,22],[141,7,142,7],[141,8,142,8],[141,11,142,11],[141,12,142,12],[141,13,142,13],[141,14,142,14],[141,1,142,1],[141,2,142,2],[141,3,142,3],[141,4,142,4],[141,5,142,5],[141,6,142,6],[139,33,140,33],[139,34,140,34],[139,35,140,35],[139,36,140,36],[139,37,140,37],[139,38,140,38],[139,25,140,25],[139,26,140,26],[139,27,140,27],[139,28,140,28],[139,31,140,31],[139,32,140,32],[139,17,140,17],[139,18,140,18],[139,21,140,21],[139,22,140,22],[139,23,140,23],[139,24,140,24],[139,11,140,11],[139,12,140,12],[139,13,140,13],[139,14,140,14],[139,15,140,15],[139,16,140,16],[137,37,138,37],[137,38,138,38],[139,1,140,1],[139,2,140,2],[139,3,140,3],[139,4,140,4],[139,5,140,5],[139,6,140,6],[139,7,140,7],[139,8,140,8],[137,31,138,31],[137,32,138,32],[137,33,138,33],[137,34,138,34],[137,35,138,35],[137,36,138,36],[137,23,138,23],[137,24,138,24],[137,25,138,25],[137,26,138,26],[137,27,138,27],[137,28,138,28],[137,15,138,15],[137,16,138,16],[137,17,138,17],[137,18,138,18],[137,21,138,21],[137,22,138,22],[137,7,138,7],[137,8,138,8],[137,11,138,11],[137,12,138,12],[137,13,138,13],[137,14,138,14],[137,1,138,1],[137,2,138,2],[137,3,138,3],[137,4,138,4],[137,5,138,5],[137,6,138,6],[135,33,136,33],[135,34,136,34],[135,35,136,35],[135,36,136,36],[135,37,136,37],[135,38,136,38],[135,25,136,25],[135,26,136,26],[135,27,136,27],[135,28,136,28],[135,31,136,31],[135,32,136,32],[135,17,136,17],[135,18,136,18],[135,21,136,21],[135,22,136,22],[135,23,136,23],[135,24,136,24],[135,11,136,11],[135,12,136,12],[135,13,136,13],[135,14,136,14],[135,15,136,15],[135,16,136,16],[133,37,134,37],[133,38,134,38],[135,1,136,1],[135,2,136,2],[135,3,136,3],[135,4,136,4],[135,5,136,5],[135,6,136,6],[135,7,136,7],[135,8,136,8],[133,31,134,31],[133,32,134,32],[133,33,134,33],[133,34,134,34],[133,35,134,35],[133,36,134,36],[133,23,134,23],[133,24,134,24],[133,25,134,25],[133,26,134,26],[133,27,134,27],[133,28,134,28],[133,15,134,15],[133,16,134,16],[133,17,134,17],[133,18,134,18],[133,21,134,21],[133,22,134,22],[133,7,134,7],[133,8,134,8],[133,11,134,11],[133,12,134,12],[133,13,134,13],[133,14,134,14],[133,1,134,1],[133,2,134,2],[133,3,134,3],[133,4,134,4],[133,5,134,5],[133,6,134,6],[131,33,132,33],[131,34,132,34],[131,35,132,35],[131,36,132,36],[131,37,132,37],[131,38,132,38],[131,25,132,25],[131,26,132,26],[131,27,132,27],[131,28,132,28],[131,31,132,31],[131,32,132,32],[131,17,132,17],[131,18,132,18],[131,21,132,21],[131,22,132,22],[131,23,132,23],[131,24,132,24],[131,11,132,11],[131,12,132,12],[131,13,132,13],[131,14,132,14],[131,15,132,15],[131,16,132,16],[129,37,130,37],[129,38,130,38],[131,1,132,1],[131,2,132,2],[131,3,132,3],[131,4,132,4],[131,5,132,5],[131,6,132,6],[131,7,132,7],[131,8,132,8],[129,31,130,31],[129,32,130,32],[129,33,130,33],[129,34,130,34],[129,35,130,35],[129,36,130,36],[129,23,130,23],[129,24,130,24],[129,25,130,25],[129,26,130,26],[129,27,130,27],[129,28,130,28],[129,15,130,15],[129,16,130,16],[129,17,130,17],[129,18,130,18],[129,21,130,21],[129,22,130,22],[129,7,130,7],[129,8,130,8],[129,11,130,11],[129,12,130,12],[129,13,130,13],[129,14,130,14],[129,1,130,1],[129,2,130,2],[129,3,130,3],[129,4,130,4],[129,5,130,5],[129,6,130,6],[127,33,128,33],[127,34,128,34],[127,35,128,35],[127,36,128,36],[127,37,128,37],[127,38,128,38],[127,25,128,25],[127,26,128,26],[127,27,128,27],[127,28,128,28],[127,31,128,31],[127,32,128,32],[127,17,128,17],[127,18,128,18],[127,21,128,21],[127,22,128,22],[127,23,128,23],[127,24,128,24],[127,11,128,11],[127,12,128,12],[127,13,128,13],[127,14,128,14],[127,15,128,15],[127,16,128,16],[125,37,126,37],[125,38,126,38],[127,1,128,1],[127,2,128,2],[127,3,128,3],[127,4,128,4],[127,5,128,5],[127,6,128,6],[127,7,128,7],[127,8,128,8],[125,31,126,31],[125,32,126,32],[125,33,126,33],[125,34,126,34],[125,35,126,35],[125,36,126,36],[125,23,126,23],[125,24,126,24],[125,25,126,25],[125,26,126,26],[125,27,126,27],[125,28,126,28],[125,15,126,15],[125,16,126,16],[125,17,126,17],[125,18,126,18],[125,21,126,21],[125,22,126,22],[125,7,126,7],[125,8,126,8],[125,11,126,11],[125,12,126,12],[125,13,126,13],[125,14,126,14],[125,1,126,1],[125,2,126,2],[125,3,126,3],[125,4,126,4],[125,5,126,5],[125,6,126,6],[123,33,124,33],[123,34,124,34],[123,35,124,35],[123,36,124,36],[123,37,124,37],[123,38,124,38],[123,25,124,25],[123,26,124,26],[123,27,124,27],[123,28,124,28],[123,31,124,31],[123,32,124,32],[123,17,124,17],[123,18,124,18],[123,21,124,21],[123,22,124,22],[123,23,124,23],[123,24,124,24],[123,11,124,11],[123,12,124,12],[123,13,124,13],[123,14,124,14],[123,15,124,15],[123,16,124,16],[121,37,122,37],[121,38,122,38],[123,1,124,1],[123,2,124,2],[123,3,124,3],[123,4,124,4],[123,5,124,5],[123,6,124,6],[123,7,124,7],[123,8,124,8],[121,31,122,31],[121,32,122,32],[121,33,122,33],[121,34,122,34],[121,35,122,35],[121,36,122,36],[121,23,122,23],[121,24,122,24],[121,25,122,25],[121,26,122,26],[121,27,122,27],[121,28,122,28],[121,15,122,15],[121,16,122,16],[121,17,122,17],[121,18,122,18],[121,21,122,21],[121,22,122,22],[121,7,122,7],[121,8,122,8],[121,11,122,11],[121,12,122,12],[121,13,122,13],[121,14,122,14],[121,1,122,1],[121,2,122,2],[121,3,122,3],[121,4,122,4],[121,5,122,5],[121,6,122,6],[119,33,120,33],[119,34,120,34],[119,35,120,35],[119,36,120,36],[119,37,120,37],[119,38,120,38],[119,25,120,25],[119,26,120,26],[119,27,120,27],[119,28,120,28],[119,31,120,31],[119,32,120,32],[119,17,120,17],[119,18,120,18],[119,21,120,21],[119,22,120,22],[119,23,120,23],[119,24,120,24],[119,11,120,11],[119,12,120,12],[119,13,120,13],[119,14,120,14],[119,15,120,15],[119,16,120,16],[117,37,118,37],[117,38,118,38],[119,1,120,1],[119,2,120,2],[119,3,120,3],[119,4,120,4],[119,5,120,5],[119,6,120,6],[119,7,120,7],[119,8,120,8],[117,31,118,31],[117,32,118,32],[117,33,118,33],[117,34,118,34],[117,35,118,35],[117,36,118,36],[117,23,118,23],[117,24,118,24],[117,25,118,25],[117,26,118,26],[117,27,118,27],[117,28,118,28],[117,15,118,15],[117,16,118,16],[117,17,118,17],[117,18,118,18],[117,21,118,21],[117,22,118,22],[117,7,118,7],[117,8,118,8],[117,11,118,11],[117,12,118,12],[117,13,118,13],[117,14,118,14],[117,1,118,1],[117,2,118,2],[117,3,118,3],[117,4,118,4],[117,5,118,5],[117,6,118,6],[115,33,116,33],[115,34,116,34],[115,35,116,35],[115,36,116,36],[115,37,116,37],[115,38,116,38],[115,25,116,25],[115,26,116,26],[115,27,116,27],[115,28,116,28],[115,31,116,31],[115,32,116,32],[115,17,116,17],[115,18,116,18],[115,21,116,21],[115,22,116,22],[115,23,116,23],[115,24,116,24],[115,11,116,11],[115,12,116,12],[115,13,116,13],[115,14,116,14],[115,15,116,15],[115,16,116,16],[113,37,114,37],[113,38,114,38],[115,1,116,1],[115,2,116,2],[115,3,116,3],[115,4,116,4],[115,5,116,5],[115,6,116,6],[115,7,116,7],[115,8,116,8],[113,31,114,31],[113,32,114,32],[113,33,114,33],[113,34,114,34],[113,35,114,35],[113,36,114,36],[113,23,114,23],[113,24,114,24],[113,25,114,25],[113,26,114,26],[113,27,114,27],[113,28,114,28],[113,15,114,15],[113,16,114,16],[113,17,114,17],[113,18,114,18],[113,21,114,21],[113,22,114,22],[113,7,114,7],[113,8,114,8],[113,11,114,11],[113,12,114,12],[113,13,114,13],[113,14,114,14],[113,1,114,1],[113,2,114,2],[113,3,114,3],[113,4,114,4],[113,5,114,5],[113,6,114,6],[111,33,112,33],[111,34,112,34],[111,35,112,35],[111,36,112,36],[111,37,112,37],[111,38,112,38],[111,25,112,25],[111,26,112,26],[111,27,112,27],[111,28,112,28],[111,31,112,31],[111,32,112,32],[111,17,112,17],[111,18,112,18],[111,21,112,21],[111,22,112,22],[111,23,112,23],[111,24,112,24],[111,11,112,11],[111,12,112,12],[111,13,112,13],[111,14,112,14],[111,15,112,15],[111,16,112,16],[109,37,110,37],[109,38,110,38],[111,1,112,1],[111,2,112,2],[111,3,112,3],[111,4,112,4],[111,5,112,5],[111,6,112,6],[111,7,112,7],[111,8,112,8],[109,31,110,31],[109,32,110,32],[109,33,110,33],[109,34,110,34],[109,35,110,35],[109,36,110,36],[109,23,110,23],[109,24,110,24],[109,25,110,25],[109,26,110,26],[109,27,110,27],[109,28,110,28],[109,15,110,15],[109,16,110,16],[109,17,110,17],[109,18,110,18],[109,21,110,21],[109,22,110,22],[109,7,110,7],[109,8,110,8],[109,11,110,11],[109,12,110,12],[109,13,110,13],[109,14,110,14],[109,1,110,1],[109,2,110,2],[109,3,110,3],[109,4,110,4],[109,5,110,5],[109,6,110,6],[107,33,108,33],[107,34,108,34],[107,35,108,35],[107,36,108,36],[107,37,108,37],[107,38,108,38],[107,25,108,25],[107,26,108,26],[107,27,108,27],[107,28,108,28],[107,31,108,31],[107,32,108,32],[107,17,108,17],[107,18,108,18],[107,21,108,21],[107,22,108,22],[107,23,108,23],[107,24,108,24],[107,11,108,11],[107,12,108,12],[107,13,108,13],[107,14,108,14],[107,15,108,15],[107,16,108,16],[105,37,106,37],[105,38,106,38],[107,1,108,1],[107,2,108,2],[107,3,108,3],[107,4,108,4],[107,5,108,5],[107,6,108,6],[107,7,108,7],[107,8,108,8],[105,31,106,31],[105,32,106,32],[105,33,106,33],[105,34,106,34],[105,35,106,35],[105,36,106,36],[105,23,106,23],[105,24,106,24],[105,25,106,25],[105,26,106,26],[105,27,106,27],[105,28,106,28],[105,15,106,15],[105,16,106,16],[105,17,106,17],[105,18,106,18],[105,21,106,21],[105,22,106,22],[105,7,106,7],[105,8,106,8],[105,11,106,11],[105,12,106,12],[105,13,106,13],[105,14,106,14],[105,1,106,1],[105,2,106,2],[105,3,106,3],[105,4,106,4],[105,5,106,5],[105,6,106,6],[103,33,104,33],[103,34,104,34],[103,35,104,35],[103,36,104,36],[103,37,104,37],[103,38,104,38],[103,25,104,25],[103,26,104,26],[103,27,104,27],[103,28,104,28],[103,31,104,31],[103,32,104,32],[103,17,104,17],[103,18,104,18],[103,21,104,21],[103,22,104,22],[103,23,104,23],[103,24,104,24],[103,11,104,11],[103,12,104,12],[103,13,104,13],[103,14,104,14],[103,15,104,15],[103,16,104,16],[101,37,102,37],[101,38,102,38],[103,1,104,1],[103,2,104,2],[103,3,104,3],[103,4,104,4],[103,5,104,5],[103,6,104,6],[103,7,104,7],[103,8,104,8],[101,31,102,31],[101,32,102,32],[101,33,102,33],[101,34,102,34],[101,35,102,35],[101,36,102,36]],"merged_total":2576,"flags":["merged_cut"]}
[]
[null,null,null,{"$f":"Inf!K9","v":0},"Количество участников",null,{"$f":"COUNTA(D6:D165)","v":0},null,null,null,null,null,null,{"$f":"Inf!K10","v":0},"Количество участников",null,{"$f":"COUNTA(N6:N165)","v":0},null,null,null,null,null,null,{"$f":"Inf!K11","v":0},"Количество участников",null,{"$f":"COUNTA(X6:X165)","v":0},null,null,null,null,null,null,{"$f":"Inf!K12","v":0},"Количество участников",null,{"$f":"COUNTA(AH6:AH165)","v":0}]
[]
[]
[null,"№ п/п","по жребию","Фамилия, имя участника","Регион","ФСО","Разряд, звание","Дата рождения","Ф.И.О. тренера",null,null,"№ п/п","по жребию","Фамилия, имя участника","Регион","ФСО","Разряд, звание","Дата рождения","Ф.И.О. тренера",null,null,"№ п/п","по жребию","Фамилия, имя участника","Регион","ФСО","Разряд, звание","Дата рождения","Ф.И.О. тренера",null,null,"№ п/п","по жребию","Фамилия, имя участника","Регион","ФСО","Разряд, звание","Дата рождения","Ф.И.О. тренера"]
[null,1,1,null,null,null,null,null,null,null,null,1,1,null,null,null,null,null,null,null,null,1,1,null,null,null,null,null,null,null,null,1,1]
[]
[null,{"$f":"B6+1","v":2},2,null,null,null,null,null,null,null,null,{"$f":"L6+1","v":2},2,null,null,null,null,null,null,null,null,{"$f":"V6+1","v":2},2,null,null,null,null,null,null,null,null,{"$f":"AF6+1","v":2},2]
[]
[null,{"$f":"B8+1","v":3},3,null,null,null,null,null,null,null,null,{"$f":"L8+1","v":3},3,null,null,null,null,null,null,null,null,{"$f":"V8+1","v":3},3,null,null,null,null,null,null,null,null,{"$f":"AF8+1","v":3},3]
[]
[null,{"$f":"B10+1","v":4},4,null,null,null,null,null,null,null,null,{"$f":"L10+1","v":4},4,null,null,null,null,null,null,null,null,{"$f":"V10+1","v":4},4,null,null,null,null,null,null,null,null,{"$f":"AF10+1","v":4},4]
[]
[null,{"$f":"B12+1","v":5},5,null,null,null,null,null,null,null,null,{"$f":"L12+1","v":5},5,null,null,null,null,null,null,null,null,{"$f":"V12+1","v":5},5,null,null,null,null,null,null,null,null,{"$f":"AF12+1","v":5},5]
[]
[null,{"$f":"B14+1","v":6},6,null,null,null,null,null,null,null,null,{"$f":"L14+1","v":6},6,null,null,null,null,null,null,null,null,{"$f":"V14+1","v":6},6,null,null,null,null,null,null,null,null,{"$f":"AF14+1","v":6},6]
[]
[null,{"$f":"B16+1","v":7},7,null,null,null,null,null,null,null,null,{"$f":"L16+1","v":7},7,null,null,null,null,null,null,null,null,{"$f":"V16+1","v":7},7,null,null,null,null,null,null,null,null,{"$f":"AF16+1","v":7},7]
[]
[null,{"$f":"B18+1","v":8},8,null,null,null,null,null,null,null,null,{"$f":"L18+1","v":8},8,null,null,null,null,null,null,null,null,{"$f":"V18+1","v":8},8,null,null,null,null,null,null,null,null,{"$f":"AF18+1","v":8},8]
[]
[null,{"$f":"B20+1","v":9},9,null,null,null,null,null,null,null,null,{"$f":"L20+1","v":9},9,null,null,null,null,null,null,null,null,{"$f":"V20+1","v":9},9,null,null,null,null,null,null,null,null,{"$f":"AF20+1","v":9},9]
[]
[null,{"$f":"B22+1","v":10},10,null,null,null,null,null,null,null,null,{"$f":"L22+1","v":10},10,null,null,null,null,null,null,null,null,{"$f":"V22+1","v":10},10,null,null,null,null,null,null,null,null,{"$f":"AF22+1","v":10},10]
[]
[null,{"$f":"B24+1","v":11},11,null,null,null,null,null,null,null,null,{"$f":"L24+1","v":11},11,null,null,null,null,null,null,null,null,{"$f":"V24+1","v":11},11,null,null,null,null,null,null,null,null,{"$f":"AF24+1","v":11},11]
[]
[null,{"$f":"B26+1","v":12},12,null,null,null,null,null,null,null,null,{"$f":"L26+1","v":12},12,null,null,null,null,null,null,null,null,{"$f":"V26+1","v":12},12,null,null,null,null,null,null,null,null,{"$f":"AF26+1","v":12},12]
[]
[null,{"$f":"B28+1","v":13},13,null,null,null,null,null,null,null,null,{"$f":"L28+1","v":13},13,null,null,null,null,null,null,null,null,{"$f":"V28+1","v":13},13,null,null,null,null,null,null,null,null,{"$f":"AF28+1","v":13},13]
[]
[null,{"$f":"B30+1","v":14},14,null,null,null,null,null,null,null,null,{"$f":"L30+1","v":14},14,null,null,null,null,null,null,null,null,{"$f":"V30+1","v":14},14,null,null,null,null,null,null,null,null,{"$f":"AF30+1","v":14},14]
[]
[null,{"$f":"B32+1","v":15},15,null,null,null,null,null,null,null,null,{"$f":"L32+1","v":15},15,null,null,null,null,null,null,null,null,{"$f":"V32+1","v":15},15,null,null,null,null,null,null,null,null,{"$f":"AF32+1","v":15},15]
[]
[null,{"$f":"B34+1","v":16},16,null,null,null,null,null,null,null,null,{"$f":"L34+1","v":16},16,null,null,null,null,null,null,null,null,{"$f":"V34+1","v":16},16,null,null,null,null,null,null,null,null,{"$f":"AF34+1","v":16},16]
[]
[null,{"$f":"B36+1","v":17},17,null,null,null,null,null,null,null,null,{"$f":"L36+1","v":17},17,null,null,null,null,null,null,null,null,{"$f":"V36+1","v":17},17,null,null,null,null,null,null,null,null,{"$f":"AF36+1","v":17},17]
[]
[null,{"$f":"B38+1","v":18},18,null,null,null,null,null,null,null,null,{"$f":"L38+1","v":18},18,null,null,null,null,null,null,null,null,{"$f":"V38+1","v":18},18,null,null,null,null,null,null,null,null,{"$f":"AF38+1","v":18},18]
[]
[null,{"$f":"B40+1","v":19},19,null,null,null,null,null,null,null,null,{"$f":"L40+1","v":19},19,null,null,null,null,null,null,null,null,{"$f":"V40+1","v":19},19,null,null,null,null,null,null,null,null,{"$f":"AF40+1","v":19},19]
[]
[null,{"$f":"B42+1","v":20},20,null,null,null,null,null,null,null,null,{"$f":"L42+1","v":20},20,null,null,null,null,null,null,null,null,{"$f":"V42+1","v":20},20,null,null,null,null,null,null,null,null,{"$f":"AF42+1","v":20},20]
[]
[null,{"$f":"B44+1","v":21},21,null,null,null,null,null,null,null,null,{"$f":"L44+1","v":21},21,null,null,null,null,null,null,null,null,{"$f":"V44+1","v":21},21,null,null,null,null,null,null,null,null,{"$f":"AF44+1","v":21},21]
[]
[null,{"$f":"B46+1","v":22},22,null,null,null,null,null,null,null,null,{"$f":"L46+1","v":22},22,null,null,null,null,null,null,null,null,{"$f":"V46+1","v":22},22,null,null,null,null,null,null,null,null,{"$f":"AF46+1","v":22},22]
[]
[null,{"$f":"B48+1","v":23},23,null,null,null,null,null,null,null,null,{"$f":"L48+1","v":23},23,null,null,null,null,null,null,null,null,{"$f":"V48+1","v":23},23,null,null,null,null,null,null,null,null,{"$f":"AF48+1","v":23},23]
[]
[null,{"$f":"B50+1","v":24},24,null,null,null,null,null,null,null,null,{"$f":"L50+1","v":24},24,null,null,null,null,null,null,null,null,{"$f":"V50+1","v":24},24,null,null,null,null,null,null,null,null,{"$f":"AF50+1","v":24},24]
[]
[null,{"$f":"B52+1","v":25},25,null,null,null,null,null,null,null,null,{"$f":"L52+1","v":25},25,null,null,null,null,null,null,null,null,{"$f":"V52+1","v":25},25,null,null,null,null,null,null,null,null,{"$f":"AF52+1","v":25},25]
[]
[null,{"$f":"B54+1","v":26},26,null,null,null,null,null,null,null,null,{"$f":"L54+1","v":26},26,null,null,null,null,null,null,null,null,{"$f":"V54+1","v":26},26,null,null,null,null,null,null,null,null,{"$f":"AF54+1","v":26},26]
[]
[null,{"$f":"B56+1","v":27},27,null,null,null,null,null,null,null,null,{"$f":"L56+1","v":27},27,null,null,null,null,null,null,null,null,{"$f":"V56+1","v":27},27,null,null,null,null,null,null,null,null,{"$f":"AF56+1","v":27},27]
[]
[null,{"$f":"B58+1","v":28},28,null,null,null,null,null,null,null,null,{"$f":"L58+1","v":28},28,null,null,null,null,null,null,null,null,{"$f":"V58+1","v":28},28,null,null,null,null,null,null,null,null,{"$f":"AF58+1","v":28},28]
[]
[null,{"$f":"B60+1","v":29},29,null,null,null,null,null,null,null,null,{"$f":"L60+1","v":29},29,null,null,null,null,null,null,null,null,{"$f":"V60+1","v":29},29,null,null,null,null,null,null,null,null,{"$f":"AF60+1","v":29},29]
[]
[null,{"$f":"B62+1","v":30},30,null,null,null,null,null,null,null,null,{"$f":"L62+1","v":30},30,null,null,null,null,null,null,null,null,{"$f":"V62+1","v":30},30,null,null,null,null,null,null,null,null,{"$f":"AF62+1","v":30},30]
[]
[null,{"$f":"B64+1","v":31},31,null,null,null,null,null,null,null,null,{"$f":"L64+1","v":31},31,null,null,null,null,null,null,null,null,{"$f":"V64+1","v":31},31,null,null,null,null,null,null,null,null,{"$f":"AF64+1","v":31},31]
[]
[null,{"$f":"B66+1","v":32},32,null,null,null,null,null,null,null,null,{"$f":"L66+1","v":32},32,null,null,null,null,null,null,null,null,{"$f":"V66+1","v":32},32,null,null,null,null,null,null,null,null,{"$f":"AF66+1","v":32},32]
[]
[null,{"$f":"B68+1","v":33},33,null,null,null,null,null,null,null,null,{"$f":"L68+1","v":33},33,null,null,null,null,null,null,null,null,{"$f":"V68+1","v":33},33,null,null,null,null,null,null,null,null,{"$f":"AF68+1","v":33},33]
[]
[null,{"$f":"B70+1","v":34},34,null,null,null,null,null,null,null,null,{"$f":"L70+1","v":34},34,null,null,null,null,null,null,null,null,{"$f":"V70+1","v":34},34,null,null,null,null,null,null,null,null,{"$f":"AF70+1","v":34},34]
[]
[null,{"$f":"B72+1","v":35},35,null,null,null,null,null,null,null,null,{"$f":"L72+1","v":35},35,null,null,null,null,null,null,null,null,{"$f":"V72+1","v":35},35,null,null,null,null,null,null,null,null,{"$f":"AF72+1","v":35},35]
[]
[null,{"$f":"B74+1","v":36},36,null,null,null,null,null,null,null,null,{"$f":"L74+1","v":36},36,null,null,null,null,null,null,null,null,{"$f":"V74+1","v":36},36,null,null,null,null,null,null,null,null,{"$f":"AF74+1","v":36},36]
[]
[null,{"$f":"B76+1","v":37},37,null,null,null,null,null,null,null,null,{"$f":"L76+1","v":37},37,null,null,null,null,null,null,null,null,{"$f":"V76+1","v":37},37,null,null,null,null,null,null,null,null,{"$f":"AF76+1","v":37},37]
[]
[null,{"$f":"B78+1","v":38},38,null,null,null,null,null,null,null,null,{"$f":"L78+1","v":38},38,null,null,null,null,null,null,null,null,{"$f":"V78+1","v":38},38,null,null,null,null,null,null,null,null,{"$f":"AF78+1","v":38},38]
[]
[null,{"$f":"B80+1","v":39},39,null,null,null,null,null,null,null,null,{"$f":"L80+1","v":39},39,null,null,null,null,null,null,null,null,{"$f":"V80+1","v":39},39,null,null,null,null,null,null,null,null,{"$f":"AF80+1","v":39},39]
[]
[null,{"$f":"B82+1","v":40},40,null,null,null,null,null,null,null,null,{"$f":"L82+1","v":40},40,null,null,null,null,null,null,null,null,{"$f":"V82+1","v":40},40,null,null,null,null,null,null,null,null,{"$f":"AF82+1","v":40},40]
[]
[null,{"$f":"B84+1","v":41},41,null,null,null,null,null,null,null,null,{"$f":"L84+1","v":41},41,null,null,null,null,null,null,null,null,{"$f":"V84+1","v":41},41,null,null,null,null,null,null,null,null,{"$f":"AF84+1","v":41},41]
[]
[null,{"$f":"B86+1","v":42},42,null,null,null,null,null,null,null,null,{"$f":"L86+1","v":42},42,null,null,null,null,null,null,null,null,{"$f":"V86+1","v":42},42,null,null,null,null,null,null,null,null,{"$f":"AF86+1","v":42},42]
[]
[null,{"$f":"B88+1","v":43},43,null,null,null,null,null,null,null,null,{"$f":"L88+1","v":43},43,null,null,null,null,null,null,null,null,{"$f":"V88+1","v":43},43,null,null,null,null,null,null,null,null,{"$f":"AF88+1","v":43},43]
[]
[null,{"$f":"B90+1","v":44},44,null,null,null,null,null,null,null,null,{"$f":"L90+1","v":44},44,null,null,null,null,null,null,null,null,{"$f":"V90+1","v":44},44,null,null,null,null,null,null,null,null,{"$f":"AF90+1","v":44},44]
[]
[null,{"$f":"B92+1","v":45},45,null,null,null,null,null,null,null,null,{"$f":"L92+1","v":45},45,null,null,null,null,null,null,null,null,{"$f":"V92+1","v":45},45,null,null,null,null,null,null,null,null,{"$f":"AF92+1","v":45},45]
[]
[null,{"$f":"B94+1","v":46},46,null,null,null,null,null,null,null,null,{"$f":"L94+1","v":46},46,null,null,null,null,null,null,null,null,{"$f":"V94+1","v":46},46,null,null,null,null,null,null,null,null,{"$f":"AF94+1","v":46},46]
[]
[null,{"$f":"B96+1","v":47},47,null,null,null,null,null,null,null,null,{"$f":"L96+1","v":47},47,null,null,null,null,null,null,null,null,{"$f":"V96+1","v":47},47,null,null,null,null,null,null,null,null,{"$f":"AF96+1","v":47},47]
[]
[null,{"$f":"B98+1","v":48},48,null,null,null,null,null,null,null,null,{"$f":"L98+1","v":48},48,null,null,null,null,null,null,null,null,{"$f":"V98+1","v":48},48,null,null,null,null,null,null,null,null,{"$f":"AF98+1","v":48},48]
[]
[null,{"$f":"B100+1","v":49},49,null,null,null,null,null,null,null,null,{"$f":"L100+1","v":49},49,null,null,null,null,null,null,null,null,{"$f":"V100+1","v":49},49,null,null,null,null,null,null,null,null,{"$f":"AF100+1","v":49},49]
[]
[null,{"$f":"B102+1","v":50},50,null,null,null,null,null,null,null,null,{"$f":"L102+1","v":50},50,null,null,null,null,null,null,null,null,{"$f":"V102+1","v":50},50,null,null,null,null,null,null,null,null,{"$f":"AF102+1","v":50},50]
[]
[null,{"$f":"B104+1","v":51},51,null,null,null,null,null,null,null,null,{"$f":"L104+1","v":51},51,null,null,null,null,null,null,null,null,{"$f":"V104+1","v":51},51,null,null,null,null,null,null,null,null,{"$f":"AF104+1","v":51},51]
[]
[null,{"$f":"B106+1","v":52},52,null,null,null,null,null,null,null,null,{"$f":"L106+1","v":52},52,null,null,null,null,null,null,null,null,{"$f":"V106+1","v":52},52,null,null,null,null,null,null,null,null,{"$f":"AF106+1","v":52},52]
[]
[null,{"$f":"B108+1","v":53},53,null,null,null,null,null,null,null,null,{"$f":"L108+1","v":53},53,null,null,null,null,null,null,null,null,{"$f":"V108+1","v":53},53,null,null,null,null,null,null,null,null,{"$f":"AF108+1","v":53},53]
[]
[null,{"$f":"B110+1","v":54},54,null,null,null,null,null,null,null,null,{"$f":"L110+1","v":54},54,null,null,null,null,null,null,null,null,{"$f":"V110+1","v":54},54,null,null,null,null,null,null,null,null,{"$f":"AF110+1","v":54},54]
[]
[null,{"$f":"B112+1","v":55},55,null,null,null,null,null,null,null,null,{"$f":"L112+1","v":55},55,null,null,null,null,null,null,null,null,{"$f":"V112+1","v":55},55,null,null,null,null,null,null,null,null,{"$f":"AF112+1","v":55},55]
[]
[null,{"$f":"B114+1","v":56},56,null,null,null,null,null,null,null,null,{"$f":"L114+1","v":56},56,null,null,null,null,null,null,null,null,{"$f":"V114+1","v":56},56,null,null,null,null,null,null,null,null,{"$f":"AF114+1","v":56},56]
[]
[null,{"$f":"B116+1","v":57},57,null,null,null,null,null,null,null,null,{"$f":"L116+1","v":57},57,null,null,null,null,null,null,null,null,{"$f":"V116+1","v":57},57,null,null,null,null,null,null,null,null,{"$f":"AF116+1","v":57},57]
[]
[null,{"$f":"B118+1","v":58},58,null,null,null,null,null,null,null,null,{"$f":"L118+1","v":58},58,null,null,null,null,null,null,null,null,{"$f":"V118+1","v":58},58,null,null,null,null,null,null,null,null,{"$f":"AF118+1","v":58},58]
[]
[null,{"$f":"B120+1","v":59},59,null,null,null,null,null,null,null,null,{"$f":"L120+1","v":59},59,null,null,null,null,null,null,null,null,{"$f":"V120+1","v":59},59,null,null,null,null,null,null,null,null,{"$f":"AF120+1","v":59},59]
[]
[null,{"$f":"B122+1","v":60},60,null,null,null,null,null,null,null,null,{"$f":"L122+1","v":60},60,null,null,null,null,null,null,null,null,{"$f":"V122+1","v":60},60,null,null,null,null,null,null,null,null,{"$f":"AF122+1","v":60},60]
[]
[null,{"$f":"B124+1","v":61},61,null,null,null,null,null,null,null,null,{"$f":"L124+1","v":61},61,null,null,null,null,null,null,null,null,{"$f":"V124+1","v":61},61,null,null,null,null,null,null,null,null,{"$f":"AF124+1","v":61},61]
[]
[null,{"$f":"B126+1","v":62},62,null,null,null,null,null,null,null,null,{"$f":"L126+1","v":62},62,null,null,null,null,null,null,null,null,{"$f":"V126+1","v":62},62,null,null,null,null,null,null,null,null,{"$f":"AF126+1","v":62},62]
[]
[null,{"$f":"B128+1","v":63},63,null,null,null,null,null,null,null,null,{"$f":"L128+1","v":63},63,null,null,null,null,null,null,null,null,{"$f":"V128+1","v":63},63,null,null,null,null,null,null,null,null,{"$f":"AF128+1","v":63},63]
[]
[null,{"$f":"B130+1","v":64},64,null,null,null,null,null,null,null,null,{"$f":"L130+1","v":64},64,null,null,null,null,null,null,null,null,{"$f":"V130+1","v":64},64,null,null,null,null,null,null,null,null,{"$f":"AF130+1","v":64},64]
[]
[null,{"$f":"B132+1","v":65},65,null,null,null,null,null,null,null,null,{"$f":"L132+1","v":65},65,null,null,null,null,null,null,null,null,{"$f":"V132+1","v":65},65,null,null,null,null,null,null,null,null,{"$f":"AF132+1","v":65},65]
[]
[null,{"$f":"B134+1","v":66},66,null,null,null,null,null,null,null,null,{"$f":"L134+1","v":66},66,null,null,null,null,null,null,null,null,{"$f":"V134+1","v":66},66,null,null,null,null,null,null,null,null,{"$f":"AF134+1","v":66},66]
[]
[null,{"$f":"B136+1","v":67},67,null,null,null,null,null,null,null,null,{"$f":"L136+1","v":67},67,null,null,null,null,null,null,null,null,{"$f":"V136+1","v":67},67,null,null,null,null,null,null,null,null,{"$f":"AF136+1","v":67},67]
[]
[null,{"$f":"B138+1","v":68},68,null,null,null,null,null,null,null,null,{"$f":"L138+1","v":68},68,null,null,null,null,null,null,null,null,{"$f":"V138+1","v":68},68,null,null,null,null,null,null,null,null,{"$f":"AF138+1","v":68},68]
[]
[null,{"$f":"B140+1","v":69},69,null,null,null,null,null,null,null,null,{"$f":"L140+1","v":69},69,null,null,null,null,null,null,null,null,{"$f":"V140+1","v":69},69,null,null,null,null,null,null,null,null,{"$f":"AF140+1","v":69},69]
[]
[null,{"$f":"B142+1","v":70},70,null,null,null,null,null,null,null,null,{"$f":"L142+1","v":70},70,null,null,null,null,null,null,null,null,{"$f":"V142+1","v":70},70,null,null,null,null,null,null,null,null,{"$f":"AF142+1","v":70},70]
[]
[null,{"$f":"B144+1","v":71},71,null,null,null,null,null,null,null,null,{"$f":"L144+1","v":71},71,null,null,null,null,null,null,null,null,{"$f":"V144+1","v":71},71,null,null,null,null,null,null,null,null,{"$f":"AF144+1","v":71},71]
[]
[null,{"$f":"B146+1","v":72},72,null,null,null,null,null,null,null,null,{"$f":"L146+1","v":72},72,null,null,null,null,null,null,null,null,{"$f":"V146+1","v":72},72,null,null,null,null,null,null,null,null,{"$f":"AF146+1","v":72},72]
[]
[null,{"$f":"B148+1","v":73},73,null,null,null,null,null,null,null,null,{"$f":"L148+1","v":73},73,null,null,null,null,null,null,null,null,{"$f":"V148+1","v":73},73,null,null,null,null,null,null,null,null,{"$f":"AF148+1","v":73},73]
[]
[null,{"$f":"B150+1","v":74},74,null,null,null,null,null,null,null,null,{"$f":"L150+1","v":74},74,null,null,null,null,null,null,null,null,{"$f":"V150+1","v":74},74,null,null,null,null,null,null,null,null,{"$f":"AF150+1","v":74},74]
[]
[null,{"$f":"B152+1","v":75},75,null,null,null,null,null,null,null,null,{"$f":"L152+1","v":75},75,null,null,null,null,null,null,null,null,{"$f":"V152+1","v":75},75,null,null,null,null,null,null,null,null,{"$f":"AF152+1","v":75},75]
[]
[null,{"$f":"B154+1","v":76},76,null,null,null,null,null,null,null,null,{"$f":"L154+1","v":76},76,null,null,null,null,null,null,null,null,{"$f":"V154+1","v":76},76,null,null,null,null,null,null,null,null,{"$f":"AF154+1","v":76},76]
[]
[null,{"$f":"B156+1","v":77},77,null,null,null,null,null,null,null,null,{"$f":"L156+1","v":77},77,null,null,null,null,null,null,null,null,{"$f":"V156+1","v":77},77,null,null,null,null,null,null,null,null,{"$f":"AF156+1","v":77},77]
[]
[null,{"$f":"B158+1","v":78},78,null,null,null,null,null,null,null,null,{"$f":"L158+1","v":78},78,null,null,null,null,null,null,null,null,{"$f":"V158+1","v":78},78,null,null,null,null,null,null,null,null,{"$f":"AF158+1","v":78},78]
[]
[null,{"$f":"B160+1","v":79},79,null,null,null,null,null,null,null,null,{"$f":"L160+1","v":79},79,null,null,null,null,null,null,null,null,{"$f":"V160+1","v":79},79,null,null,null,null,null,null,null,null,{"$f":"AF160+1","v":79},79]
[]
[null,80,80,null,null,null,null,null,null,null,null,80,80,null,null,null,null,null,null,null,null,80,80,null,null,null,null,null,null,null,null,80,80]